BEGIN:VCALENDAR
VERSION:2.0
PRODID:-//FAMÍLIES PEL VALENCIÀ - ECPv6.15.20//NONSGML v1.0//EN
CALSCALE:GREGORIAN
METHOD:PUBLISH
X-WR-CALNAME:FAMÍLIES PEL VALENCIÀ
X-ORIGINAL-URL:https://familiespelvalencia.org
X-WR-CALDESC:Esdeveniments per FAMÍLIES PEL VALENCIÀ
REFRESH-INTERVAL;VALUE=DURATION:PT1H
X-Robots-Tag:noindex
X-PUBLISHED-TTL:PT1H
BEGIN:VTIMEZONE
TZID:Europe/Paris
BEGIN:DAYLIGHT
TZOFFSETFROM:+0100
TZOFFSETTO:+0200
TZNAME:CEST
DTSTART:20250330T010000
END:DAYLIGHT
BEGIN:STANDARD
TZOFFSETFROM:+0200
TZOFFSETTO:+0100
TZNAME:CET
DTSTART:20251026T010000
END:STANDARD
BEGIN:DAYLIGHT
TZOFFSETFROM:+0100
TZOFFSETTO:+0200
TZNAME:CEST
DTSTART:20260329T010000
END:DAYLIGHT
BEGIN:STANDARD
TZOFFSETFROM:+0200
TZOFFSETTO:+0100
TZNAME:CET
DTSTART:20261025T010000
END:STANDARD
BEGIN:DAYLIGHT
TZOFFSETFROM:+0100
TZOFFSETTO:+0200
TZNAME:CEST
DTSTART:20270328T010000
END:DAYLIGHT
BEGIN:STANDARD
TZOFFSETFROM:+0200
TZOFFSETTO:+0100
TZNAME:CET
DTSTART:20271031T010000
END:STANDARD
END:VTIMEZONE
BEGIN:VEVENT
DTSTART;TZID=Europe/Paris:20260502T120000
DTEND;TZID=Europe/Paris:20260502T133000
DTSTAMP:20260424T022808
CREATED:20260423T132504Z
LAST-MODIFIED:20260423T132504Z
UID:10001250-1777723200-1777728600@familiespelvalencia.org
SUMMARY:Espectacle. Què li ha passat al monstre Petorro?
DESCRIPTION:Xàbia acull la preestrena exclusiva del nou espectacle familiar Què li ha passat al monstre Petorro?\, una proposta que amplia l’univers d’aquest personatge tan estimat pel públic infantil. L’espectacle combina teatre\, música i humor a partir del nou llibre i la nova cançó\, en un format dinàmic i participatiu pensat per a gaudir en família. Amb la creativitat de Paco Cholbi i les il·lustracions de Carles Arbat\, el Monstre Petorro torna amb una història plena de fantasia\, complicitat i situacions divertides que connecten amb xiquetes i xiquets. Una cita ideal per a viure cultura en valencià i compartir una experiència única\, amb entrada gratuïta.
URL:https://familiespelvalencia.org/activitat/espectacle-que-li-ha-passat-al-monstre-petorro/
LOCATION:Xàbia.- Plaça de la Cosntitució\, Plaça de la Constitució\, Xàbia\, Marina Alta\, 03730
CATEGORIES:Comarques centrals
ATTACH;FMTTYPE=image/jpeg:https://familiespelvalencia.org/wp-content/uploads/2026/04/Monstre-Petorro-Xabia.jpeg
GEO:38.7897733;0.1609423
X-APPLE-STRUCTURED-LOCATION;VALUE=URI;X-ADDRESS=Xàbia.- Plaça de la Cosntitució Plaça de la Constitució Xàbia Marina Alta 03730;X-APPLE-RADIUS=500;X-TITLE=Plaça de la Constitució:geo:0.1609423,38.7897733
END:VEVENT
END:VCALENDAR