BEGIN:VCALENDAR
VERSION:2.0
PRODID:-//FAMÍLIES PEL VALENCIÀ - ECPv6.15.20//NONSGML v1.0//EN
CALSCALE:GREGORIAN
METHOD:PUBLISH
X-ORIGINAL-URL:https://familiespelvalencia.org
X-WR-CALDESC:Esdeveniments per FAMÍLIES PEL VALENCIÀ
REFRESH-INTERVAL;VALUE=DURATION:PT1H
X-Robots-Tag:noindex
X-PUBLISHED-TTL:PT1H
BEGIN:VTIMEZONE
TZID:Europe/Paris
BEGIN:DAYLIGHT
TZOFFSETFROM:+0100
TZOFFSETTO:+0200
TZNAME:CEST
DTSTART:20250330T010000
END:DAYLIGHT
BEGIN:STANDARD
TZOFFSETFROM:+0200
TZOFFSETTO:+0100
TZNAME:CET
DTSTART:20251026T010000
END:STANDARD
BEGIN:DAYLIGHT
TZOFFSETFROM:+0100
TZOFFSETTO:+0200
TZNAME:CEST
DTSTART:20260329T010000
END:DAYLIGHT
BEGIN:STANDARD
TZOFFSETFROM:+0200
TZOFFSETTO:+0100
TZNAME:CET
DTSTART:20261025T010000
END:STANDARD
BEGIN:DAYLIGHT
TZOFFSETFROM:+0100
TZOFFSETTO:+0200
TZNAME:CEST
DTSTART:20270328T010000
END:DAYLIGHT
BEGIN:STANDARD
TZOFFSETFROM:+0200
TZOFFSETTO:+0100
TZNAME:CET
DTSTART:20271031T010000
END:STANDARD
END:VTIMEZONE
BEGIN:VEVENT
DTSTART;TZID=Europe/Paris:20260418T103000
DTEND;TZID=Europe/Paris:20260418T150000
DTSTAMP:20260420T230135
CREATED:20260223T211928Z
LAST-MODIFIED:20260223T212339Z
UID:10001004-1776508200-1776524400@familiespelvalencia.org
SUMMARY:Festa per la Llengua – Trobades d’Escola Valenciana
DESCRIPTION:Vila-real acollirà el dissabte 18 d’abril de 2026 la Festa per la Llengua – Trobades d’Escola Valenciana de les comarques de Castelló\, dins d’una edició molt especial que commemora 40 anys de Trobades sota el lema «Tenim història\, som futur». La jornada convertirà la plaça Major en un gran espai de trobada amb cercaviles\, danses\, tallers infantils\, activitats familiars i música\, amb una participació destacada de l’alumnat i del teixit associatiu local. Un dels moments més simbòlics serà la interpretació col·lectiva de la cançó de les Trobades\, expressió de la transmissió intergeneracional de la llengua. \nMés informació: Escola valenciana
URL:https://familiespelvalencia.org/activitat/festa-per-la-llengua-trobades-descola-valenciana/
LOCATION:Vila-Real (Plaça Major)\, Plaça Major\, Vila-Real\, Plana Baixa\, 12540
CATEGORIES:Comarques del nord
ATTACH;FMTTYPE=image/jpeg:https://familiespelvalencia.org/wp-content/uploads/2026/02/Trobades-vila-real.jpg
END:VEVENT
END:VCALENDAR