BEGIN:VCALENDAR
VERSION:2.0
PRODID:-//FAMÍLIES PEL VALENCIÀ - ECPv6.15.20//NONSGML v1.0//EN
CALSCALE:GREGORIAN
METHOD:PUBLISH
X-WR-CALNAME:FAMÍLIES PEL VALENCIÀ
X-ORIGINAL-URL:https://familiespelvalencia.org
X-WR-CALDESC:Esdeveniments per FAMÍLIES PEL VALENCIÀ
REFRESH-INTERVAL;VALUE=DURATION:PT1H
X-Robots-Tag:noindex
X-PUBLISHED-TTL:PT1H
BEGIN:VTIMEZONE
TZID:Europe/Paris
BEGIN:DAYLIGHT
TZOFFSETFROM:+0100
TZOFFSETTO:+0200
TZNAME:CEST
DTSTART:20250330T010000
END:DAYLIGHT
BEGIN:STANDARD
TZOFFSETFROM:+0200
TZOFFSETTO:+0100
TZNAME:CET
DTSTART:20251026T010000
END:STANDARD
BEGIN:DAYLIGHT
TZOFFSETFROM:+0100
TZOFFSETTO:+0200
TZNAME:CEST
DTSTART:20260329T010000
END:DAYLIGHT
BEGIN:STANDARD
TZOFFSETFROM:+0200
TZOFFSETTO:+0100
TZNAME:CET
DTSTART:20261025T010000
END:STANDARD
BEGIN:DAYLIGHT
TZOFFSETFROM:+0100
TZOFFSETTO:+0200
TZNAME:CEST
DTSTART:20270328T010000
END:DAYLIGHT
BEGIN:STANDARD
TZOFFSETFROM:+0200
TZOFFSETTO:+0100
TZNAME:CET
DTSTART:20271031T010000
END:STANDARD
END:VTIMEZONE
BEGIN:VEVENT
DTSTART;TZID=Europe/Paris:20260418T170000
DTEND;TZID=Europe/Paris:20260418T235900
DTSTAMP:20260424T043632
CREATED:20260117T081130Z
LAST-MODIFIED:20260223T212127Z
UID:10000740-1776531600-1776556740@familiespelvalencia.org
SUMMARY:Avant Fest
DESCRIPTION:L’Avant Fest torna al Parc de la Maiorasga de Vila-real amb una jornada plena de música i activitats per a totes les edats. Des del matí fins a la nit\, el festival omplirà l’espai d’energia amb tallers i propostes infantils d’Escola Valenciana\, i un cartell musical de luxe amb La Fúmiga\, Malifeta\, El Diluvi\, Abril\, Plan B\, Maloa Brothers i Apologia. Una festa per la llengua i per la cultura que combina trobades\, activitats familiars\, correfocs i concerts imprescindibles de l’escena valenciana. Una cita perfecta per gaudir en família i celebrar la música i el valencià en un ambient festiu i irrepetible.
URL:https://familiespelvalencia.org/activitat/avant-fest/
LOCATION:Vila-real.- Parc Maiorasga\, Av. Francesc Tàrrega\, 83\, 12540 Vila-real\, Castelló\, Vila-real\, Plana Baixa\, 12540
CATEGORIES:Comarques del nord
ATTACH;FMTTYPE=image/jpeg:https://familiespelvalencia.org/wp-content/uploads/2026/01/Avant-Fest.jpg
GEO:39.9437819;-0.0899659
X-APPLE-STRUCTURED-LOCATION;VALUE=URI;X-ADDRESS=Vila-real.- Parc Maiorasga Av. Francesc Tàrrega 83 12540 Vila-real Castelló Vila-real Plana Baixa 12540;X-APPLE-RADIUS=500;X-TITLE=Av. Francesc Tàrrega\, 83\, 12540 Vila-real\, Castelló:geo:-0.0899659,39.9437819
END:VEVENT
END:VCALENDAR