BEGIN:VCALENDAR
VERSION:2.0
PRODID:-//FAMÍLIES PEL VALENCIÀ - ECPv6.15.20//NONSGML v1.0//EN
CALSCALE:GREGORIAN
METHOD:PUBLISH
X-WR-CALNAME:FAMÍLIES PEL VALENCIÀ
X-ORIGINAL-URL:https://familiespelvalencia.org
X-WR-CALDESC:Esdeveniments per FAMÍLIES PEL VALENCIÀ
REFRESH-INTERVAL;VALUE=DURATION:PT1H
X-Robots-Tag:noindex
X-PUBLISHED-TTL:PT1H
BEGIN:VTIMEZONE
TZID:Europe/Paris
BEGIN:DAYLIGHT
TZOFFSETFROM:+0100
TZOFFSETTO:+0200
TZNAME:CEST
DTSTART:20250330T010000
END:DAYLIGHT
BEGIN:STANDARD
TZOFFSETFROM:+0200
TZOFFSETTO:+0100
TZNAME:CET
DTSTART:20251026T010000
END:STANDARD
BEGIN:DAYLIGHT
TZOFFSETFROM:+0100
TZOFFSETTO:+0200
TZNAME:CEST
DTSTART:20260329T010000
END:DAYLIGHT
BEGIN:STANDARD
TZOFFSETFROM:+0200
TZOFFSETTO:+0100
TZNAME:CET
DTSTART:20261025T010000
END:STANDARD
BEGIN:DAYLIGHT
TZOFFSETFROM:+0100
TZOFFSETTO:+0200
TZNAME:CEST
DTSTART:20270328T010000
END:DAYLIGHT
BEGIN:STANDARD
TZOFFSETFROM:+0200
TZOFFSETTO:+0100
TZNAME:CET
DTSTART:20271031T010000
END:STANDARD
END:VTIMEZONE
BEGIN:VEVENT
DTSTART;TZID=Europe/Paris:20260314T183000
DTEND;TZID=Europe/Paris:20260314T200000
DTSTAMP:20260420T194751
CREATED:20260217T102256Z
LAST-MODIFIED:20260313T094407Z
UID:10000970-1773513000-1773518400@familiespelvalencia.org
SUMMARY:Cicle de Cinema Infantil en Valencià
DESCRIPTION:El Vicerectorat de Cultura\, Igualtat i Diversitat acull cada any el Cicle de Cinema Infantil en Valencià dels Xiquets d’Elx i l’Associació Cívica per la Llengua El Tempir d’Elx\, a l’Aula Magna de l’edifici Altabix del Campus d’Elx de la UMH. \nCom cada any\, el Vicerectorat de Cultura de la UHM ofereix una proposta d’esplai amena i divertida per als més menuts de casa a l’hivern. A través d’una cuidada selecció de pel·lícules infantils\, la xicalla podrà gaudir d’històries divertides\, educatives i plenes de valors\, tot en la nostra llengua. Una oportunitat perfecta per compartir temps en família\, fomentar l’ús del valencià i despertar l’amor pel cinema des de ben menuts. \nEnguany arriba el 14é Cicle de cinema infantil en valencià amb dues sessions dedicades al fenomen Disney de Frozen\, amb històries que són part del cinema per a xiquets. \nLa primera projecció és Elemental\, que es podrà veure el 21 de febrer. El cicle és organitzat per El Tempir\, amb el suport de la Universitat Miguel Hernández (UMH) i de l’Aula de cine i audiovisual de la Universitat d’Alacant\, durant el final del mes de febrer i bona part del mes de març. \nLes sessions començaran a les 18.30 h a l’Aula Magna de l’edifici Altabix de la UMH. L’assistència a les projeccions és debades\, però limitada a la capacitat de la sala. \nCalendari de sessions \n21 de febrer     Elemental\n28 de febrer     Canta 2\n07 de març       Frozen. El regne de gel\n14 de març.      Frozen II
URL:https://familiespelvalencia.org/activitat/cicle-de-cinema-infantil-en-valencia/2026-03-14/
LOCATION:Universitat Miguel Hernández d’Elx\, edifici Altabix\, Aula Magna\, Avinguda de la Universitat d'Elx\, s/n\, Elx\, Baix Vinalopó\, 03202
CATEGORIES:Comarques del sud
ATTACH;FMTTYPE=image/jpeg:https://familiespelvalencia.org/wp-content/uploads/2026/02/Cicle-de-cinema-infantil-en-valencia-1.jpeg
END:VEVENT
BEGIN:VEVENT
DTSTART;TZID=Europe/Paris:20260307T183000
DTEND;TZID=Europe/Paris:20260307T200000
DTSTAMP:20260420T194751
CREATED:20260217T102256Z
LAST-MODIFIED:20260313T094407Z
UID:10000968-1772908200-1772913600@familiespelvalencia.org
SUMMARY:Cicle de Cinema Infantil en Valencià
DESCRIPTION:El Vicerectorat de Cultura\, Igualtat i Diversitat acull cada any el Cicle de Cinema Infantil en Valencià dels Xiquets d’Elx i l’Associació Cívica per la Llengua El Tempir d’Elx\, a l’Aula Magna de l’edifici Altabix del Campus d’Elx de la UMH. \nCom cada any\, el Vicerectorat de Cultura de la UHM ofereix una proposta d’esplai amena i divertida per als més menuts de casa a l’hivern. A través d’una cuidada selecció de pel·lícules infantils\, la xicalla podrà gaudir d’històries divertides\, educatives i plenes de valors\, tot en la nostra llengua. Una oportunitat perfecta per compartir temps en família\, fomentar l’ús del valencià i despertar l’amor pel cinema des de ben menuts. \nEnguany arriba el 14é Cicle de cinema infantil en valencià amb dues sessions dedicades al fenomen Disney de Frozen\, amb històries que són part del cinema per a xiquets. \nLa primera projecció és Elemental\, que es podrà veure el 21 de febrer. El cicle és organitzat per El Tempir\, amb el suport de la Universitat Miguel Hernández (UMH) i de l’Aula de cine i audiovisual de la Universitat d’Alacant\, durant el final del mes de febrer i bona part del mes de març. \nLes sessions començaran a les 18.30 h a l’Aula Magna de l’edifici Altabix de la UMH. L’assistència a les projeccions és debades\, però limitada a la capacitat de la sala. \nCalendari de sessions \n21 de febrer     Elemental\n28 de febrer     Canta 2\n07 de març       Frozen. El regne de gel\n14 de març.      Frozen II
URL:https://familiespelvalencia.org/activitat/cicle-de-cinema-infantil-en-valencia/2026-03-07/
LOCATION:Universitat Miguel Hernández d’Elx\, edifici Altabix\, Aula Magna\, Avinguda de la Universitat d'Elx\, s/n\, Elx\, Baix Vinalopó\, 03202
CATEGORIES:Comarques del sud
ATTACH;FMTTYPE=image/jpeg:https://familiespelvalencia.org/wp-content/uploads/2026/02/Cicle-de-cinema-infantil-en-valencia-1.jpeg
END:VEVENT
BEGIN:VEVENT
DTSTART;TZID=Europe/Paris:20260228T183000
DTEND;TZID=Europe/Paris:20260228T200000
DTSTAMP:20260420T194751
CREATED:20260217T102256Z
LAST-MODIFIED:20260313T094407Z
UID:10000967-1772303400-1772308800@familiespelvalencia.org
SUMMARY:Cicle de Cinema Infantil en Valencià
DESCRIPTION:El Vicerectorat de Cultura\, Igualtat i Diversitat acull cada any el Cicle de Cinema Infantil en Valencià dels Xiquets d’Elx i l’Associació Cívica per la Llengua El Tempir d’Elx\, a l’Aula Magna de l’edifici Altabix del Campus d’Elx de la UMH. \nCom cada any\, el Vicerectorat de Cultura de la UHM ofereix una proposta d’esplai amena i divertida per als més menuts de casa a l’hivern. A través d’una cuidada selecció de pel·lícules infantils\, la xicalla podrà gaudir d’històries divertides\, educatives i plenes de valors\, tot en la nostra llengua. Una oportunitat perfecta per compartir temps en família\, fomentar l’ús del valencià i despertar l’amor pel cinema des de ben menuts. \nEnguany arriba el 14é Cicle de cinema infantil en valencià amb dues sessions dedicades al fenomen Disney de Frozen\, amb històries que són part del cinema per a xiquets. \nLa primera projecció és Elemental\, que es podrà veure el 21 de febrer. El cicle és organitzat per El Tempir\, amb el suport de la Universitat Miguel Hernández (UMH) i de l’Aula de cine i audiovisual de la Universitat d’Alacant\, durant el final del mes de febrer i bona part del mes de març. \nLes sessions començaran a les 18.30 h a l’Aula Magna de l’edifici Altabix de la UMH. L’assistència a les projeccions és debades\, però limitada a la capacitat de la sala. \nCalendari de sessions \n21 de febrer     Elemental\n28 de febrer     Canta 2\n07 de març       Frozen. El regne de gel\n14 de març.      Frozen II
URL:https://familiespelvalencia.org/activitat/cicle-de-cinema-infantil-en-valencia/2026-02-28/
LOCATION:Universitat Miguel Hernández d’Elx\, edifici Altabix\, Aula Magna\, Avinguda de la Universitat d'Elx\, s/n\, Elx\, Baix Vinalopó\, 03202
CATEGORIES:Comarques del sud
ATTACH;FMTTYPE=image/jpeg:https://familiespelvalencia.org/wp-content/uploads/2026/02/Cicle-de-cinema-infantil-en-valencia-1.jpeg
END:VEVENT
BEGIN:VEVENT
DTSTART;TZID=Europe/Paris:20260221T183000
DTEND;TZID=Europe/Paris:20260221T200000
DTSTAMP:20260420T194751
CREATED:20260217T102256Z
LAST-MODIFIED:20260313T094407Z
UID:10000966-1771698600-1771704000@familiespelvalencia.org
SUMMARY:Cicle de Cinema Infantil en Valencià
DESCRIPTION:El Vicerectorat de Cultura\, Igualtat i Diversitat acull cada any el Cicle de Cinema Infantil en Valencià dels Xiquets d’Elx i l’Associació Cívica per la Llengua El Tempir d’Elx\, a l’Aula Magna de l’edifici Altabix del Campus d’Elx de la UMH. \nCom cada any\, el Vicerectorat de Cultura de la UHM ofereix una proposta d’esplai amena i divertida per als més menuts de casa a l’hivern. A través d’una cuidada selecció de pel·lícules infantils\, la xicalla podrà gaudir d’històries divertides\, educatives i plenes de valors\, tot en la nostra llengua. Una oportunitat perfecta per compartir temps en família\, fomentar l’ús del valencià i despertar l’amor pel cinema des de ben menuts. \nEnguany arriba el 14é Cicle de cinema infantil en valencià amb dues sessions dedicades al fenomen Disney de Frozen\, amb històries que són part del cinema per a xiquets. \nLa primera projecció és Elemental\, que es podrà veure el 21 de febrer. El cicle és organitzat per El Tempir\, amb el suport de la Universitat Miguel Hernández (UMH) i de l’Aula de cine i audiovisual de la Universitat d’Alacant\, durant el final del mes de febrer i bona part del mes de març. \nLes sessions començaran a les 18.30 h a l’Aula Magna de l’edifici Altabix de la UMH. L’assistència a les projeccions és debades\, però limitada a la capacitat de la sala. \nCalendari de sessions \n21 de febrer     Elemental\n28 de febrer     Canta 2\n07 de març       Frozen. El regne de gel\n14 de març.      Frozen II
URL:https://familiespelvalencia.org/activitat/cicle-de-cinema-infantil-en-valencia/2026-02-21/
LOCATION:Universitat Miguel Hernández d’Elx\, edifici Altabix\, Aula Magna\, Avinguda de la Universitat d'Elx\, s/n\, Elx\, Baix Vinalopó\, 03202
CATEGORIES:Comarques del sud
ATTACH;FMTTYPE=image/jpeg:https://familiespelvalencia.org/wp-content/uploads/2026/02/Cicle-de-cinema-infantil-en-valencia-1.jpeg
END:VEVENT
END:VCALENDAR