BEGIN:VCALENDAR
VERSION:2.0
PRODID:-//FAMÍLIES PEL VALENCIÀ - ECPv6.15.20//NONSGML v1.0//EN
CALSCALE:GREGORIAN
METHOD:PUBLISH
X-ORIGINAL-URL:https://familiespelvalencia.org
X-WR-CALDESC:Esdeveniments per FAMÍLIES PEL VALENCIÀ
REFRESH-INTERVAL;VALUE=DURATION:PT1H
X-Robots-Tag:noindex
X-PUBLISHED-TTL:PT1H
BEGIN:VTIMEZONE
TZID:Europe/Paris
BEGIN:DAYLIGHT
TZOFFSETFROM:+0100
TZOFFSETTO:+0200
TZNAME:CEST
DTSTART:20250330T010000
END:DAYLIGHT
BEGIN:STANDARD
TZOFFSETFROM:+0200
TZOFFSETTO:+0100
TZNAME:CET
DTSTART:20251026T010000
END:STANDARD
BEGIN:DAYLIGHT
TZOFFSETFROM:+0100
TZOFFSETTO:+0200
TZNAME:CEST
DTSTART:20260329T010000
END:DAYLIGHT
BEGIN:STANDARD
TZOFFSETFROM:+0200
TZOFFSETTO:+0100
TZNAME:CET
DTSTART:20261025T010000
END:STANDARD
BEGIN:DAYLIGHT
TZOFFSETFROM:+0100
TZOFFSETTO:+0200
TZNAME:CEST
DTSTART:20270328T010000
END:DAYLIGHT
BEGIN:STANDARD
TZOFFSETFROM:+0200
TZOFFSETTO:+0100
TZNAME:CET
DTSTART:20271031T010000
END:STANDARD
END:VTIMEZONE
BEGIN:VEVENT
DTSTART;TZID=Europe/Paris:20260426T113000
DTEND;TZID=Europe/Paris:20260426T130000
DTSTAMP:20260420T193808
CREATED:20260210T213506Z
LAST-MODIFIED:20260210T213506Z
UID:10000948-1777203000-1777208400@familiespelvalencia.org
SUMMARY:Cinema. Salvatges
DESCRIPTION:A Borneo\, al límit de la gran selva tropical\, Keria acull un bebé orangutan\, trobat a la plantació de palmeres d’oli en la qual treballa son pare. Amb l’ajuda del seu cosí Selaï i l’orangutan\, Keria lluitarà contra la destrucció del bosc\, aventura que li permetrà connectar amb els seus orígens. \nDurada: 87 min \nSuïsa | 2024 // Direcció: Claude Barras
URL:https://familiespelvalencia.org/activitat/cinema-salvatges/
LOCATION:Teatre Serrano\, Gandia\, Pg. de les Germanies\, 29\, Gandia\, La Safor\, 46702
CATEGORIES:Comarques centrals
ATTACH;FMTTYPE=image/jpeg:https://familiespelvalencia.org/wp-content/uploads/2026/02/Salvatges.jpg
END:VEVENT
BEGIN:VEVENT
DTSTART;TZID=Europe/Paris:20260524T113000
DTEND;TZID=Europe/Paris:20260524T130000
DTSTAMP:20260420T193808
CREATED:20260210T214006Z
LAST-MODIFIED:20260210T214006Z
UID:10000949-1779622200-1779627600@familiespelvalencia.org
SUMMARY:Cinema. L'incident alienígena del petit Alan
DESCRIPTION:Alan té 11 anys i un estiu acaba exercint d’antena humana per al seu veí obsessionat amb els ovnis. Però el que es troben és tan sols a Britney\, una xiqueta extraterrestre que està fent un treball per a l’escola sobre la primitiva raça humana. Alan l’ha d’ajudar a tornar a casa mentre un col·leccionista va darrere d’ella perquè vol una resposta a la gran pregunta de la història: hi ha vida a l’espai? \nDurada: 82 min \nDinamarca | 2022 // Direcció: Amalie Næsby Fick
URL:https://familiespelvalencia.org/activitat/cinema-lincident-alienigena-del-petit-alan/
LOCATION:Teatre Serrano\, Gandia\, Pg. de les Germanies\, 29\, Gandia\, La Safor\, 46702
CATEGORIES:Comarques centrals
ATTACH;FMTTYPE=image/jpeg:https://familiespelvalencia.org/wp-content/uploads/2026/02/Lincident-alienigena.jpg
END:VEVENT
BEGIN:VEVENT
DTSTART;TZID=Europe/Paris:20260621T113000
DTEND;TZID=Europe/Paris:20260621T130000
DTSTAMP:20260420T193808
CREATED:20260210T214614Z
LAST-MODIFIED:20260210T214614Z
UID:10000950-1782041400-1782046800@familiespelvalencia.org
SUMMARY:Cinema. Mavka\, la guardiana del bosc.
DESCRIPTION:Més enllà de les altes muntanyes Negres\, s’estén un regne poblat per criatures fantàstiques. Mavka\, la guardiana d’aquest bosc encantat\, té com a missió protegir la natura de qualsevol intrusió\, fins i tot per part dels humans. Un bon dia\, coneix Lucas\, un jove amant de la música que s’ha perdut. Junts emprenen una història d’amor sense tindre en compte les conseqüències que recauran sobre el regne. Podrà Mavka salvar el bosc? \nDurada: 90 min \nUcraïna | 2023 // Direcció: Aleksandra Ruban\, Oleh Malamuzh
URL:https://familiespelvalencia.org/activitat/cinema-mavka-la-guardiana-del-bosc/
LOCATION:Teatre Serrano\, Gandia\, Pg. de les Germanies\, 29\, Gandia\, La Safor\, 46702
CATEGORIES:Comarques centrals
ATTACH;FMTTYPE=image/jpeg:https://familiespelvalencia.org/wp-content/uploads/2026/02/mavkaguardianadelbosc.jpg
END:VEVENT
END:VCALENDAR