BEGIN:VCALENDAR
VERSION:2.0
PRODID:-//FAMÍLIES PEL VALENCIÀ - ECPv6.15.20//NONSGML v1.0//EN
CALSCALE:GREGORIAN
METHOD:PUBLISH
X-ORIGINAL-URL:https://familiespelvalencia.org
X-WR-CALDESC:Esdeveniments per FAMÍLIES PEL VALENCIÀ
REFRESH-INTERVAL;VALUE=DURATION:PT1H
X-Robots-Tag:noindex
X-PUBLISHED-TTL:PT1H
BEGIN:VTIMEZONE
TZID:Europe/Paris
BEGIN:DAYLIGHT
TZOFFSETFROM:+0100
TZOFFSETTO:+0200
TZNAME:CEST
DTSTART:20250330T010000
END:DAYLIGHT
BEGIN:STANDARD
TZOFFSETFROM:+0200
TZOFFSETTO:+0100
TZNAME:CET
DTSTART:20251026T010000
END:STANDARD
BEGIN:DAYLIGHT
TZOFFSETFROM:+0100
TZOFFSETTO:+0200
TZNAME:CEST
DTSTART:20260329T010000
END:DAYLIGHT
BEGIN:STANDARD
TZOFFSETFROM:+0200
TZOFFSETTO:+0100
TZNAME:CET
DTSTART:20261025T010000
END:STANDARD
BEGIN:DAYLIGHT
TZOFFSETFROM:+0100
TZOFFSETTO:+0200
TZNAME:CEST
DTSTART:20270328T010000
END:DAYLIGHT
BEGIN:STANDARD
TZOFFSETFROM:+0200
TZOFFSETTO:+0100
TZNAME:CET
DTSTART:20271031T010000
END:STANDARD
END:VTIMEZONE
BEGIN:VEVENT
DTSTART;TZID=Europe/Paris:20260523T180000
DTEND;TZID=Europe/Paris:20260523T190000
DTSTAMP:20260420T221116
CREATED:20260202T220200Z
LAST-MODIFIED:20260202T220331Z
UID:10000905-1779559200-1779562800@familiespelvalencia.org
SUMMARY:Màgia.- Flipa Fest
DESCRIPTION:Imagineu-ho. Tanqueu els ulls i\, en obrir-los\, teniu davant vostre les millors magues i els millors mags del món. Just davant. I han vingut per a deixar-vos amb la boca oberta.\nAixò és FLIPA Fest: un somni\, una festa\, perquè són dies de màgia a Escalante\, un lloc on FLIPAr. (Festival Lúdico Internacional Para AlucinaR.) \nEdat: més de 7 anys // Durada: 60 minuts \nCompanyia: Nacho Diago Produccions en la Lluna; Direcció i autoria: Nacho Diago \nMés informació i venda d’entrades: Escalante
URL:https://familiespelvalencia.org/activitat/magia-flipa-fest/2026-05-23/
LOCATION:Teatre Principal.- València\, Carrer de les Barques\, 15\, València\, L'Horta\, 46002
CATEGORIES:València - districte capital
ATTACH;FMTTYPE=image/jpeg:https://familiespelvalencia.org/wp-content/uploads/2026/02/Flipa-fest.jpg
END:VEVENT
BEGIN:VEVENT
DTSTART;TZID=Europe/Paris:20260524T180000
DTEND;TZID=Europe/Paris:20260524T190000
DTSTAMP:20260420T221116
CREATED:20260202T220200Z
LAST-MODIFIED:20260202T220331Z
UID:10000906-1779645600-1779649200@familiespelvalencia.org
SUMMARY:Màgia.- Flipa Fest
DESCRIPTION:Imagineu-ho. Tanqueu els ulls i\, en obrir-los\, teniu davant vostre les millors magues i els millors mags del món. Just davant. I han vingut per a deixar-vos amb la boca oberta.\nAixò és FLIPA Fest: un somni\, una festa\, perquè són dies de màgia a Escalante\, un lloc on FLIPAr. (Festival Lúdico Internacional Para AlucinaR.) \nEdat: més de 7 anys // Durada: 60 minuts \nCompanyia: Nacho Diago Produccions en la Lluna; Direcció i autoria: Nacho Diago \nMés informació i venda d’entrades: Escalante
URL:https://familiespelvalencia.org/activitat/magia-flipa-fest/2026-05-24/
LOCATION:Teatre Principal.- València\, Carrer de les Barques\, 15\, València\, L'Horta\, 46002
CATEGORIES:València - districte capital
ATTACH;FMTTYPE=image/jpeg:https://familiespelvalencia.org/wp-content/uploads/2026/02/Flipa-fest.jpg
END:VEVENT
END:VCALENDAR