BEGIN:VCALENDAR
VERSION:2.0
PRODID:-//FAMÍLIES PEL VALENCIÀ - ECPv6.15.20//NONSGML v1.0//EN
CALSCALE:GREGORIAN
METHOD:PUBLISH
X-ORIGINAL-URL:https://familiespelvalencia.org
X-WR-CALDESC:Esdeveniments per FAMÍLIES PEL VALENCIÀ
REFRESH-INTERVAL;VALUE=DURATION:PT1H
X-Robots-Tag:noindex
X-PUBLISHED-TTL:PT1H
BEGIN:VTIMEZONE
TZID:Europe/Paris
BEGIN:DAYLIGHT
TZOFFSETFROM:+0100
TZOFFSETTO:+0200
TZNAME:CEST
DTSTART:20240331T010000
END:DAYLIGHT
BEGIN:STANDARD
TZOFFSETFROM:+0200
TZOFFSETTO:+0100
TZNAME:CET
DTSTART:20241027T010000
END:STANDARD
BEGIN:DAYLIGHT
TZOFFSETFROM:+0100
TZOFFSETTO:+0200
TZNAME:CEST
DTSTART:20250330T010000
END:DAYLIGHT
BEGIN:STANDARD
TZOFFSETFROM:+0200
TZOFFSETTO:+0100
TZNAME:CET
DTSTART:20251026T010000
END:STANDARD
BEGIN:DAYLIGHT
TZOFFSETFROM:+0100
TZOFFSETTO:+0200
TZNAME:CEST
DTSTART:20260329T010000
END:DAYLIGHT
BEGIN:STANDARD
TZOFFSETFROM:+0200
TZOFFSETTO:+0100
TZNAME:CET
DTSTART:20261025T010000
END:STANDARD
BEGIN:DAYLIGHT
TZOFFSETFROM:+0100
TZOFFSETTO:+0200
TZNAME:CEST
DTSTART:20270328T010000
END:DAYLIGHT
BEGIN:STANDARD
TZOFFSETFROM:+0200
TZOFFSETTO:+0100
TZNAME:CET
DTSTART:20271031T010000
END:STANDARD
END:VTIMEZONE
BEGIN:VEVENT
DTSTART;TZID=Europe/Paris:20260321T180000
DTEND;TZID=Europe/Paris:20260321T190000
DTSTAMP:20260424T050549
CREATED:20260209T211625Z
LAST-MODIFIED:20260209T211735Z
UID:10000939-1774116000-1774119600@familiespelvalencia.org
SUMMARY:Teatre. Boira
DESCRIPTION:Últimament LLum està una mica ofuscada\, però res que no arregle una bona festa amb família\, amics i amigues. I per a fer-ho més especial encara\, li hem composat una cançó per al seu aniversari. \nEdat recomanada: A partir de 4 anys // Durada 50 minuts \nProducció: Escalante / Diputació de València // Direcció: Rebeca Valls // Intèrprets: Aina Gimeno / Rebeca Artal-Dato / Enric Romaguera / Marta Torres \nMés informació i venda d’entrades: Teatre Principal de Castelló
URL:https://familiespelvalencia.org/activitat/teatre-boira/
LOCATION:Teatre Principal.- Castelló de la Plana\, Pl. de la Pau\, s/n\, Castelló de la Plana\, Plana Alta\, 12001
CATEGORIES:Comarques del nord
ATTACH;FMTTYPE=image/jpeg:https://familiespelvalencia.org/wp-content/uploads/2026/02/Boira.jpg
GEO:39.9836257;-0.0379674
X-APPLE-STRUCTURED-LOCATION;VALUE=URI;X-ADDRESS=Teatre Principal.- Castelló de la Plana Pl. de la Pau s/n Castelló de la Plana Plana Alta 12001;X-APPLE-RADIUS=500;X-TITLE=Pl. de la Pau\, s/n:geo:-0.0379674,39.9836257
END:VEVENT
BEGIN:VEVENT
DTSTART;TZID=Europe/Paris:20251226T180000
DTEND;TZID=Europe/Paris:20251226T190000
DTSTAMP:20260424T050549
CREATED:20251201T115625Z
LAST-MODIFIED:20251201T115625Z
UID:10000520-1766772000-1766775600@familiespelvalencia.org
SUMMARY:L'illa del tresor
DESCRIPTION:Fa molt temps\, el jove Jim Hawkins va emprendre un viatge ple d’aventures\, pirates i illes desertes a la recerca d’un gran tresor. En el camí\, va haver de distingir entre el bé i el mal\, enfrontar-se a eixos desafiaments i reflexionar sobre si els malvats mereixen el perdó. \nPRODUCCIÓ: InHabitants \nDIRECCIÓ: José C. García \nINTÈRPRETS: Quim Roca / Erik Varea / Marta Mora / Miquel Rodríguez / Sofía Colominas \nEDAT RECOMANADA: A partir de 8 anys \nIDIOMA: Valencià \nDURACIÓ: 60 min \nPremi FETEN al millor espectacle multidisciplinari 2025
URL:https://familiespelvalencia.org/activitat/lilla-del-tresor/
LOCATION:Teatre Principal.- Castelló de la Plana\, Pl. de la Pau\, s/n\, Castelló de la Plana\, Plana Alta\, 12001
CATEGORIES:Comarques del nord
ATTACH;FMTTYPE=image/jpeg:https://familiespelvalencia.org/wp-content/uploads/2025/12/dest_251226-lilla-del-tresordaviddelval-093-alta.jpg
GEO:39.9836257;-0.0379674
X-APPLE-STRUCTURED-LOCATION;VALUE=URI;X-ADDRESS=Teatre Principal.- Castelló de la Plana Pl. de la Pau s/n Castelló de la Plana Plana Alta 12001;X-APPLE-RADIUS=500;X-TITLE=Pl. de la Pau\, s/n:geo:-0.0379674,39.9836257
END:VEVENT
BEGIN:VEVENT
DTSTART;TZID=Europe/Paris:20251220T190000
DTEND;TZID=Europe/Paris:20251220T210000
DTSTAMP:20260424T050549
CREATED:20251220T080002Z
LAST-MODIFIED:20251220T080043Z
UID:10000662-1766257200-1766264400@familiespelvalencia.org
SUMMARY:Passacarrers i Teatre: Betlem de la Pigà
DESCRIPTION:La tradició torna amb força aquest Nadal a Castelló! El Betlem de la Pigà 2025 es representarà el 20 de desembre a les 20:00 h al Teatre Principal\, però abans hi haurà una cita que encantarà als més menuts: un animat passacarrers a les 19:00 h que omplirà el centre de la ciutat de música\, color i ambient festiu. Aquesta proposta combina cultura\, tradició i diversió\, fent que les famílies puguen gaudir d’una vesprada completa: primer el passacarrers\, i després l’espectacle teatral que cada any emociona per la seua creativitat i arrelament popular. \n 
URL:https://familiespelvalencia.org/activitat/passacarrers-i-teatre-betylem-de-la-piga/
LOCATION:Teatre Principal.- Castelló de la Plana\, Pl. de la Pau\, s/n\, Castelló de la Plana\, Plana Alta\, 12001
CATEGORIES:Comarques del nord
ATTACH;FMTTYPE=image/webp:https://familiespelvalencia.org/wp-content/uploads/2025/12/betlem-de-la-piga-2025-scaled-1.webp
GEO:39.9836257;-0.0379674
X-APPLE-STRUCTURED-LOCATION;VALUE=URI;X-ADDRESS=Teatre Principal.- Castelló de la Plana Pl. de la Pau s/n Castelló de la Plana Plana Alta 12001;X-APPLE-RADIUS=500;X-TITLE=Pl. de la Pau\, s/n:geo:-0.0379674,39.9836257
END:VEVENT
END:VCALENDAR