BEGIN:VCALENDAR
VERSION:2.0
PRODID:-//FAMÍLIES PEL VALENCIÀ - ECPv6.15.20//NONSGML v1.0//EN
CALSCALE:GREGORIAN
METHOD:PUBLISH
X-ORIGINAL-URL:https://familiespelvalencia.org
X-WR-CALDESC:Esdeveniments per FAMÍLIES PEL VALENCIÀ
REFRESH-INTERVAL;VALUE=DURATION:PT1H
X-Robots-Tag:noindex
X-PUBLISHED-TTL:PT1H
BEGIN:VTIMEZONE
TZID:Europe/Paris
BEGIN:DAYLIGHT
TZOFFSETFROM:+0100
TZOFFSETTO:+0200
TZNAME:CEST
DTSTART:20240331T010000
END:DAYLIGHT
BEGIN:STANDARD
TZOFFSETFROM:+0200
TZOFFSETTO:+0100
TZNAME:CET
DTSTART:20241027T010000
END:STANDARD
BEGIN:DAYLIGHT
TZOFFSETFROM:+0100
TZOFFSETTO:+0200
TZNAME:CEST
DTSTART:20250330T010000
END:DAYLIGHT
BEGIN:STANDARD
TZOFFSETFROM:+0200
TZOFFSETTO:+0100
TZNAME:CET
DTSTART:20251026T010000
END:STANDARD
BEGIN:DAYLIGHT
TZOFFSETFROM:+0100
TZOFFSETTO:+0200
TZNAME:CEST
DTSTART:20260329T010000
END:DAYLIGHT
BEGIN:STANDARD
TZOFFSETFROM:+0200
TZOFFSETTO:+0100
TZNAME:CET
DTSTART:20261025T010000
END:STANDARD
BEGIN:DAYLIGHT
TZOFFSETFROM:+0100
TZOFFSETTO:+0200
TZNAME:CEST
DTSTART:20270328T010000
END:DAYLIGHT
BEGIN:STANDARD
TZOFFSETFROM:+0200
TZOFFSETTO:+0100
TZNAME:CET
DTSTART:20271031T010000
END:STANDARD
END:VTIMEZONE
BEGIN:VEVENT
DTSTART;TZID=Europe/Paris:20260419T120000
DTEND;TZID=Europe/Paris:20260419T130000
DTSTAMP:20260420T221116
CREATED:20260309T220543Z
LAST-MODIFIED:20260309T220602Z
UID:10001042-1776600000-1776603600@familiespelvalencia.org
SUMMARY:Teatre. La rateta marieta
DESCRIPTION:Marieta va nàixer en un full\, i d’un full en sorgirà per omplir l’escenari de màgia\, històries i aventures. La rata Marieta parteix del desig de donar vida escènica a un personatge que ha acompanyat diverses generacions d’infants valencians. El seu esperit continua plenament vigent: curiositat\, imaginació\, llibertat\, moviment\, color i alegria. Quantes aventures poden cabre en un full? Quants somnis pot contenir un sol traç? Quantes històries amaguen les pàgines d’un llibre? Portar aquest univers literari al llenguatge escènic —teatre i dansa— és donar cos i veu a un personatge inquiet\, creatiu i ple d’energia\, acostant-lo a noves generacions a través de l’art viu. Un espectacle que combina teatre\, dansa i poesia visual\, i que ret homenatge a les seues creadores: dues dones que van transformar la manera de contar i de mirar el món infantil. En un temps en què l’educació artística i la lectura necessiten noves formes de connexió\, Marieta representa una oportunitat única per unir: literatura i moviment\, paraula i imatge i creació femenina i valors educatius universals. \nMés informació i venda d’entrades: Sala l’Horta \nTeatre | Dansa | Poesia Visual // Públic familiar a partir de 3 anys \nPremi Nacional de les Arts Escèniques per a la Infància i la Joventut 2023 \n 
URL:https://familiespelvalencia.org/activitat/teatre-la-rateta-marieta-2/
LOCATION:Sala L’Horta\, Carrer Sant Martí de Porres\, 17 (Poblats del Sud)\, Castellar-L'Oliveral.- València\, L'Horta\, 46026
CATEGORIES:València - districte capital
ATTACH;FMTTYPE=image/webp:https://familiespelvalencia.org/wp-content/uploads/2026/03/la-rateta-marieta-lhorta.webp
GEO:39.4247911;-0.3653518
X-APPLE-STRUCTURED-LOCATION;VALUE=URI;X-ADDRESS=Sala L’Horta Carrer Sant Martí de Porres 17 (Poblats del Sud) Castellar-L'Oliveral.- València L'Horta 46026;X-APPLE-RADIUS=500;X-TITLE=Carrer Sant Martí de Porres\, 17 (Poblats del Sud):geo:-0.3653518,39.4247911
END:VEVENT
BEGIN:VEVENT
DTSTART;TZID=Europe/Paris:20260329T120000
DTEND;TZID=Europe/Paris:20260329T130000
DTSTAMP:20260420T221116
CREATED:20260309T215215Z
LAST-MODIFIED:20260309T215437Z
UID:10001040-1774785600-1774789200@familiespelvalencia.org
SUMMARY:Teatre. Ací\, on floreixen les tortugues
DESCRIPTION:De vegades passen coses tan grans i inexplicables que voldríem amagar-nos dins la closca i no tornar a eixir mai més. Coses com la Dana\, ja sabeu\, una riuada. O com un terratrémol\, un huracà o un volcà. Perquè de vegades eixes coses ens passen i en un segon s’esborra el món i voldríem desaparéixer un segle. Però\, i si en traure el cap de nou veiem que han arribat altres tortugues? Estan traient les teues aigües? Abraçant la teua closca? \nAcí\, on floreixen les tortugues és una experiència escènica que convida a menuts i tortugues a repassar junts la recent experiència de la Dana patida a València\, posant-la en relació amb la memòria d’altres riades i catàstrofes al llarg de la història i del planeta. \nAmb testimonis reals de xiquets i xiquetes i obrint la perspectiva a la resta d’éssers vius\, com les tortugues\, que també patiren la catàstrofe\, la peça llança preguntes sobre el nostre mode de viure contemporani\, l’acumulació de cotxes i objectes\, la cura de la natura\, la necessitat de recuperar la comunitat i sobretot quin món volem reviure quan tot s’ha trencat. \nMés informació i venda d’entrades: Sala l’Horta \nPúblic familiar a partir de 5 anys // Teatre de proximitat: el públic s’ubicarà dalt de l’escenari
URL:https://familiespelvalencia.org/activitat/teatre-aci-on-floreixen-les-tortugues/
LOCATION:Sala L’Horta\, Carrer Sant Martí de Porres\, 17 (Poblats del Sud)\, Castellar-L'Oliveral.- València\, L'Horta\, 46026
CATEGORIES:València - districte capital
ATTACH;FMTTYPE=image/png:https://familiespelvalencia.org/wp-content/uploads/2026/03/Aci-on-floreixen-les-tortugues.png
GEO:39.4247911;-0.3653518
X-APPLE-STRUCTURED-LOCATION;VALUE=URI;X-ADDRESS=Sala L’Horta Carrer Sant Martí de Porres 17 (Poblats del Sud) Castellar-L'Oliveral.- València L'Horta 46026;X-APPLE-RADIUS=500;X-TITLE=Carrer Sant Martí de Porres\, 17 (Poblats del Sud):geo:-0.3653518,39.4247911
END:VEVENT
BEGIN:VEVENT
DTSTART;TZID=Europe/Paris:20260328T190000
DTEND;TZID=Europe/Paris:20260328T200500
DTSTAMP:20260420T221116
CREATED:20260309T215844Z
LAST-MODIFIED:20260309T220654Z
UID:10001041-1774724400-1774728300@familiespelvalencia.org
SUMMARY:Teatre. Estem perdudes
DESCRIPTION:Dues germanes se’n van de viatge amb la intenció de tirar les cendres de sa mare al mont Kenya. Un problema aeri fa que aterren a l’aeroport de Narita\, al Japó. La relació entre les germanes està un poc tensa\, estan passant per un moment vital delicat i un viatge juntes és una prova de foc: posa en evidència les seues diferències\, les quals hauran de llimar per resoldre les dificultats que els planteja el viatge. Finalment\, aconseguiran volar a Nairobi\, però\, una vegada més\, la vida les durà pel camí més difícil i hauran de posar-se d’acord per resoldre-ho. A la tornada del seu viatge\, a l’aeroport d’Alacant les germanes han tingut l’oportunitat de compartir el que els inquieta i aconsegueixen fer valdre la seua relació i el moment actual. \nTeatre | Comèdia \nMés informació i venda d’entrades: Sala l’Horta \nPúblic jove i adult
URL:https://familiespelvalencia.org/activitat/teatre-estem-perdudes/
LOCATION:Sala L’Horta\, Carrer Sant Martí de Porres\, 17 (Poblats del Sud)\, Castellar-L'Oliveral.- València\, L'Horta\, 46026
CATEGORIES:València - districte capital
ATTACH;FMTTYPE=image/jpeg:https://familiespelvalencia.org/wp-content/uploads/2026/03/estem-perdudes.jpg
GEO:39.4247911;-0.3653518
X-APPLE-STRUCTURED-LOCATION;VALUE=URI;X-ADDRESS=Sala L’Horta Carrer Sant Martí de Porres 17 (Poblats del Sud) Castellar-L'Oliveral.- València L'Horta 46026;X-APPLE-RADIUS=500;X-TITLE=Carrer Sant Martí de Porres\, 17 (Poblats del Sud):geo:-0.3653518,39.4247911
END:VEVENT
BEGIN:VEVENT
DTSTART;TZID=Europe/Paris:20260308T120000
DTEND;TZID=Europe/Paris:20260308T130000
DTSTAMP:20260420T221116
CREATED:20260305T210631Z
LAST-MODIFIED:20260305T210631Z
UID:10001028-1772971200-1772974800@familiespelvalencia.org
SUMMARY:Croma\, una història dibuixada
DESCRIPTION:Croma es comunica amb dibuixos i colors i així és com ens contarà el seu viatge: de com va volar damunt d’una garsa\, ballar amb els insectes i parlar amb les meduses per tal de trobar la seua nova casa. Croma és una història dibuixada en directe i acolorida amb pinzells i molts poals de pintura que omplin l’escena d’imaginació\, expressió plàstica i poesia. Una experiència sensorial per embrutar-se\, mesclar\, esborrar\, pintar i gaudir de les imatges i del joc teatral a través de la mirada divertida i innocent d’aquest tendre personatge. \nMés informació i venda d’entrades: Sala l’Horta  | Durada: 55 min
URL:https://familiespelvalencia.org/activitat/croma-una-historia-dibuixada/
LOCATION:Sala L’Horta\, Carrer Sant Martí de Porres\, 17 (Poblats del Sud)\, Castellar-L'Oliveral.- València\, L'Horta\, 46026
CATEGORIES:València - districte capital
ATTACH;FMTTYPE=image/jpeg:https://familiespelvalencia.org/wp-content/uploads/2026/03/Croma.jpg
GEO:39.4247911;-0.3653518
X-APPLE-STRUCTURED-LOCATION;VALUE=URI;X-ADDRESS=Sala L’Horta Carrer Sant Martí de Porres 17 (Poblats del Sud) Castellar-L'Oliveral.- València L'Horta 46026;X-APPLE-RADIUS=500;X-TITLE=Carrer Sant Martí de Porres\, 17 (Poblats del Sud):geo:-0.3653518,39.4247911
END:VEVENT
BEGIN:VEVENT
DTSTART;TZID=Europe/Paris:20260222T120000
DTEND;TZID=Europe/Paris:20260222T130000
DTSTAMP:20260420T221116
CREATED:20260126T213949Z
LAST-MODIFIED:20260222T143335Z
UID:10000766-1771761600-1771765200@familiespelvalencia.org
SUMMARY:Una cosa lleugera
DESCRIPTION:Una cosa lleugera és una coreografia per a tres intèrprets i un convidat especial: l’aire. Una peça que s’eleva i ens fa surar entre meduses\, tendes de campanya i criatures estranyes que apareixen\, s’unflen\, s’encongeixen i queden suspeses per la mà invisible d’un simple corrent d’aire. \nUn joc que destaca dues idees: la lleugeresa i la flexibilitat; i que busca el gaudiment\, l’humor i la poesia fins i tot en la cosa més quotidiana. Una celebració d’allò més senzill. Una experiència que ens ajuda a meravellar-nos amb les coses xicotetes. \nUna peça d’arts vives per a públic familiar que explora\, a través del moviment i la coreografia\, els conceptes de lleugeresa i flexibilitat. Un espai d’experimentació i joc\, on infants i adults poden descobrir altres formes de moviment i relació: cossos que floten\, es dobleguen\, s’adapten i es deixen portar per forces imprevisibles. \nESTRENA  \nArts Vives  \nValencià  \n40’  \nPúblic familiar a partir de 5 anys  
URL:https://familiespelvalencia.org/activitat/una-cosa-lleugera/
LOCATION:Sala L’Horta\, Carrer Sant Martí de Porres\, 17 (Poblats del Sud)\, Castellar-L'Oliveral.- València\, L'Horta\, 46026
CATEGORIES:València - districte capital
GEO:39.4247911;-0.3653518
X-APPLE-STRUCTURED-LOCATION;VALUE=URI;X-ADDRESS=Sala L’Horta Carrer Sant Martí de Porres 17 (Poblats del Sud) Castellar-L'Oliveral.- València L'Horta 46026;X-APPLE-RADIUS=500;X-TITLE=Carrer Sant Martí de Porres\, 17 (Poblats del Sud):geo:-0.3653518,39.4247911
END:VEVENT
BEGIN:VEVENT
DTSTART;TZID=Europe/Paris:20260215T120000
DTEND;TZID=Europe/Paris:20260215T130000
DTSTAMP:20260420T221116
CREATED:20260126T213708Z
LAST-MODIFIED:20260126T213708Z
UID:10000765-1771156800-1771160400@familiespelvalencia.org
SUMMARY:L'illa del tresor
DESCRIPTION:Fa molts anys\, va existir un temible pirata que va aconseguir el més gran dels tresors… Hui\, només queden alguns membres de la seua tripulació\, que busquen desesperadament alguna pista que els aprope al valuós or. \nL’illa del tresor és la història d’aquests corsaris i de Jim\, un jove que ajuda la seua mare a portar una vella taverna i que es veurà immers en una aventura plena de pirates\, vaixells i illes desertes. En aquest viatge\, haurà de reconéixer el bé i enfrontar-se al mal. Descobrir el que són realment els tresors i arriscar-se a la pregunta si els malvats tenen dret al perdó. \nTeatre  \n60’  \nValencià  \nPúblic familiar a partir de 8 anys  \nPremi FETEN al Millor Espectacle Multidisciplinar 2025  
URL:https://familiespelvalencia.org/activitat/lilla-del-tresor-2/
LOCATION:Sala L’Horta\, Carrer Sant Martí de Porres\, 17 (Poblats del Sud)\, Castellar-L'Oliveral.- València\, L'Horta\, 46026
CATEGORIES:València - districte capital
ATTACH;FMTTYPE=image/jpeg:https://familiespelvalencia.org/wp-content/uploads/2026/01/lilla-del-tresor.jpg
GEO:39.4247911;-0.3653518
X-APPLE-STRUCTURED-LOCATION;VALUE=URI;X-ADDRESS=Sala L’Horta Carrer Sant Martí de Porres 17 (Poblats del Sud) Castellar-L'Oliveral.- València L'Horta 46026;X-APPLE-RADIUS=500;X-TITLE=Carrer Sant Martí de Porres\, 17 (Poblats del Sud):geo:-0.3653518,39.4247911
END:VEVENT
BEGIN:VEVENT
DTSTART;TZID=Europe/Paris:20260125T123000
DTEND;TZID=Europe/Paris:20260125T130000
DTSTAMP:20260420T221116
CREATED:20260122T101132Z
LAST-MODIFIED:20260122T101132Z
UID:10000761-1769344200-1769346000@familiespelvalencia.org
SUMMARY:FOR+ a la Sala l'Horta
DESCRIPTION:Teatre | Titelles | Objectes | Música en directe | Proximitat \nPrimera infància de 0 a 5 anys \nNecessari treure entrada a partir de 6 mesos. \n  \nPupi és un xiquet xicotet\, se submergeix en els seus somnis portant-nos amb ell al món del joc\, dels seus gargots que dansen i canten al ritme de l’alegria i del color. Aquest és un viatge feia la imaginació de Pupi\, on totes les coses poden ser possibles\, cobrant vida per a fer-nos sentir i somiar. Quan Pupi obri els ulls alguna cosa en el nostre interior ha canviat\, perquè ell som tots! \nEls espectadors comparteixen l’escenari\, interactuen amb els objectes i viuen de primera mà els efectes visuals\, teatrals i sonors\, sorprenent-se a cada moment. Un espectacle familiar amb veu i piano en viu.
URL:https://familiespelvalencia.org/activitat/for-a-la-sala-lhorta/2026-01-25/2/
LOCATION:Sala L’Horta\, Carrer Sant Martí de Porres\, 17 (Poblats del Sud)\, Castellar-L'Oliveral.- València\, L'Horta\, 46026
CATEGORIES:València - districte capital
ATTACH;FMTTYPE=image/webp:https://familiespelvalencia.org/wp-content/uploads/2026/01/TEATRE-BARCELONA-For-2-1100x733-1.webp
GEO:39.4247911;-0.3653518
X-APPLE-STRUCTURED-LOCATION;VALUE=URI;X-ADDRESS=Sala L’Horta Carrer Sant Martí de Porres 17 (Poblats del Sud) Castellar-L'Oliveral.- València L'Horta 46026;X-APPLE-RADIUS=500;X-TITLE=Carrer Sant Martí de Porres\, 17 (Poblats del Sud):geo:-0.3653518,39.4247911
END:VEVENT
BEGIN:VEVENT
DTSTART;TZID=Europe/Paris:20260125T110000
DTEND;TZID=Europe/Paris:20260125T113000
DTSTAMP:20260420T221116
CREATED:20260122T101132Z
LAST-MODIFIED:20260122T101132Z
UID:10000760-1769338800-1769340600@familiespelvalencia.org
SUMMARY:FOR+ a la Sala l'Horta
DESCRIPTION:Teatre | Titelles | Objectes | Música en directe | Proximitat \nPrimera infància de 0 a 5 anys \nNecessari treure entrada a partir de 6 mesos. \n  \nPupi és un xiquet xicotet\, se submergeix en els seus somnis portant-nos amb ell al món del joc\, dels seus gargots que dansen i canten al ritme de l’alegria i del color. Aquest és un viatge feia la imaginació de Pupi\, on totes les coses poden ser possibles\, cobrant vida per a fer-nos sentir i somiar. Quan Pupi obri els ulls alguna cosa en el nostre interior ha canviat\, perquè ell som tots! \nEls espectadors comparteixen l’escenari\, interactuen amb els objectes i viuen de primera mà els efectes visuals\, teatrals i sonors\, sorprenent-se a cada moment. Un espectacle familiar amb veu i piano en viu.
URL:https://familiespelvalencia.org/activitat/for-a-la-sala-lhorta/2026-01-25/1/
LOCATION:Sala L’Horta\, Carrer Sant Martí de Porres\, 17 (Poblats del Sud)\, Castellar-L'Oliveral.- València\, L'Horta\, 46026
CATEGORIES:València - districte capital
ATTACH;FMTTYPE=image/webp:https://familiespelvalencia.org/wp-content/uploads/2026/01/TEATRE-BARCELONA-For-2-1100x733-1.webp
GEO:39.4247911;-0.3653518
X-APPLE-STRUCTURED-LOCATION;VALUE=URI;X-ADDRESS=Sala L’Horta Carrer Sant Martí de Porres 17 (Poblats del Sud) Castellar-L'Oliveral.- València L'Horta 46026;X-APPLE-RADIUS=500;X-TITLE=Carrer Sant Martí de Porres\, 17 (Poblats del Sud):geo:-0.3653518,39.4247911
END:VEVENT
BEGIN:VEVENT
DTSTART;TZID=Europe/Paris:20260111T120000
DTEND;TZID=Europe/Paris:20260111T130000
DTSTAMP:20260420T221116
CREATED:20260109T154733Z
LAST-MODIFIED:20260109T154933Z
UID:10000698-1768132800-1768136400@familiespelvalencia.org
SUMMARY:Teatre. Dadà.
DESCRIPTION:Dadà proposa als més xicotets un joc que sorprén amb les formes\, els colors\, les paraules\, la música i el mim. Una experiència teatral que obri els sentits per descobrir que la realitat és canviant i es pot veure i interpretar de moltes formes diferents i complementàries. Una vivència activa i sensorial per aprendre sobre els beneficis que aporta l’art i la creativitat en el creixement i l’aprenentatge. \nInspirat en l’obra i la personalitat dels artistes Joan Miró\, Yayoi Kusama i Jeff Koons\, és un muntatge ideat per a divertir-se i aprendre amb una dramatúrgia inspirada en els processos creatius contemporanis on el més important és la connexió interior i la identificació total de l’artista amb la seua obra. L’art ens obri la ment\, ens transforma i ens connecta amb el món. \nRecomanada per a públic de 3 a 7 anys \nMés informació i compra d’entrades: Sala l’Horta
URL:https://familiespelvalencia.org/activitat/teatre-dada/
LOCATION:Sala L’Horta\, Carrer Sant Martí de Porres\, 17 (Poblats del Sud)\, Castellar-L'Oliveral.- València\, L'Horta\, 46026
CATEGORIES:València - districte capital
ATTACH;FMTTYPE=image/webp:https://familiespelvalencia.org/wp-content/uploads/2026/01/Dada.webp
GEO:39.4247911;-0.3653518
X-APPLE-STRUCTURED-LOCATION;VALUE=URI;X-ADDRESS=Sala L’Horta Carrer Sant Martí de Porres 17 (Poblats del Sud) Castellar-L'Oliveral.- València L'Horta 46026;X-APPLE-RADIUS=500;X-TITLE=Carrer Sant Martí de Porres\, 17 (Poblats del Sud):geo:-0.3653518,39.4247911
END:VEVENT
BEGIN:VEVENT
DTSTART;TZID=Europe/Paris:20251221T123000
DTEND;TZID=Europe/Paris:20251221T130000
DTSTAMP:20260420T221116
CREATED:20251218T212212Z
LAST-MODIFIED:20251218T212212Z
UID:10000649-1766320200-1766322000@familiespelvalencia.org
SUMMARY:Colors: teatre primera infància
DESCRIPTION:COLORS és una instal·lació audiovisual didàctica recomanada d’1 a 5 anys. \nÉs un viatge a l’univers cromàtic on aprenem a barrejar i a explorar de quin color són els habitants de la terra. \nQuè ens poden transmetre els colors? \nQuina alegria ens poden aportar? \nQuins sentiments\, quina passió\, quina comunió? \n  \n 
URL:https://familiespelvalencia.org/activitat/colors-teatre-primera-infancia/2025-12-21/2/
LOCATION:Sala L’Horta\, Carrer Sant Martí de Porres\, 17 (Poblats del Sud)\, Castellar-L'Oliveral.- València\, L'Horta\, 46026
CATEGORIES:València - districte capital
ATTACH;FMTTYPE=image/jpeg:https://familiespelvalencia.org/wp-content/uploads/2025/12/0-Cartell-Colors.jpg
GEO:39.4247911;-0.3653518
X-APPLE-STRUCTURED-LOCATION;VALUE=URI;X-ADDRESS=Sala L’Horta Carrer Sant Martí de Porres 17 (Poblats del Sud) Castellar-L'Oliveral.- València L'Horta 46026;X-APPLE-RADIUS=500;X-TITLE=Carrer Sant Martí de Porres\, 17 (Poblats del Sud):geo:-0.3653518,39.4247911
END:VEVENT
BEGIN:VEVENT
DTSTART;TZID=Europe/Paris:20251221T110000
DTEND;TZID=Europe/Paris:20251221T113000
DTSTAMP:20260420T221116
CREATED:20251218T212212Z
LAST-MODIFIED:20251218T212212Z
UID:10000648-1766314800-1766316600@familiespelvalencia.org
SUMMARY:Colors: teatre primera infància
DESCRIPTION:COLORS és una instal·lació audiovisual didàctica recomanada d’1 a 5 anys. \nÉs un viatge a l’univers cromàtic on aprenem a barrejar i a explorar de quin color són els habitants de la terra. \nQuè ens poden transmetre els colors? \nQuina alegria ens poden aportar? \nQuins sentiments\, quina passió\, quina comunió? \n  \n 
URL:https://familiespelvalencia.org/activitat/colors-teatre-primera-infancia/2025-12-21/1/
LOCATION:Sala L’Horta\, Carrer Sant Martí de Porres\, 17 (Poblats del Sud)\, Castellar-L'Oliveral.- València\, L'Horta\, 46026
CATEGORIES:València - districte capital
ATTACH;FMTTYPE=image/jpeg:https://familiespelvalencia.org/wp-content/uploads/2025/12/0-Cartell-Colors.jpg
GEO:39.4247911;-0.3653518
X-APPLE-STRUCTURED-LOCATION;VALUE=URI;X-ADDRESS=Sala L’Horta Carrer Sant Martí de Porres 17 (Poblats del Sud) Castellar-L'Oliveral.- València L'Horta 46026;X-APPLE-RADIUS=500;X-TITLE=Carrer Sant Martí de Porres\, 17 (Poblats del Sud):geo:-0.3653518,39.4247911
END:VEVENT
BEGIN:VEVENT
DTSTART;TZID=Europe/Paris:20251130T110000
DTEND;TZID=Europe/Paris:20251130T120000
DTSTAMP:20260420T221116
CREATED:20251020T152530Z
LAST-MODIFIED:20251127T094153Z
UID:10000143-1764500400-1764504000@familiespelvalencia.org
SUMMARY:Teatre / Titelles: Elmer\, l'elefant multicolor (Doble sessió: 11h i 12.30h)
DESCRIPTION:Cia. Tutatis (Catalunya) \nHoraris:\n– 11:00h\n– 12.30h \nDurada: 50 min / Edat: Públic Familiar a partir de 3 anys \nSinopsi\n\nElmer\, és un elefant gens avorrit. A diferència dels seus amics\, ell és multicolor. Aquest clàssic infantil creat per David Mckee\, que va vendre més de 8 milions d’exemplars i s’ha traduït a més de 50 llengües\, explica la història d’aquest elefant i el seu dia a dia\, en un món on tots els seus amics són de color “elefant”. Un espectacle on el convencional queda de costat i on s’ensenya la importància de ser un mateix\, transmetent valors positius tan importants com el respecte\, l’acceptació i la diversitat. \nMés informació i venda d’entrades: L’Horta Teatre\nVídeo promocional: Elmer\, l’elefant multicolor
URL:https://familiespelvalencia.org/activitat/teatre-titelles-elmer-lelefant-multicolor-doble-sessio-11h-i-12-30h-2/
LOCATION:Sala L’Horta\, Carrer Sant Martí de Porres\, 17 (Poblats del Sud)\, Castellar-L'Oliveral.- València\, L'Horta\, 46026
CATEGORIES:València - districte capital
ATTACH;FMTTYPE=image/jpeg:https://familiespelvalencia.org/wp-content/uploads/2025/10/Elmer.jpg
GEO:39.4247911;-0.3653518
X-APPLE-STRUCTURED-LOCATION;VALUE=URI;X-ADDRESS=Sala L’Horta Carrer Sant Martí de Porres 17 (Poblats del Sud) Castellar-L'Oliveral.- València L'Horta 46026;X-APPLE-RADIUS=500;X-TITLE=Carrer Sant Martí de Porres\, 17 (Poblats del Sud):geo:-0.3653518,39.4247911
END:VEVENT
END:VCALENDAR