BEGIN:VCALENDAR
VERSION:2.0
PRODID:-//FAMÍLIES PEL VALENCIÀ - ECPv6.15.20//NONSGML v1.0//EN
CALSCALE:GREGORIAN
METHOD:PUBLISH
X-WR-CALNAME:FAMÍLIES PEL VALENCIÀ
X-ORIGINAL-URL:https://familiespelvalencia.org
X-WR-CALDESC:Esdeveniments per FAMÍLIES PEL VALENCIÀ
REFRESH-INTERVAL;VALUE=DURATION:PT1H
X-Robots-Tag:noindex
X-PUBLISHED-TTL:PT1H
BEGIN:VTIMEZONE
TZID:Europe/Paris
BEGIN:DAYLIGHT
TZOFFSETFROM:+0100
TZOFFSETTO:+0200
TZNAME:CEST
DTSTART:20240331T010000
END:DAYLIGHT
BEGIN:STANDARD
TZOFFSETFROM:+0200
TZOFFSETTO:+0100
TZNAME:CET
DTSTART:20241027T010000
END:STANDARD
BEGIN:DAYLIGHT
TZOFFSETFROM:+0100
TZOFFSETTO:+0200
TZNAME:CEST
DTSTART:20250330T010000
END:DAYLIGHT
BEGIN:STANDARD
TZOFFSETFROM:+0200
TZOFFSETTO:+0100
TZNAME:CET
DTSTART:20251026T010000
END:STANDARD
BEGIN:DAYLIGHT
TZOFFSETFROM:+0100
TZOFFSETTO:+0200
TZNAME:CEST
DTSTART:20260329T010000
END:DAYLIGHT
BEGIN:STANDARD
TZOFFSETFROM:+0200
TZOFFSETTO:+0100
TZNAME:CET
DTSTART:20261025T010000
END:STANDARD
END:VTIMEZONE
BEGIN:VEVENT
DTSTART;TZID=Europe/Paris:20251129T170000
DTEND;TZID=Europe/Paris:20251129T193000
DTSTAMP:20260424T052223
CREATED:20251127T215642Z
LAST-MODIFIED:20251127T215806Z
UID:10000494-1764435600-1764444600@familiespelvalencia.org
SUMMARY:Dansa contemporània. Marceline (Doble sessió: 17h i 18:30h)
DESCRIPTION:Marceline fusiona la dansa contemporània i la música barroca (amb un quartet de cordes\, una ballarina i una soprano) en una escenografia poètica i immersiva\, amb abundant tecnologia i participació per a tot tipus de públic\, inclosos bebés i xiquets menuts. Conta la història de Marcelino Orbés\, un pallasso nascut a Espanya que va ser referent per a Charles Chaplin i Buster Keaton. El públic s’asseu a l’escenari\, i es convida adults\, bebés i xiquets a participar activament en l’espectacle. \nCompanyia: La petita malumaluga // Direcció: Eva Vilamitjana y Albert Vilà // Autoria: Eva Vilamitjana y Albert Vilà\nEdat: De 0 a 3 anys // Durada: 40 minuts \nMés informació i compra d’entrades: Escalante
URL:https://familiespelvalencia.org/activitat/dansa-contemporania-marceline-doble-sessio-17h-i-1830h/
LOCATION:Ribes Espai Cultural\, Carrer de les Filipines\, 2 (Barri de Russafa)\, València\, L'Horta\, 46004
CATEGORIES:València - districte capital
ATTACH;FMTTYPE=image/png:https://familiespelvalencia.org/wp-content/uploads/2025/11/Captura-de-pantalla-2025-11-27-225549.png
GEO:39.4582381;-0.3772651
X-APPLE-STRUCTURED-LOCATION;VALUE=URI;X-ADDRESS=Ribes Espai Cultural Carrer de les Filipines 2 (Barri de Russafa) València L'Horta 46004;X-APPLE-RADIUS=500;X-TITLE=Carrer de les Filipines\, 2 (Barri de Russafa):geo:-0.3772651,39.4582381
END:VEVENT
END:VCALENDAR