BEGIN:VCALENDAR
VERSION:2.0
PRODID:-//FAMÍLIES PEL VALENCIÀ - ECPv6.15.20//NONSGML v1.0//EN
CALSCALE:GREGORIAN
METHOD:PUBLISH
X-ORIGINAL-URL:https://familiespelvalencia.org
X-WR-CALDESC:Esdeveniments per FAMÍLIES PEL VALENCIÀ
REFRESH-INTERVAL;VALUE=DURATION:PT1H
X-Robots-Tag:noindex
X-PUBLISHED-TTL:PT1H
BEGIN:VTIMEZONE
TZID:Europe/Paris
BEGIN:DAYLIGHT
TZOFFSETFROM:+0100
TZOFFSETTO:+0200
TZNAME:CEST
DTSTART:20240331T010000
END:DAYLIGHT
BEGIN:STANDARD
TZOFFSETFROM:+0200
TZOFFSETTO:+0100
TZNAME:CET
DTSTART:20241027T010000
END:STANDARD
BEGIN:DAYLIGHT
TZOFFSETFROM:+0100
TZOFFSETTO:+0200
TZNAME:CEST
DTSTART:20250330T010000
END:DAYLIGHT
BEGIN:STANDARD
TZOFFSETFROM:+0200
TZOFFSETTO:+0100
TZNAME:CET
DTSTART:20251026T010000
END:STANDARD
BEGIN:DAYLIGHT
TZOFFSETFROM:+0100
TZOFFSETTO:+0200
TZNAME:CEST
DTSTART:20260329T010000
END:DAYLIGHT
BEGIN:STANDARD
TZOFFSETFROM:+0200
TZOFFSETTO:+0100
TZNAME:CET
DTSTART:20261025T010000
END:STANDARD
END:VTIMEZONE
BEGIN:VEVENT
DTSTART;TZID=Europe/Paris:20251231T113000
DTEND;TZID=Europe/Paris:20251231T123000
DTSTAMP:20260424T044444
CREATED:20251203T121339Z
LAST-MODIFIED:20251203T121339Z
UID:10000543-1767180600-1767184200@familiespelvalencia.org
SUMMARY:Concert Dani Miquel
DESCRIPTION:Concert Dani Miquel a Gandia.
URL:https://familiespelvalencia.org/activitat/concert-dani-miquel-17/
LOCATION:Plaça Tirant\, Plaça Tirant\, Gandia\, La Safor
CATEGORIES:Comarques centrals
ATTACH;FMTTYPE=image/jpeg:https://familiespelvalencia.org/wp-content/uploads/2025/12/dani-miquel-desembre-1.jpg
GEO:38.9649215;-0.1800918
X-APPLE-STRUCTURED-LOCATION;VALUE=URI;X-ADDRESS=Plaça Tirant Plaça Tirant Gandia La Safor;X-APPLE-RADIUS=500;X-TITLE=Plaça Tirant:geo:-0.1800918,38.9649215
END:VEVENT
END:VCALENDAR