BEGIN:VCALENDAR
VERSION:2.0
PRODID:-//FAMÍLIES PEL VALENCIÀ - ECPv6.15.20//NONSGML v1.0//EN
CALSCALE:GREGORIAN
METHOD:PUBLISH
X-WR-CALNAME:FAMÍLIES PEL VALENCIÀ
X-ORIGINAL-URL:https://familiespelvalencia.org
X-WR-CALDESC:Esdeveniments per FAMÍLIES PEL VALENCIÀ
REFRESH-INTERVAL;VALUE=DURATION:PT1H
X-Robots-Tag:noindex
X-PUBLISHED-TTL:PT1H
BEGIN:VTIMEZONE
TZID:Europe/Paris
BEGIN:DAYLIGHT
TZOFFSETFROM:+0100
TZOFFSETTO:+0200
TZNAME:CEST
DTSTART:20250330T010000
END:DAYLIGHT
BEGIN:STANDARD
TZOFFSETFROM:+0200
TZOFFSETTO:+0100
TZNAME:CET
DTSTART:20251026T010000
END:STANDARD
BEGIN:DAYLIGHT
TZOFFSETFROM:+0100
TZOFFSETTO:+0200
TZNAME:CEST
DTSTART:20260329T010000
END:DAYLIGHT
BEGIN:STANDARD
TZOFFSETFROM:+0200
TZOFFSETTO:+0100
TZNAME:CET
DTSTART:20261025T010000
END:STANDARD
BEGIN:DAYLIGHT
TZOFFSETFROM:+0100
TZOFFSETTO:+0200
TZNAME:CEST
DTSTART:20270328T010000
END:DAYLIGHT
BEGIN:STANDARD
TZOFFSETFROM:+0200
TZOFFSETTO:+0100
TZNAME:CET
DTSTART:20271031T010000
END:STANDARD
END:VTIMEZONE
BEGIN:VEVENT
DTSTART;TZID=Europe/Paris:20260220T100000
DTEND;TZID=Europe/Paris:20260222T140000
DTSTAMP:20260421T020545
CREATED:20260209T204357Z
LAST-MODIFIED:20260209T204828Z
UID:10000934-1771581600-1771768800@familiespelvalencia.org
SUMMARY:Plaça del Llibre d’Alacant
DESCRIPTION:La Plaça del Llibre d’Alacant torna del 20 al 22 de febrer amb una edició molt viva i oberta a tots els públics. Les activitats familiars i infantils hi tenen un paper central\, amb propostes tan diverses com activitats escolars\, contacontes\, concerts\, tallers creatius o l’espectacles per als més menuts\, així com per a públic juvenil. Totes elles estan pensades per acostar la lectura i la creativitat als xiquets i xiquetes\, fent de la plaça un espai acollidor\, participatiu i plenament en valencià. \nPer conéixer totes les activitats de l’edició\, pots consultar ací el PROGRAMA COMPLET. \n 
URL:https://familiespelvalencia.org/activitat/6865/
LOCATION:Plaça Sèneca.- Alacant\, Plaça Sèneca\, Alacant\, L'Alacantí\, 03003
CATEGORIES:Comarques del sud
ATTACH;FMTTYPE=image/jpeg:https://familiespelvalencia.org/wp-content/uploads/2026/02/Placa-del-Llibre.jpg
END:VEVENT
END:VCALENDAR