BEGIN:VCALENDAR
VERSION:2.0
PRODID:-//FAMÍLIES PEL VALENCIÀ - ECPv6.15.20//NONSGML v1.0//EN
CALSCALE:GREGORIAN
METHOD:PUBLISH
X-ORIGINAL-URL:https://familiespelvalencia.org
X-WR-CALDESC:Esdeveniments per FAMÍLIES PEL VALENCIÀ
REFRESH-INTERVAL;VALUE=DURATION:PT1H
X-Robots-Tag:noindex
X-PUBLISHED-TTL:PT1H
BEGIN:VTIMEZONE
TZID:Europe/Paris
BEGIN:DAYLIGHT
TZOFFSETFROM:+0100
TZOFFSETTO:+0200
TZNAME:CEST
DTSTART:20240331T010000
END:DAYLIGHT
BEGIN:STANDARD
TZOFFSETFROM:+0200
TZOFFSETTO:+0100
TZNAME:CET
DTSTART:20241027T010000
END:STANDARD
BEGIN:DAYLIGHT
TZOFFSETFROM:+0100
TZOFFSETTO:+0200
TZNAME:CEST
DTSTART:20250330T010000
END:DAYLIGHT
BEGIN:STANDARD
TZOFFSETFROM:+0200
TZOFFSETTO:+0100
TZNAME:CET
DTSTART:20251026T010000
END:STANDARD
BEGIN:DAYLIGHT
TZOFFSETFROM:+0100
TZOFFSETTO:+0200
TZNAME:CEST
DTSTART:20260329T010000
END:DAYLIGHT
BEGIN:STANDARD
TZOFFSETFROM:+0200
TZOFFSETTO:+0100
TZNAME:CET
DTSTART:20261025T010000
END:STANDARD
END:VTIMEZONE
BEGIN:VEVENT
DTSTART;TZID=Europe/Paris:20251207T120000
DTEND;TZID=Europe/Paris:20251207T130000
DTSTAMP:20260424T050537
CREATED:20251203T115956Z
LAST-MODIFIED:20251203T115956Z
UID:10000537-1765108800-1765112400@familiespelvalencia.org
SUMMARY:Concert de Dani Miquel
DESCRIPTION:Concert de Dani Miquel a les Coves de Vinromà. \n  \n 
URL:https://familiespelvalencia.org/activitat/concert-de-dani-miquel/
LOCATION:Plaça Espanya\, Coves de Vinromà\, Plaça Espanya\, Coves de Vinromà\, Plana Alta
CATEGORIES:Comarques del nord
ATTACH;FMTTYPE=image/jpeg:https://familiespelvalencia.org/wp-content/uploads/2025/12/dani-miquel-desembre.jpg
GEO:40.3097188;0.1217714
X-APPLE-STRUCTURED-LOCATION;VALUE=URI;X-ADDRESS=Plaça Espanya Coves de Vinromà Plaça Espanya Coves de Vinromà Plana Alta;X-APPLE-RADIUS=500;X-TITLE=Plaça Espanya:geo:0.1217714,40.3097188
END:VEVENT
END:VCALENDAR