BEGIN:VCALENDAR
VERSION:2.0
PRODID:-//FAMÍLIES PEL VALENCIÀ - ECPv6.15.20//NONSGML v1.0//EN
CALSCALE:GREGORIAN
METHOD:PUBLISH
X-ORIGINAL-URL:https://familiespelvalencia.org
X-WR-CALDESC:Esdeveniments per FAMÍLIES PEL VALENCIÀ
REFRESH-INTERVAL;VALUE=DURATION:PT1H
X-Robots-Tag:noindex
X-PUBLISHED-TTL:PT1H
BEGIN:VTIMEZONE
TZID:Europe/Paris
BEGIN:DAYLIGHT
TZOFFSETFROM:+0100
TZOFFSETTO:+0200
TZNAME:CEST
DTSTART:20250330T010000
END:DAYLIGHT
BEGIN:STANDARD
TZOFFSETFROM:+0200
TZOFFSETTO:+0100
TZNAME:CET
DTSTART:20251026T010000
END:STANDARD
BEGIN:DAYLIGHT
TZOFFSETFROM:+0100
TZOFFSETTO:+0200
TZNAME:CEST
DTSTART:20260329T010000
END:DAYLIGHT
BEGIN:STANDARD
TZOFFSETFROM:+0200
TZOFFSETTO:+0100
TZNAME:CET
DTSTART:20261025T010000
END:STANDARD
BEGIN:DAYLIGHT
TZOFFSETFROM:+0100
TZOFFSETTO:+0200
TZNAME:CEST
DTSTART:20270328T010000
END:DAYLIGHT
BEGIN:STANDARD
TZOFFSETFROM:+0200
TZOFFSETTO:+0100
TZNAME:CET
DTSTART:20271031T010000
END:STANDARD
END:VTIMEZONE
BEGIN:VEVENT
DTSTART;TZID=Europe/Paris:20260214T130000
DTEND;TZID=Europe/Paris:20260214T143000
DTSTAMP:20260420T232823
CREATED:20260209T210239Z
LAST-MODIFIED:20260209T210310Z
UID:10000937-1771074000-1771079400@familiespelvalencia.org
SUMMARY:Concert Trobadorets
DESCRIPTION:Monòver es prepara per a una jornada plena d’energia\, música i festa amb l’arribada de Trobadorrets\, un dels grups més estimats per les famílies i pel públic infantil. Amb la seua combinació de música en directe\, humor i molt de ritme\, el concert promet convertir la Plaça de la Sala en un espai de ball\, diversió i participació per als més menuts… i també per als grans!\nL’actuació\, programada per al dissabte 14 de febrer a les 13:00 h\, és una oportunitat perfecta per gaudir d’un espectacle fresc\, dinàmic i ple de vitalitat. Les coreografies\, el contacte amb el públic i la presència d’una banda que ompli l’escenari fan de Trobadorrets una aposta segura per viure una experiència musical en valencià que fa créixer i compartir emocions.
URL:https://familiespelvalencia.org/activitat/concert-trobadorets-10/
LOCATION:Plaça de la Sala.- Monòver\, Plaça de la Sala\, Monòver\, Vinalopó Mitjà\, 03640
CATEGORIES:Comarques del sud
ATTACH;FMTTYPE=image/jpeg:https://familiespelvalencia.org/wp-content/uploads/2026/02/Monover.jpg
END:VEVENT
END:VCALENDAR