BEGIN:VCALENDAR
VERSION:2.0
PRODID:-//FAMÍLIES PEL VALENCIÀ - ECPv6.15.20//NONSGML v1.0//EN
CALSCALE:GREGORIAN
METHOD:PUBLISH
X-WR-CALNAME:FAMÍLIES PEL VALENCIÀ
X-ORIGINAL-URL:https://familiespelvalencia.org
X-WR-CALDESC:Esdeveniments per FAMÍLIES PEL VALENCIÀ
REFRESH-INTERVAL;VALUE=DURATION:PT1H
X-Robots-Tag:noindex
X-PUBLISHED-TTL:PT1H
BEGIN:VTIMEZONE
TZID:Europe/Paris
BEGIN:DAYLIGHT
TZOFFSETFROM:+0100
TZOFFSETTO:+0200
TZNAME:CEST
DTSTART:20240331T010000
END:DAYLIGHT
BEGIN:STANDARD
TZOFFSETFROM:+0200
TZOFFSETTO:+0100
TZNAME:CET
DTSTART:20241027T010000
END:STANDARD
BEGIN:DAYLIGHT
TZOFFSETFROM:+0100
TZOFFSETTO:+0200
TZNAME:CEST
DTSTART:20250330T010000
END:DAYLIGHT
BEGIN:STANDARD
TZOFFSETFROM:+0200
TZOFFSETTO:+0100
TZNAME:CET
DTSTART:20251026T010000
END:STANDARD
BEGIN:DAYLIGHT
TZOFFSETFROM:+0100
TZOFFSETTO:+0200
TZNAME:CEST
DTSTART:20260329T010000
END:DAYLIGHT
BEGIN:STANDARD
TZOFFSETFROM:+0200
TZOFFSETTO:+0100
TZNAME:CET
DTSTART:20261025T010000
END:STANDARD
END:VTIMEZONE
BEGIN:VEVENT
DTSTART;TZID=Europe/Paris:20251130T110000
DTEND;TZID=Europe/Paris:20251130T183000
DTSTAMP:20260424T051742
CREATED:20251127T092936Z
LAST-MODIFIED:20251127T092936Z
UID:10000489-1764500400-1764527400@familiespelvalencia.org
SUMMARY:Plaça del Llibre.- Picassent
DESCRIPTION:La Plaça del Llibre arriba de nou a Picassent amb una programació plena d’activitats per a totes les edats: presentacions literàries\, tallers\, teatre\, signatures\, música i molt més. Un punt de trobada per a gaudir de la literatura en valencià en un ambient festiu i familiar. \nProgramació: web Casa de la Cultura de Picassent
URL:https://familiespelvalencia.org/activitat/placa-del-llibre-picassent-2/
LOCATION:Picassent.- Plaça del Llibre\, Plaça de l’Ermita\, Picassent\, 46220
CATEGORIES:Comarques Túria–Xúquer
ATTACH;FMTTYPE=image/png:https://familiespelvalencia.org/wp-content/uploads/2025/11/placa-del-llibre-picaqssent.png
GEO:39.3635863;-0.462042
X-APPLE-STRUCTURED-LOCATION;VALUE=URI;X-ADDRESS=Picassent.- Plaça del Llibre Plaça de l’Ermita Picassent 46220;X-APPLE-RADIUS=500;X-TITLE=Plaça de l’Ermita:geo:-0.462042,39.3635863
END:VEVENT
BEGIN:VEVENT
DTSTART;TZID=Europe/Paris:20251129T110000
DTEND;TZID=Europe/Paris:20251129T200000
DTSTAMP:20260424T051742
CREATED:20251127T092910Z
LAST-MODIFIED:20251127T092910Z
UID:10000488-1764414000-1764446400@familiespelvalencia.org
SUMMARY:Plaça del Llibre.- Picassent
DESCRIPTION:La Plaça del Llibre arriba de nou a Picassent amb una programació plena d’activitats per a totes les edats: presentacions literàries\, tallers\, teatre\, signatures\, música i molt més. Un punt de trobada per a gaudir de la literatura en valencià en un ambient festiu i familiar. \nProgramació: web Casa de la Cultura de Picassent
URL:https://familiespelvalencia.org/activitat/placa-del-llibre-picassent/
LOCATION:Picassent.- Plaça del Llibre\, Plaça de l’Ermita\, Picassent\, 46220
CATEGORIES:Comarques Túria–Xúquer
ATTACH;FMTTYPE=image/png:https://familiespelvalencia.org/wp-content/uploads/2025/11/placa-del-llibre-picaqssent.png
GEO:39.3635863;-0.462042
X-APPLE-STRUCTURED-LOCATION;VALUE=URI;X-ADDRESS=Picassent.- Plaça del Llibre Plaça de l’Ermita Picassent 46220;X-APPLE-RADIUS=500;X-TITLE=Plaça de l’Ermita:geo:-0.462042,39.3635863
END:VEVENT
BEGIN:VEVENT
DTSTART;TZID=Europe/Paris:20251128T100000
DTEND;TZID=Europe/Paris:20251128T200000
DTSTAMP:20260424T051742
CREATED:20251126T152527Z
LAST-MODIFIED:20251127T092843Z
UID:10000480-1764324000-1764360000@familiespelvalencia.org
SUMMARY:Plaça del Llibre.- Picassent
DESCRIPTION:La Plaça del Llibre arriba de nou a Picassent amb una programació plena d’activitats per a totes les edats: presentacions literàries\, tallers\, teatre\, signatures\, música i molt més. Un punt de trobada per a gaudir de la literatura en valencià en un ambient festiu i familiar. \nProgramació: web Casa de la Cultura de Picassent
URL:https://familiespelvalencia.org/activitat/placa-del-libre-picassent/
LOCATION:Picassent.- Plaça del Llibre\, Plaça de l’Ermita\, Picassent\, 46220
CATEGORIES:Comarques Túria–Xúquer
ATTACH;FMTTYPE=image/png:https://familiespelvalencia.org/wp-content/uploads/2025/11/placa-del-llibre-picaqssent.png
GEO:39.3635863;-0.462042
X-APPLE-STRUCTURED-LOCATION;VALUE=URI;X-ADDRESS=Picassent.- Plaça del Llibre Plaça de l’Ermita Picassent 46220;X-APPLE-RADIUS=500;X-TITLE=Plaça de l’Ermita:geo:-0.462042,39.3635863
END:VEVENT
END:VCALENDAR