BEGIN:VCALENDAR
VERSION:2.0
PRODID:-//FAMÍLIES PEL VALENCIÀ - ECPv6.15.20//NONSGML v1.0//EN
CALSCALE:GREGORIAN
METHOD:PUBLISH
X-ORIGINAL-URL:https://familiespelvalencia.org
X-WR-CALDESC:Esdeveniments per FAMÍLIES PEL VALENCIÀ
REFRESH-INTERVAL;VALUE=DURATION:PT1H
X-Robots-Tag:noindex
X-PUBLISHED-TTL:PT1H
BEGIN:VTIMEZONE
TZID:Europe/Paris
BEGIN:DAYLIGHT
TZOFFSETFROM:+0100
TZOFFSETTO:+0200
TZNAME:CEST
DTSTART:20240331T010000
END:DAYLIGHT
BEGIN:STANDARD
TZOFFSETFROM:+0200
TZOFFSETTO:+0100
TZNAME:CET
DTSTART:20241027T010000
END:STANDARD
BEGIN:DAYLIGHT
TZOFFSETFROM:+0100
TZOFFSETTO:+0200
TZNAME:CEST
DTSTART:20250330T010000
END:DAYLIGHT
BEGIN:STANDARD
TZOFFSETFROM:+0200
TZOFFSETTO:+0100
TZNAME:CET
DTSTART:20251026T010000
END:STANDARD
BEGIN:DAYLIGHT
TZOFFSETFROM:+0100
TZOFFSETTO:+0200
TZNAME:CEST
DTSTART:20260329T010000
END:DAYLIGHT
BEGIN:STANDARD
TZOFFSETFROM:+0200
TZOFFSETTO:+0100
TZNAME:CET
DTSTART:20261025T010000
END:STANDARD
BEGIN:DAYLIGHT
TZOFFSETFROM:+0100
TZOFFSETTO:+0200
TZNAME:CEST
DTSTART:20270328T010000
END:DAYLIGHT
BEGIN:STANDARD
TZOFFSETFROM:+0200
TZOFFSETTO:+0100
TZNAME:CET
DTSTART:20271031T010000
END:STANDARD
END:VTIMEZONE
BEGIN:VEVENT
DTSTART;TZID=Europe/Paris:20260206T080000
DTEND;TZID=Europe/Paris:20260207T220000
DTSTAMP:20260421T032632
CREATED:20260207T063002Z
LAST-MODIFIED:20260207T063002Z
UID:10000919-1770364800-1770501600@familiespelvalencia.org
SUMMARY:III Edició Fem Comboi
DESCRIPTION:Cocentaina celebra la III edició del Fem Comboi! els dies 6 i 7 de febrer de 2026\, transformant de nou la plaça del Mercat i el Palau Comtal en un espai de trobada cultural vibrant. Enguany\, el festival s’agermana amb Mallorca\, amb una programació que inclou música i ball en directe\, tallers gratuïts de Ball de Bot\, una fira d’associacions i espais de reflexió com la xarrada sociolingüística sobre el futur de la llengua al País Valencià i Mallorca. Grups mallorquins com Mata Escrita i Magranes portaran els ritmes i la festa de l’illa a Cocentaina\, en una edició concebuda per compartir\, aprendre i viure la cultura popular de manera col·lectiva.
URL:https://familiespelvalencia.org/activitat/iii-edicio-fem-comboi/
LOCATION:Palau Comtal\, Cocentaina\, Plaça el Pla\, s/n\,\, Cocentaina\, El Comtat
CATEGORIES:Comarques centrals
ATTACH;FMTTYPE=image/jpeg:https://familiespelvalencia.org/wp-content/uploads/2026/02/Fem-comboi.jpg
GEO:38.7433461;-0.4407547
X-APPLE-STRUCTURED-LOCATION;VALUE=URI;X-ADDRESS=Palau Comtal Cocentaina Plaça el Pla s/n Cocentaina El Comtat;X-APPLE-RADIUS=500;X-TITLE=Plaça el Pla\, s/n\,:geo:-0.4407547,38.7433461
END:VEVENT
BEGIN:VEVENT
DTSTART;TZID=Europe/Paris:20251213T180000
DTEND;TZID=Europe/Paris:20251213T193000
DTSTAMP:20260421T032632
CREATED:20251212T081452Z
LAST-MODIFIED:20251212T081452Z
UID:10000604-1765648800-1765654200@familiespelvalencia.org
SUMMARY:Teatre infantil i familiar: Atrapats al 2025
DESCRIPTION:🚨 S.O.S! No podem quedar-nos ATRAPATS AL 2025… necessitem la teua ajuda! \nMolts menuts i menudes esperen impacients l’arribada de les campanades. Pilot\, Argantol i Lucer són els Trufians\, els éssers encarregats de baixar una vegada a l’any des de la muntanya per donar pas al nou any. \nPerò sembla que algú ha amagat la campana perquè no vol passar d’any… i si no s’afanyen a trobar-la\, quedarem atrapats en 2025 per sempre. Ens ajudes a buscar-la? \n📅 Dissabte\, 13 de desembre\, 18:00 h\n📍 Palau Comtal de Cocentaina
URL:https://familiespelvalencia.org/activitat/teatre-infantil-i-familiar-atrapats-al-2025/
LOCATION:Palau Comtal\, Cocentaina\, Plaça el Pla\, s/n\,\, Cocentaina\, El Comtat
CATEGORIES:Comarques centrals
ATTACH;FMTTYPE=image/jpeg:https://familiespelvalencia.org/wp-content/uploads/2025/12/atrapats-al-2025.jpg
GEO:38.7433461;-0.4407547
X-APPLE-STRUCTURED-LOCATION;VALUE=URI;X-ADDRESS=Palau Comtal Cocentaina Plaça el Pla s/n Cocentaina El Comtat;X-APPLE-RADIUS=500;X-TITLE=Plaça el Pla\, s/n\,:geo:-0.4407547,38.7433461
END:VEVENT
END:VCALENDAR