BEGIN:VCALENDAR
VERSION:2.0
PRODID:-//FAMÍLIES PEL VALENCIÀ - ECPv6.15.20//NONSGML v1.0//EN
CALSCALE:GREGORIAN
METHOD:PUBLISH
X-WR-CALNAME:FAMÍLIES PEL VALENCIÀ
X-ORIGINAL-URL:https://familiespelvalencia.org
X-WR-CALDESC:Esdeveniments per FAMÍLIES PEL VALENCIÀ
REFRESH-INTERVAL;VALUE=DURATION:PT1H
X-Robots-Tag:noindex
X-PUBLISHED-TTL:PT1H
BEGIN:VTIMEZONE
TZID:Europe/Paris
BEGIN:DAYLIGHT
TZOFFSETFROM:+0100
TZOFFSETTO:+0200
TZNAME:CEST
DTSTART:20240331T010000
END:DAYLIGHT
BEGIN:STANDARD
TZOFFSETFROM:+0200
TZOFFSETTO:+0100
TZNAME:CET
DTSTART:20241027T010000
END:STANDARD
BEGIN:DAYLIGHT
TZOFFSETFROM:+0100
TZOFFSETTO:+0200
TZNAME:CEST
DTSTART:20250330T010000
END:DAYLIGHT
BEGIN:STANDARD
TZOFFSETFROM:+0200
TZOFFSETTO:+0100
TZNAME:CET
DTSTART:20251026T010000
END:STANDARD
BEGIN:DAYLIGHT
TZOFFSETFROM:+0100
TZOFFSETTO:+0200
TZNAME:CEST
DTSTART:20260329T010000
END:DAYLIGHT
BEGIN:STANDARD
TZOFFSETFROM:+0200
TZOFFSETTO:+0100
TZNAME:CET
DTSTART:20261025T010000
END:STANDARD
END:VTIMEZONE
BEGIN:VEVENT
DTSTART;TZID=Europe/Paris:20251227T113000
DTEND;TZID=Europe/Paris:20251227T123000
DTSTAMP:20260421T045032
CREATED:20251216T104708Z
LAST-MODIFIED:20251216T104726Z
UID:10000621-1766835000-1766838600@familiespelvalencia.org
SUMMARY:Contacontes. La Casa de Jana
DESCRIPTION:Vine a gaudir d’una funció especial  amb Sarnatxo Animació\, que ens portarà la màgia del Nadal a través del teatre de titelles. Una proposta ideal per a viure en família aquestes festes. Els menors han d’anar acompanyats d’un adult. \nPots consulta l’horari complet a la pàgina oficial de l’organitzador i no et perdes aquesta cita tan especial!
URL:https://familiespelvalencia.org/activitat/contacontes-la-casa-de-jana/
LOCATION:MUBOMA\, C/ Alcasseres\, 64\, Alcoi\, L'Alcoià\, 03801
CATEGORIES:Comarques centrals
ATTACH;FMTTYPE=image/png:https://familiespelvalencia.org/wp-content/uploads/2025/12/sarnatxo.png
GEO:38.6913294;-0.4761893
X-APPLE-STRUCTURED-LOCATION;VALUE=URI;X-ADDRESS=MUBOMA C/ Alcasseres 64 Alcoi L'Alcoià 03801;X-APPLE-RADIUS=500;X-TITLE=C/ Alcasseres\, 64:geo:-0.4761893,38.6913294
END:VEVENT
END:VCALENDAR