BEGIN:VCALENDAR
VERSION:2.0
PRODID:-//FAMÍLIES PEL VALENCIÀ - ECPv6.15.20//NONSGML v1.0//EN
CALSCALE:GREGORIAN
METHOD:PUBLISH
X-ORIGINAL-URL:https://familiespelvalencia.org
X-WR-CALDESC:Esdeveniments per FAMÍLIES PEL VALENCIÀ
REFRESH-INTERVAL;VALUE=DURATION:PT1H
X-Robots-Tag:noindex
X-PUBLISHED-TTL:PT1H
BEGIN:VTIMEZONE
TZID:Europe/Paris
BEGIN:DAYLIGHT
TZOFFSETFROM:+0100
TZOFFSETTO:+0200
TZNAME:CEST
DTSTART:20250330T010000
END:DAYLIGHT
BEGIN:STANDARD
TZOFFSETFROM:+0200
TZOFFSETTO:+0100
TZNAME:CET
DTSTART:20251026T010000
END:STANDARD
BEGIN:DAYLIGHT
TZOFFSETFROM:+0100
TZOFFSETTO:+0200
TZNAME:CEST
DTSTART:20260329T010000
END:DAYLIGHT
BEGIN:STANDARD
TZOFFSETFROM:+0200
TZOFFSETTO:+0100
TZNAME:CET
DTSTART:20261025T010000
END:STANDARD
BEGIN:DAYLIGHT
TZOFFSETFROM:+0100
TZOFFSETTO:+0200
TZNAME:CEST
DTSTART:20270328T010000
END:DAYLIGHT
BEGIN:STANDARD
TZOFFSETFROM:+0200
TZOFFSETTO:+0100
TZNAME:CET
DTSTART:20271031T010000
END:STANDARD
END:VTIMEZONE
BEGIN:VEVENT
DTSTART;TZID=Europe/Paris:20260306T193000
DTEND;TZID=Europe/Paris:20260306T210000
DTSTAMP:20260420T220708
CREATED:20260305T212827Z
LAST-MODIFIED:20260305T213843Z
UID:10001030-1772825400-1772830800@familiespelvalencia.org
SUMMARY:Concert. Pau Alabajos
DESCRIPTION:Pau Alabajos va començar la seua carrera artística actuant als carrers de la ciutat de València\, interpretava les seues cançons en el districte de Ciutat Vella\, a l’ombra del Micalet. Ha cantat en diferents escenaris internacionals. Els seus últims treballs són Una granota viva a la butxaca (2024)\, que recull versos de Vicent Andrés Estellés convertits en cançó\, i Versos a la vietnamita (2025)\, un llibre-disc d’adaptacions musicals de poemes de Salvador Espriu\, Maria Mercè Marçal\, Vicente Andrés Estellés\, Marc Granell o Joan Margarit. \nPúblic jove i públic en general.
URL:https://familiespelvalencia.org/activitat/concert-pau-alabajos-2/
LOCATION:Martin i Soler.- Les Arts\, Avgda. del Professor López Piñero\, 1\, València\, L'Horta\, 46013
CATEGORIES:València - districte capital
ATTACH;FMTTYPE=image/png:https://familiespelvalencia.org/wp-content/uploads/2026/03/Pau-Alabajos.-Les-Arts-Marc-1.png
END:VEVENT
END:VCALENDAR