BEGIN:VCALENDAR
VERSION:2.0
PRODID:-//FAMÍLIES PEL VALENCIÀ - ECPv6.15.20//NONSGML v1.0//EN
CALSCALE:GREGORIAN
METHOD:PUBLISH
X-WR-CALNAME:FAMÍLIES PEL VALENCIÀ
X-ORIGINAL-URL:https://familiespelvalencia.org
X-WR-CALDESC:Esdeveniments per FAMÍLIES PEL VALENCIÀ
REFRESH-INTERVAL;VALUE=DURATION:PT1H
X-Robots-Tag:noindex
X-PUBLISHED-TTL:PT1H
BEGIN:VTIMEZONE
TZID:Europe/Paris
BEGIN:DAYLIGHT
TZOFFSETFROM:+0100
TZOFFSETTO:+0200
TZNAME:CEST
DTSTART:20250330T010000
END:DAYLIGHT
BEGIN:STANDARD
TZOFFSETFROM:+0200
TZOFFSETTO:+0100
TZNAME:CET
DTSTART:20251026T010000
END:STANDARD
BEGIN:DAYLIGHT
TZOFFSETFROM:+0100
TZOFFSETTO:+0200
TZNAME:CEST
DTSTART:20260329T010000
END:DAYLIGHT
BEGIN:STANDARD
TZOFFSETFROM:+0200
TZOFFSETTO:+0100
TZNAME:CET
DTSTART:20261025T010000
END:STANDARD
BEGIN:DAYLIGHT
TZOFFSETFROM:+0100
TZOFFSETTO:+0200
TZNAME:CEST
DTSTART:20270328T010000
END:DAYLIGHT
BEGIN:STANDARD
TZOFFSETFROM:+0200
TZOFFSETTO:+0100
TZNAME:CET
DTSTART:20271031T010000
END:STANDARD
END:VTIMEZONE
BEGIN:VEVENT
DTSTART;TZID=Europe/Paris:20260423T173000
DTEND;TZID=Europe/Paris:20260423T183000
DTSTAMP:20260424T032113
CREATED:20260423T062809Z
LAST-MODIFIED:20260423T062809Z
UID:10001244-1776965400-1776969000@familiespelvalencia.org
SUMMARY:Contacontes. El tresor de l'encantada
DESCRIPTION:La nit de Sant Joan\, Aitana i Berni entren al Museu buscant el tresor de les Encantades\, i troben a canvi infinitat d’aventures. Una inquietant Encantada les guia per les sales on els protagonistes van descobrint que no tots els tresors són allò que semblen. \n 
URL:https://familiespelvalencia.org/activitat/contacontes-el-tresor-de-lencantada/
LOCATION:Llibreria-Papereria l’Ocellet de colors\, Avinguda País Valencià\, Cocentaina\, El Comtat\, 03820
CATEGORIES:Comarques centrals
ATTACH;FMTTYPE=image/jpeg:https://familiespelvalencia.org/wp-content/uploads/2026/04/El-tresor-de-lencantada-Cocentaina.jpg
ORGANIZER;CN="Llibreria Papereria L'Ocellet de Colors":MAILTO:lidiana40@hotmail.es
GEO:38.7411817;-0.4387699
X-APPLE-STRUCTURED-LOCATION;VALUE=URI;X-ADDRESS=Llibreria-Papereria l’Ocellet de colors Avinguda País Valencià Cocentaina El Comtat 03820;X-APPLE-RADIUS=500;X-TITLE=Avinguda País Valencià:geo:-0.4387699,38.7411817
END:VEVENT
END:VCALENDAR