BEGIN:VCALENDAR
VERSION:2.0
PRODID:-//FAMÍLIES PEL VALENCIÀ - ECPv6.15.20//NONSGML v1.0//EN
CALSCALE:GREGORIAN
METHOD:PUBLISH
X-ORIGINAL-URL:https://familiespelvalencia.org
X-WR-CALDESC:Esdeveniments per FAMÍLIES PEL VALENCIÀ
REFRESH-INTERVAL;VALUE=DURATION:PT1H
X-Robots-Tag:noindex
X-PUBLISHED-TTL:PT1H
BEGIN:VTIMEZONE
TZID:Europe/Paris
BEGIN:DAYLIGHT
TZOFFSETFROM:+0100
TZOFFSETTO:+0200
TZNAME:CEST
DTSTART:20240331T010000
END:DAYLIGHT
BEGIN:STANDARD
TZOFFSETFROM:+0200
TZOFFSETTO:+0100
TZNAME:CET
DTSTART:20241027T010000
END:STANDARD
BEGIN:DAYLIGHT
TZOFFSETFROM:+0100
TZOFFSETTO:+0200
TZNAME:CEST
DTSTART:20250330T010000
END:DAYLIGHT
BEGIN:STANDARD
TZOFFSETFROM:+0200
TZOFFSETTO:+0100
TZNAME:CET
DTSTART:20251026T010000
END:STANDARD
BEGIN:DAYLIGHT
TZOFFSETFROM:+0100
TZOFFSETTO:+0200
TZNAME:CEST
DTSTART:20260329T010000
END:DAYLIGHT
BEGIN:STANDARD
TZOFFSETFROM:+0200
TZOFFSETTO:+0100
TZNAME:CET
DTSTART:20261025T010000
END:STANDARD
END:VTIMEZONE
BEGIN:VEVENT
DTSTART;TZID=Europe/Paris:20251213T110000
DTEND;TZID=Europe/Paris:20251213T123000
DTSTAMP:20260424T050538
CREATED:20251209T163118Z
LAST-MODIFIED:20251209T163118Z
UID:10000577-1765623600-1765629000@familiespelvalencia.org
SUMMARY:Contacontes. Ratolí de jardí\, Rateta de biblioteca
DESCRIPTION:Gaudeix d’un matí ple d’imaginació amb la presentació del llibre Ratolí de jardí\, Rateta de biblioteca. L’autora Irene Verdú ens farà viure la història amb un contacontes especial\, i després la il·lustradora Anna Gisbert ens guiarà en un taller creatiu del llibre. Una activitat ideal per a famílies que estimen la lectura i la creativitat!
URL:https://familiespelvalencia.org/activitat/contacontes-ratoli-de-jardi-rateta-de-biblioteca/
LOCATION:Llibreria Pàgina 3\, Av. Morer\, 2\,\, Oliva\, La Safor\, 46780
CATEGORIES:Comarques centrals
GEO:38.9226125;-0.1183551
X-APPLE-STRUCTURED-LOCATION;VALUE=URI;X-ADDRESS=Llibreria Pàgina 3 Av. Morer 2 Oliva La Safor 46780;X-APPLE-RADIUS=500;X-TITLE=Av. Morer\, 2\,:geo:-0.1183551,38.9226125
END:VEVENT
END:VCALENDAR