BEGIN:VCALENDAR
VERSION:2.0
PRODID:-//FAMÍLIES PEL VALENCIÀ - ECPv6.15.20//NONSGML v1.0//EN
CALSCALE:GREGORIAN
METHOD:PUBLISH
X-ORIGINAL-URL:https://familiespelvalencia.org
X-WR-CALDESC:Esdeveniments per FAMÍLIES PEL VALENCIÀ
REFRESH-INTERVAL;VALUE=DURATION:PT1H
X-Robots-Tag:noindex
X-PUBLISHED-TTL:PT1H
BEGIN:VTIMEZONE
TZID:Europe/Paris
BEGIN:DAYLIGHT
TZOFFSETFROM:+0100
TZOFFSETTO:+0200
TZNAME:CEST
DTSTART:20250330T010000
END:DAYLIGHT
BEGIN:STANDARD
TZOFFSETFROM:+0200
TZOFFSETTO:+0100
TZNAME:CET
DTSTART:20251026T010000
END:STANDARD
BEGIN:DAYLIGHT
TZOFFSETFROM:+0100
TZOFFSETTO:+0200
TZNAME:CEST
DTSTART:20260329T010000
END:DAYLIGHT
BEGIN:STANDARD
TZOFFSETFROM:+0200
TZOFFSETTO:+0100
TZNAME:CET
DTSTART:20261025T010000
END:STANDARD
BEGIN:DAYLIGHT
TZOFFSETFROM:+0100
TZOFFSETTO:+0200
TZNAME:CEST
DTSTART:20270328T010000
END:DAYLIGHT
BEGIN:STANDARD
TZOFFSETFROM:+0200
TZOFFSETTO:+0100
TZNAME:CET
DTSTART:20271031T010000
END:STANDARD
END:VTIMEZONE
BEGIN:VEVENT
DTSTART;TZID=Europe/Paris:20260210T180000
DTEND;TZID=Europe/Paris:20260210T190000
DTSTAMP:20260421T020824
CREATED:20260209T204438Z
LAST-MODIFIED:20260209T204438Z
UID:10000935-1770746400-1770750000@familiespelvalencia.org
SUMMARY:Contacontes: Bona nit petit cocodril
DESCRIPTION:🐊🌙 *Torna EL LLIBRER CONTACONTES d’HIVERN* a El Cresol 📚❄️\nAquest *dimarts* encetem de nou la temporada d’hivern amb *Bona nit\, petit cocodril* d’Eva Montanari 💚 Un conte tendre sobre la cura\, l’afecte i els vincles que abracen 🫶🏽 \n📆 Dimarts 10 de Febrer\n⏰ 18:00h\n👦🏽 3–5 anys\n🗣️ En valencià\n📍 *Inscripció imprescindible* 👇🏽\nhttps://forms.gle/pWSLoNmMtdUdc2Dz6 \n🔍 On? a la Llibreria El cresol 👇🏽 https://g.page/ElCresol?share
URL:https://familiespelvalencia.org/activitat/contacontes-bona-nit-petit-cocodril/
LOCATION:Llibreria El Cresol\, C. del Músic Barbieri\, 7\,\, València\, 46018
CATEGORIES:València - districte capital
END:VEVENT
END:VCALENDAR