BEGIN:VCALENDAR
VERSION:2.0
PRODID:-//FAMÍLIES PEL VALENCIÀ - ECPv6.15.20//NONSGML v1.0//EN
CALSCALE:GREGORIAN
METHOD:PUBLISH
X-ORIGINAL-URL:https://familiespelvalencia.org
X-WR-CALDESC:Esdeveniments per FAMÍLIES PEL VALENCIÀ
REFRESH-INTERVAL;VALUE=DURATION:PT1H
X-Robots-Tag:noindex
X-PUBLISHED-TTL:PT1H
BEGIN:VTIMEZONE
TZID:Europe/Paris
BEGIN:DAYLIGHT
TZOFFSETFROM:+0100
TZOFFSETTO:+0200
TZNAME:CEST
DTSTART:20240331T010000
END:DAYLIGHT
BEGIN:STANDARD
TZOFFSETFROM:+0200
TZOFFSETTO:+0100
TZNAME:CET
DTSTART:20241027T010000
END:STANDARD
BEGIN:DAYLIGHT
TZOFFSETFROM:+0100
TZOFFSETTO:+0200
TZNAME:CEST
DTSTART:20250330T010000
END:DAYLIGHT
BEGIN:STANDARD
TZOFFSETFROM:+0200
TZOFFSETTO:+0100
TZNAME:CET
DTSTART:20251026T010000
END:STANDARD
BEGIN:DAYLIGHT
TZOFFSETFROM:+0100
TZOFFSETTO:+0200
TZNAME:CEST
DTSTART:20260329T010000
END:DAYLIGHT
BEGIN:STANDARD
TZOFFSETFROM:+0200
TZOFFSETTO:+0100
TZNAME:CET
DTSTART:20261025T010000
END:STANDARD
END:VTIMEZONE
BEGIN:VEVENT
DTSTART;TZID=Europe/Paris:20251207T130000
DTEND;TZID=Europe/Paris:20251207T140000
DTSTAMP:20260424T050116
CREATED:20251127T212402Z
LAST-MODIFIED:20251127T212402Z
UID:10000493-1765112400-1765116000@familiespelvalencia.org
SUMMARY:Concert. La Glüps Band
DESCRIPTION:La Fira de Faura és una cita amb segles d’història que manté viva la tradició i la il·lusió. Hui\, més que mai\, és un espai per retrobar-se amb la cultura\, la festa i la música. En aquest marc tan especial\, LA GLÜPS BAND arriba per omplir els carrers de ritme\, energia i bon humor. \nAmb un estil fresc i divertit\, el grup ofereix un espectacle pensat per a totes les edats\, però sobretot per a públic infantil i jove\, on la música es barreja amb la participació del públic i una posada en escena que no deixa indiferent. Una actuació que convertirà la Fira en un autèntic festival de somriures i cançons. \nMés informació: Ajuntament de Faura
URL:https://familiespelvalencia.org/activitat/concert-la-glups-band/
LOCATION:Faura\, Plaça mestre Enric Garcés\, Faura\, Camp de Morvedre\, 46512
CATEGORIES:Comarques Túria–Xúquer
ATTACH;FMTTYPE=image/jpeg:https://familiespelvalencia.org/wp-content/uploads/2025/11/Glups-band.jpg
GEO:39.7259623;-0.264033
X-APPLE-STRUCTURED-LOCATION;VALUE=URI;X-ADDRESS=Faura Plaça mestre Enric Garcés Faura Camp de Morvedre 46512;X-APPLE-RADIUS=500;X-TITLE=Plaça mestre Enric Garcés:geo:-0.264033,39.7259623
END:VEVENT
END:VCALENDAR