BEGIN:VCALENDAR
VERSION:2.0
PRODID:-//FAMÍLIES PEL VALENCIÀ - ECPv6.15.20//NONSGML v1.0//EN
CALSCALE:GREGORIAN
METHOD:PUBLISH
X-WR-CALNAME:FAMÍLIES PEL VALENCIÀ
X-ORIGINAL-URL:https://familiespelvalencia.org
X-WR-CALDESC:Esdeveniments per FAMÍLIES PEL VALENCIÀ
REFRESH-INTERVAL;VALUE=DURATION:PT1H
X-Robots-Tag:noindex
X-PUBLISHED-TTL:PT1H
BEGIN:VTIMEZONE
TZID:Europe/Paris
BEGIN:DAYLIGHT
TZOFFSETFROM:+0100
TZOFFSETTO:+0200
TZNAME:CEST
DTSTART:20240331T010000
END:DAYLIGHT
BEGIN:STANDARD
TZOFFSETFROM:+0200
TZOFFSETTO:+0100
TZNAME:CET
DTSTART:20241027T010000
END:STANDARD
BEGIN:DAYLIGHT
TZOFFSETFROM:+0100
TZOFFSETTO:+0200
TZNAME:CEST
DTSTART:20250330T010000
END:DAYLIGHT
BEGIN:STANDARD
TZOFFSETFROM:+0200
TZOFFSETTO:+0100
TZNAME:CET
DTSTART:20251026T010000
END:STANDARD
BEGIN:DAYLIGHT
TZOFFSETFROM:+0100
TZOFFSETTO:+0200
TZNAME:CEST
DTSTART:20260329T010000
END:DAYLIGHT
BEGIN:STANDARD
TZOFFSETFROM:+0200
TZOFFSETTO:+0100
TZNAME:CET
DTSTART:20261025T010000
END:STANDARD
END:VTIMEZONE
BEGIN:VEVENT
DTSTART;TZID=Europe/Paris:20251108T123000
DTEND;TZID=Europe/Paris:20251108T133000
DTSTAMP:20260424T052349
CREATED:20251020T152421Z
LAST-MODIFIED:20251107T144223Z
UID:10000126-1762605000-1762608600@familiespelvalencia.org
SUMMARY:Concert de Trobadorets
DESCRIPTION:Aquest concert forma part de la programació de la X Trobada de Dimonis de Morella.\n\nMés informació: Ajuntament de Morella
URL:https://familiespelvalencia.org/activitat/concert-de-trobadorets-4/
LOCATION:Espai firal Morella\, Calle Julian Prats 1\, Morella\, Castelló\, 12300\, Spain
GEO:40.6214408;-0.1023618
X-APPLE-STRUCTURED-LOCATION;VALUE=URI;X-ADDRESS=Espai firal Morella Calle Julian Prats 1 Morella Castelló 12300 Spain;X-APPLE-RADIUS=500;X-TITLE=Calle Julian Prats 1:geo:-0.1023618,40.6214408
END:VEVENT
END:VCALENDAR