BEGIN:VCALENDAR
VERSION:2.0
PRODID:-//FAMÍLIES PEL VALENCIÀ - ECPv6.15.20//NONSGML v1.0//EN
CALSCALE:GREGORIAN
METHOD:PUBLISH
X-WR-CALNAME:FAMÍLIES PEL VALENCIÀ
X-ORIGINAL-URL:https://familiespelvalencia.org
X-WR-CALDESC:Esdeveniments per FAMÍLIES PEL VALENCIÀ
REFRESH-INTERVAL;VALUE=DURATION:PT1H
X-Robots-Tag:noindex
X-PUBLISHED-TTL:PT1H
BEGIN:VTIMEZONE
TZID:Europe/Paris
BEGIN:DAYLIGHT
TZOFFSETFROM:+0100
TZOFFSETTO:+0200
TZNAME:CEST
DTSTART:20240331T010000
END:DAYLIGHT
BEGIN:STANDARD
TZOFFSETFROM:+0200
TZOFFSETTO:+0100
TZNAME:CET
DTSTART:20241027T010000
END:STANDARD
BEGIN:DAYLIGHT
TZOFFSETFROM:+0100
TZOFFSETTO:+0200
TZNAME:CEST
DTSTART:20250330T010000
END:DAYLIGHT
BEGIN:STANDARD
TZOFFSETFROM:+0200
TZOFFSETTO:+0100
TZNAME:CET
DTSTART:20251026T010000
END:STANDARD
BEGIN:DAYLIGHT
TZOFFSETFROM:+0100
TZOFFSETTO:+0200
TZNAME:CEST
DTSTART:20260329T010000
END:DAYLIGHT
BEGIN:STANDARD
TZOFFSETFROM:+0200
TZOFFSETTO:+0100
TZNAME:CET
DTSTART:20261025T010000
END:STANDARD
END:VTIMEZONE
BEGIN:VEVENT
DTSTART;TZID=Europe/Paris:20251224T121500
DTEND;TZID=Europe/Paris:20251224T133000
DTSTAMP:20260424T050615
CREATED:20251203T120301Z
LAST-MODIFIED:20251203T120301Z
UID:10000539-1766578500-1766583000@familiespelvalencia.org
SUMMARY:Concert Dani Miquel
DESCRIPTION:Concert Dani Miquel a Paiporta
URL:https://familiespelvalencia.org/activitat/concert-dani-miquel-13/
LOCATION:Església Sant Jordi\, Paiporta\, Plaça l'església\, Paiporta\, Horta Sud
CATEGORIES:Comarques Túria–Xúquer
ATTACH;FMTTYPE=image/jpeg:https://familiespelvalencia.org/wp-content/uploads/2025/12/dani-miquel-desembre-1.jpg
GEO:39.4287524;-0.4186571
X-APPLE-STRUCTURED-LOCATION;VALUE=URI;X-ADDRESS=Església Sant Jordi Paiporta Plaça l'església Paiporta Horta Sud;X-APPLE-RADIUS=500;X-TITLE=Plaça l'església:geo:-0.4186571,39.4287524
END:VEVENT
END:VCALENDAR