BEGIN:VCALENDAR
VERSION:2.0
PRODID:-//FAMÍLIES PEL VALENCIÀ - ECPv6.15.20//NONSGML v1.0//EN
CALSCALE:GREGORIAN
METHOD:PUBLISH
X-ORIGINAL-URL:https://familiespelvalencia.org
X-WR-CALDESC:Esdeveniments per FAMÍLIES PEL VALENCIÀ
REFRESH-INTERVAL;VALUE=DURATION:PT1H
X-Robots-Tag:noindex
X-PUBLISHED-TTL:PT1H
BEGIN:VTIMEZONE
TZID:Europe/Paris
BEGIN:DAYLIGHT
TZOFFSETFROM:+0100
TZOFFSETTO:+0200
TZNAME:CEST
DTSTART:20240331T010000
END:DAYLIGHT
BEGIN:STANDARD
TZOFFSETFROM:+0200
TZOFFSETTO:+0100
TZNAME:CET
DTSTART:20241027T010000
END:STANDARD
BEGIN:DAYLIGHT
TZOFFSETFROM:+0100
TZOFFSETTO:+0200
TZNAME:CEST
DTSTART:20250330T010000
END:DAYLIGHT
BEGIN:STANDARD
TZOFFSETFROM:+0200
TZOFFSETTO:+0100
TZNAME:CET
DTSTART:20251026T010000
END:STANDARD
BEGIN:DAYLIGHT
TZOFFSETFROM:+0100
TZOFFSETTO:+0200
TZNAME:CEST
DTSTART:20260329T010000
END:DAYLIGHT
BEGIN:STANDARD
TZOFFSETFROM:+0200
TZOFFSETTO:+0100
TZNAME:CET
DTSTART:20261025T010000
END:STANDARD
END:VTIMEZONE
BEGIN:VEVENT
DTSTART;TZID=Europe/Paris:20251220T180000
DTEND;TZID=Europe/Paris:20251220T190000
DTSTAMP:20260424T050359
CREATED:20251217T125431Z
LAST-MODIFIED:20251217T125431Z
UID:10000636-1766253600-1766257200@familiespelvalencia.org
SUMMARY:Contacontes: El conte de Nadal de Charles Dickens (Tio Vicent)
DESCRIPTION:Aquest Nadal\, viu una proposta especial amb el contacontes\, Joanvi Cubedo\, més conegut com El Tio Vicent. En aquesta ocasió ens sorprèn amb una adaptació pròpia del clàssic de Charles Dickens\, presentada amb la seua frescor i proximitat habitual. Una història carregada d’emoció\, valors i esperit nadalenc\, pensada per a gaudir en família. El Tio Vicent transforma un relat universal en una experiència propera\, plena d’humor\, tendresa i la màgia de la tradició oral en valencià. No perdes l’oportunitat de viure una cita que uneix literatura\, cultura i la calidesa del Nadal. Vine a compartir contes\, somriures i bons desitjos! \nPúblic familiar. \nMés informacuó: Ajuntament de Quatretonda \n 
URL:https://familiespelvalencia.org/activitat/contacontes-el-conte-de-nadal-de-charles-dickens-tio-vicent/
LOCATION:Centre Social.- Quatretonda\, C/ Llutxent\, 1\, Quatretonda\, Vall d'Albaida\, 46837
CATEGORIES:Comarques centrals
ATTACH;FMTTYPE=image/jpeg:https://familiespelvalencia.org/wp-content/uploads/2025/11/El-tio-Vicent-Charles-Dickens.jpg
GEO:38.9449442;-0.3999839
X-APPLE-STRUCTURED-LOCATION;VALUE=URI;X-ADDRESS=Centre Social.- Quatretonda C/ Llutxent 1 Quatretonda Vall d'Albaida 46837;X-APPLE-RADIUS=500;X-TITLE=C/ Llutxent\, 1:geo:-0.3999839,38.9449442
END:VEVENT
END:VCALENDAR