BEGIN:VCALENDAR
VERSION:2.0
PRODID:-//FAMÍLIES PEL VALENCIÀ - ECPv6.15.20//NONSGML v1.0//EN
CALSCALE:GREGORIAN
METHOD:PUBLISH
X-ORIGINAL-URL:https://familiespelvalencia.org
X-WR-CALDESC:Esdeveniments per FAMÍLIES PEL VALENCIÀ
REFRESH-INTERVAL;VALUE=DURATION:PT1H
X-Robots-Tag:noindex
X-PUBLISHED-TTL:PT1H
BEGIN:VTIMEZONE
TZID:Europe/Paris
BEGIN:DAYLIGHT
TZOFFSETFROM:+0100
TZOFFSETTO:+0200
TZNAME:CEST
DTSTART:20240331T010000
END:DAYLIGHT
BEGIN:STANDARD
TZOFFSETFROM:+0200
TZOFFSETTO:+0100
TZNAME:CET
DTSTART:20241027T010000
END:STANDARD
BEGIN:DAYLIGHT
TZOFFSETFROM:+0100
TZOFFSETTO:+0200
TZNAME:CEST
DTSTART:20250330T010000
END:DAYLIGHT
BEGIN:STANDARD
TZOFFSETFROM:+0200
TZOFFSETTO:+0100
TZNAME:CET
DTSTART:20251026T010000
END:STANDARD
BEGIN:DAYLIGHT
TZOFFSETFROM:+0100
TZOFFSETTO:+0200
TZNAME:CEST
DTSTART:20260329T010000
END:DAYLIGHT
BEGIN:STANDARD
TZOFFSETFROM:+0200
TZOFFSETTO:+0100
TZNAME:CET
DTSTART:20261025T010000
END:STANDARD
END:VTIMEZONE
BEGIN:VEVENT
DTSTART;TZID=Europe/Paris:20251116T124247
DTEND;TZID=Europe/Paris:20251116T124247
DTSTAMP:20260424T052452
CREATED:20251020T152436Z
LAST-MODIFIED:20251116T104247Z
UID:10000134-1763296967-1763296967@familiespelvalencia.org
SUMMARY:Contacontes- De bat a bat (XI edició de la Ruta de Contacontes de l’Alcoià i el Comtat)
DESCRIPTION:La Ruta de Contacontes de la Mancomunitat Alcoià Comtat torna enguany amb la seua XI edició. Aquesta proposta cultural\, que arranca el pròxim 19 d’abril a Alcosser\, oferirà als veïns i veïnes dels pobles de la Mancomunitat l’oportunitat de gaudir d’una oferta cultural ampliada. Fins al 16 de novembre (la representació a Alfafara tancarà el cicle)\, rondalles i llegendes tradicionals seran protagonistes d’aquesta ruta que visitarà els quinze municipis de la comarca. \nAmb l’objectiu de dinamitzar l’oci i la cultura als nostres municipis\, la Ruta de Contacontes presenta una oportunitat per fomentar la movilitat turística a les comarques. Aquesta edició comptarà amb espectacles de narració oral a càrrec de Silvia Colomer\, Carles Llinares\, Jordi Carbonell\, Lorena Comín i molts altres. Els espectacles\, de caràcter gratuït i d’accés lliure\, permetran que tota la comunitat\, des dels més petits fins als adults\, forme part d’un univers màgic de contes i històries populars. \nAquesta XI edició de la Ruta de Contacontes es prepara amb la col·laboració de la Coordinadora Alcoià Comtat pel Valencià i Escoles Valencianes. En aquest cicle\, la narració de contes es el vehicle per transmetre les nostres arrels\, la Ruta de Contacontes de l’Alcoià i el Comtat es consolida en una oferta que\, any rere any\, transforma els espais públics en punts de trobada i cohesió cultural.
URL:https://familiespelvalencia.org/activitat/contacontes-de-bat-a-bat-xi-edicio-de-la-ruta-de-contacontes-de-lalcoia-i-el-comtat-2/
LOCATION:Centre Cultural “El Patronat” Alfafara\, Carrer de la Mateta\, 12\, Alfafara\, Alacant\, 03838\, Spain
CATEGORIES:Comarques del sud
GEO:38.7710901;-0.5553263
X-APPLE-STRUCTURED-LOCATION;VALUE=URI;X-ADDRESS=Centre Cultural “El Patronat” Alfafara Carrer de la Mateta 12 Alfafara Alacant 03838 Spain;X-APPLE-RADIUS=500;X-TITLE=Carrer de la Mateta\, 12:geo:-0.5553263,38.7710901
END:VEVENT
END:VCALENDAR