BEGIN:VCALENDAR
VERSION:2.0
PRODID:-//FAMÍLIES PEL VALENCIÀ - ECPv6.15.20//NONSGML v1.0//EN
CALSCALE:GREGORIAN
METHOD:PUBLISH
X-WR-CALNAME:FAMÍLIES PEL VALENCIÀ
X-ORIGINAL-URL:https://familiespelvalencia.org
X-WR-CALDESC:Esdeveniments per FAMÍLIES PEL VALENCIÀ
REFRESH-INTERVAL;VALUE=DURATION:PT1H
X-Robots-Tag:noindex
X-PUBLISHED-TTL:PT1H
BEGIN:VTIMEZONE
TZID:Europe/Paris
BEGIN:DAYLIGHT
TZOFFSETFROM:+0100
TZOFFSETTO:+0200
TZNAME:CEST
DTSTART:20240331T010000
END:DAYLIGHT
BEGIN:STANDARD
TZOFFSETFROM:+0200
TZOFFSETTO:+0100
TZNAME:CET
DTSTART:20241027T010000
END:STANDARD
BEGIN:DAYLIGHT
TZOFFSETFROM:+0100
TZOFFSETTO:+0200
TZNAME:CEST
DTSTART:20250330T010000
END:DAYLIGHT
BEGIN:STANDARD
TZOFFSETFROM:+0200
TZOFFSETTO:+0100
TZNAME:CET
DTSTART:20251026T010000
END:STANDARD
BEGIN:DAYLIGHT
TZOFFSETFROM:+0100
TZOFFSETTO:+0200
TZNAME:CEST
DTSTART:20260329T010000
END:DAYLIGHT
BEGIN:STANDARD
TZOFFSETFROM:+0200
TZOFFSETTO:+0100
TZNAME:CET
DTSTART:20261025T010000
END:STANDARD
END:VTIMEZONE
BEGIN:VEVENT
DTSTART;TZID=Europe/Paris:20251221T120000
DTEND;TZID=Europe/Paris:20251221T130000
DTSTAMP:20260424T050819
CREATED:20251126T142907Z
LAST-MODIFIED:20251217T124313Z
UID:10000479-1766318400-1766322000@familiespelvalencia.org
SUMMARY:Contacontes: El conte de Nadal de Charles Dickens versió de Joanvi Cubedo (Tio Vicent)
DESCRIPTION:Aquest Nadal\, gaudeix d’una experiència única amb el nostre estimat contacontes Joanvi Cubedo\, conegut com El tio Vicent. En aquesta ocasió ens porta la seua versió especial del clàssic de Charles Dickens\, adaptada amb la seua inconfusible gràcia i proximitat. Una narració plena d’emoció\, valors i esperit nadalenc\, pensada per a tota la família. El Tio Vicent aconsegueix transformar una història universal en un relat proper\, amb humor\, tendresa i la màgia de la tradició oral en valencià. \nNo deixes passar aquesta cita que combina literatura\, cultura i la calidesa del Nadal. T’esperem per compartir contes\, somriures i bons desitjos! \n*A l’escenari de la Fira de Nadal de Santa Llúcia
URL:https://familiespelvalencia.org/activitat/contacontes-el-conte-de-nadal-de-charles-dickens-versio-de-joanvi-cubedo-tio-vicent-2/
LOCATION:Castelló (La Ribera)\, Plaça de l'Ajuntament\, Castelló (La Ribera)\, 46270
CATEGORIES:Comarques Túria–Xúquer
ATTACH;FMTTYPE=image/jpeg:https://familiespelvalencia.org/wp-content/uploads/2025/11/El-tio-Vicent-Charles-Dickens.jpg
GEO:39.079596;-0.5143623
X-APPLE-STRUCTURED-LOCATION;VALUE=URI;X-ADDRESS=Castelló (La Ribera) Plaça de l'Ajuntament Castelló (La Ribera) 46270;X-APPLE-RADIUS=500;X-TITLE=Plaça de l'Ajuntament:geo:-0.5143623,39.079596
END:VEVENT
END:VCALENDAR