BEGIN:VCALENDAR
VERSION:2.0
PRODID:-//FAMÍLIES PEL VALENCIÀ - ECPv6.15.20//NONSGML v1.0//EN
CALSCALE:GREGORIAN
METHOD:PUBLISH
X-WR-CALNAME:FAMÍLIES PEL VALENCIÀ
X-ORIGINAL-URL:https://familiespelvalencia.org
X-WR-CALDESC:Esdeveniments per FAMÍLIES PEL VALENCIÀ
REFRESH-INTERVAL;VALUE=DURATION:PT1H
X-Robots-Tag:noindex
X-PUBLISHED-TTL:PT1H
BEGIN:VTIMEZONE
TZID:Europe/Paris
BEGIN:DAYLIGHT
TZOFFSETFROM:+0100
TZOFFSETTO:+0200
TZNAME:CEST
DTSTART:20240331T010000
END:DAYLIGHT
BEGIN:STANDARD
TZOFFSETFROM:+0200
TZOFFSETTO:+0100
TZNAME:CET
DTSTART:20241027T010000
END:STANDARD
BEGIN:DAYLIGHT
TZOFFSETFROM:+0100
TZOFFSETTO:+0200
TZNAME:CEST
DTSTART:20250330T010000
END:DAYLIGHT
BEGIN:STANDARD
TZOFFSETFROM:+0200
TZOFFSETTO:+0100
TZNAME:CET
DTSTART:20251026T010000
END:STANDARD
BEGIN:DAYLIGHT
TZOFFSETFROM:+0100
TZOFFSETTO:+0200
TZNAME:CEST
DTSTART:20260329T010000
END:DAYLIGHT
BEGIN:STANDARD
TZOFFSETFROM:+0200
TZOFFSETTO:+0100
TZNAME:CET
DTSTART:20261025T010000
END:STANDARD
END:VTIMEZONE
BEGIN:VEVENT
DTSTART;TZID=Europe/Paris:20251230T180000
DTEND;TZID=Europe/Paris:20251230T190000
DTSTAMP:20260421T071542
CREATED:20251209T134658Z
LAST-MODIFIED:20251209T134658Z
UID:10000576-1767117600-1767121200@familiespelvalencia.org
SUMMARY:Titelles. Babau
DESCRIPTION:Cia. Periferia Teatro \nAl Pol Sud\, un dels llocs de la terra on fa més fred \, viu la família Pingüí. La mare Pingüí\, al matí cuida de la casa i a la tarda pesca. El pare Pingüí\, al matí pesca i a la tarda cuida de la casa. I el xicotet Babau fa el que més li agrada\, menja i juga tot el dia. Però alguna cosa està canviant\, el Babau està a punt de viure una sorprenent aventura: avui els seus pares li han dit que aviat tindrà un germanet! A través de les divertides peripècies d’un petit pingüí\, es tracten en clau d’humor situacions quotidianes de la vida entre pares i fills. Amb Babau abordem el tema de la difícil situació a la qual s’enfronta un xiquet quan ha de compartir l’afecte i l’atenció dels seus pares amb un nou membre en la família. El nostre “príncep destronat“ haurà de superar aquesta prova adonant-se que ha guanyat un amic per a tota la vida. \nPúblic familiar a partir de 3 anys //  Durada: 60 min \nMés informació: Ajuntament de Sagunt \nTràiler Babau
URL:https://familiespelvalencia.org/activitat/titelles-babau/
LOCATION:Casa Municipal de Cultura.- Sagunt\, C/Progrés 9 (Port de Sagunt)\, Sagunt\, Camp de Morvedre\, 46520
CATEGORIES:Comarques Túria–Xúquer
ATTACH;FMTTYPE=image/png:https://familiespelvalencia.org/wp-content/uploads/2025/12/Babau.png
GEO:39.6585247;-0.2194284
X-APPLE-STRUCTURED-LOCATION;VALUE=URI;X-ADDRESS=Casa Municipal de Cultura.- Sagunt C/Progrés 9 (Port de Sagunt) Sagunt Camp de Morvedre 46520;X-APPLE-RADIUS=500;X-TITLE=C/Progrés 9 (Port de Sagunt):geo:-0.2194284,39.6585247
END:VEVENT
END:VCALENDAR