BEGIN:VCALENDAR
VERSION:2.0
PRODID:-//FAMÍLIES PEL VALENCIÀ - ECPv6.15.20//NONSGML v1.0//EN
CALSCALE:GREGORIAN
METHOD:PUBLISH
X-WR-CALNAME:FAMÍLIES PEL VALENCIÀ
X-ORIGINAL-URL:https://familiespelvalencia.org
X-WR-CALDESC:Esdeveniments per FAMÍLIES PEL VALENCIÀ
REFRESH-INTERVAL;VALUE=DURATION:PT1H
X-Robots-Tag:noindex
X-PUBLISHED-TTL:PT1H
BEGIN:VTIMEZONE
TZID:Europe/Paris
BEGIN:DAYLIGHT
TZOFFSETFROM:+0100
TZOFFSETTO:+0200
TZNAME:CEST
DTSTART:20250330T010000
END:DAYLIGHT
BEGIN:STANDARD
TZOFFSETFROM:+0200
TZOFFSETTO:+0100
TZNAME:CET
DTSTART:20251026T010000
END:STANDARD
BEGIN:DAYLIGHT
TZOFFSETFROM:+0100
TZOFFSETTO:+0200
TZNAME:CEST
DTSTART:20260329T010000
END:DAYLIGHT
BEGIN:STANDARD
TZOFFSETFROM:+0200
TZOFFSETTO:+0100
TZNAME:CET
DTSTART:20261025T010000
END:STANDARD
BEGIN:DAYLIGHT
TZOFFSETFROM:+0100
TZOFFSETTO:+0200
TZNAME:CEST
DTSTART:20270328T010000
END:DAYLIGHT
BEGIN:STANDARD
TZOFFSETFROM:+0200
TZOFFSETTO:+0100
TZNAME:CET
DTSTART:20271031T010000
END:STANDARD
END:VTIMEZONE
BEGIN:VEVENT
DTSTART;TZID=Europe/Paris:20260426T120000
DTEND;TZID=Europe/Paris:20260426T130000
DTSTAMP:20260424T044438
CREATED:20260407T134115Z
LAST-MODIFIED:20260407T135111Z
UID:10001205-1777204800-1777208400@familiespelvalencia.org
SUMMARY:Teatre. On estan els monstres?
DESCRIPTION:Abans\, a Maria li feia por la foscor… i els trons i la profe de mates… fins i tot els monstres! Un dia\, va conèixer el món de les espantacriatures i se’n va fer amiga. Maria s’ha d’endinsar en el món de la por\, la tristesa i la ràbia per vèncer la bruixa dolenta i trobar els monstres perduts. El Butoni\, la Bubota i el Banyeta necessiten la vostra ajuda! Disparatario cia. us convida a gaudir d’un viatge ple d’aventures i màgia\, amb la participació del públic. Contacontes\, màgia\, titelles i animació. \nDurada 50 minuts \nMés informació i venda d’entrades: Casa de la Cultura de Museros \nAvanç en vídeo: On estan els monstres? 
URL:https://familiespelvalencia.org/activitat/7914/
LOCATION:Casa de la Cultura de Museros\, Avinguda País Valencià\, 17\, Museros\, 46136
CATEGORIES:Comarques Túria–Xúquer
ATTACH;FMTTYPE=image/jpeg:https://familiespelvalencia.org/wp-content/uploads/2026/04/On-estan-els-monstres.jpg
GEO:39.5631141;-0.3430851
X-APPLE-STRUCTURED-LOCATION;VALUE=URI;X-ADDRESS=Casa de la Cultura de Museros Avinguda País Valencià 17 Museros 46136;X-APPLE-RADIUS=500;X-TITLE=Avinguda País Valencià\, 17:geo:-0.3430851,39.5631141
END:VEVENT
END:VCALENDAR