BEGIN:VCALENDAR
VERSION:2.0
PRODID:-//FAMÍLIES PEL VALENCIÀ - ECPv6.15.20//NONSGML v1.0//EN
CALSCALE:GREGORIAN
METHOD:PUBLISH
X-WR-CALNAME:FAMÍLIES PEL VALENCIÀ
X-ORIGINAL-URL:https://familiespelvalencia.org
X-WR-CALDESC:Esdeveniments per FAMÍLIES PEL VALENCIÀ
REFRESH-INTERVAL;VALUE=DURATION:PT1H
X-Robots-Tag:noindex
X-PUBLISHED-TTL:PT1H
BEGIN:VTIMEZONE
TZID:Europe/Paris
BEGIN:DAYLIGHT
TZOFFSETFROM:+0100
TZOFFSETTO:+0200
TZNAME:CEST
DTSTART:20240331T010000
END:DAYLIGHT
BEGIN:STANDARD
TZOFFSETFROM:+0200
TZOFFSETTO:+0100
TZNAME:CET
DTSTART:20241027T010000
END:STANDARD
BEGIN:DAYLIGHT
TZOFFSETFROM:+0100
TZOFFSETTO:+0200
TZNAME:CEST
DTSTART:20250330T010000
END:DAYLIGHT
BEGIN:STANDARD
TZOFFSETFROM:+0200
TZOFFSETTO:+0100
TZNAME:CET
DTSTART:20251026T010000
END:STANDARD
BEGIN:DAYLIGHT
TZOFFSETFROM:+0100
TZOFFSETTO:+0200
TZNAME:CEST
DTSTART:20260329T010000
END:DAYLIGHT
BEGIN:STANDARD
TZOFFSETFROM:+0200
TZOFFSETTO:+0100
TZNAME:CET
DTSTART:20261025T010000
END:STANDARD
BEGIN:DAYLIGHT
TZOFFSETFROM:+0100
TZOFFSETTO:+0200
TZNAME:CEST
DTSTART:20270328T010000
END:DAYLIGHT
BEGIN:STANDARD
TZOFFSETFROM:+0200
TZOFFSETTO:+0100
TZNAME:CET
DTSTART:20271031T010000
END:STANDARD
END:VTIMEZONE
BEGIN:VEVENT
DTSTART;TZID=Europe/Paris:20260417T173000
DTEND;TZID=Europe/Paris:20260417T183000
DTSTAMP:20260424T050501
CREATED:20260414T143418Z
LAST-MODIFIED:20260414T150011Z
UID:10001216-1776447000-1776450600@familiespelvalencia.org
SUMMARY:Sambori local + Actuació Dani Miquel
DESCRIPTION:Dins de la Setmana del Llibre de Museros\, que se celebra del 17 al 26 d’abril amb una programació plena de lletres\, històries i propostes per a tots els públics\, arriba una de les cites més esperades: el Sambori Local\, que culminarà amb una actuació de Dani Miquel. L’acte tindrà lloc el 17 d’abril a la Casa de la Cultura de Museros\, en una vesprada festiva que posa en valor la creativitat de l’alumnat\, el gust per la lectura i el paper fonamental de l’escola i la cultura en valencià. La música i l’energia de Dani Miquel posaran el punt final a una celebració col·lectiva del plaer de llegir\, compartir i viure la llengua en comunitat. Una proposta per a gaudir en família i donar la benvinguda a una Setmana del Llibre que ompli Museros de cultura\, música i il·lusió. \nMés informació i venda d’entrades: Casa de la Cultura de Museros
URL:https://familiespelvalencia.org/activitat/sambori-local-actuacio-dani-miquel/
LOCATION:Casa de la Cultura de Museros\, Avinguda País Valencià\, 17\, Museros\, 46136
CATEGORIES:Comarques Túria–Xúquer
ATTACH;FMTTYPE=image/jpeg:https://familiespelvalencia.org/wp-content/uploads/2026/04/Sambori-i-dani-miquel.jpg
GEO:39.5631141;-0.3430851
X-APPLE-STRUCTURED-LOCATION;VALUE=URI;X-ADDRESS=Casa de la Cultura de Museros Avinguda País Valencià 17 Museros 46136;X-APPLE-RADIUS=500;X-TITLE=Avinguda País Valencià\, 17:geo:-0.3430851,39.5631141
END:VEVENT
BEGIN:VEVENT
DTSTART;TZID=Europe/Paris:20251205T193000
DTEND;TZID=Europe/Paris:20251205T210000
DTSTAMP:20260424T050501
CREATED:20251126T135544Z
LAST-MODIFIED:20251126T210921Z
UID:10000477-1764963000-1764968400@familiespelvalencia.org
SUMMARY:Teatre: El Grinch
DESCRIPTION:Astut\, ràpid\, solitari i divertit\, així és el Grinch\, el millor lladre de regals. Però aquesta vegada s’ha equivocat\, el Nadal és per als xiquets i xiquetes\, i robar els seus regals no ha sigut una bona idea\, perquè s’encarregaran de recuperar-los\, gràcies a l’ajuda de Cindy. Una història en què l’amistat juga un gran paper\, i més en aquestes dates tan especials. Un espectacle amb titelles i actrius que agraeix la participació de tot el públic\, especialment l’infantil. Amb cançons de Nadal\, persecucions\, balls\, paranys i molt més. El més important: que cap persona estiga sola en Nadal\, siga peluda o ossuda. \nMés informació i compra d’entrades: Casa de Cultura Museros
URL:https://familiespelvalencia.org/activitat/teatre-el-grinch/
LOCATION:Casa de la Cultura de Museros\, Avinguda País Valencià\, 17\, Museros\, 46136
CATEGORIES:Comarques Túria–Xúquer
GEO:39.5631141;-0.3430851
X-APPLE-STRUCTURED-LOCATION;VALUE=URI;X-ADDRESS=Casa de la Cultura de Museros Avinguda País Valencià 17 Museros 46136;X-APPLE-RADIUS=500;X-TITLE=Avinguda País Valencià\, 17:geo:-0.3430851,39.5631141
END:VEVENT
END:VCALENDAR