BEGIN:VCALENDAR
VERSION:2.0
PRODID:-//FAMÍLIES PEL VALENCIÀ - ECPv6.15.20//NONSGML v1.0//EN
CALSCALE:GREGORIAN
METHOD:PUBLISH
X-ORIGINAL-URL:https://familiespelvalencia.org
X-WR-CALDESC:Esdeveniments per FAMÍLIES PEL VALENCIÀ
REFRESH-INTERVAL;VALUE=DURATION:PT1H
X-Robots-Tag:noindex
X-PUBLISHED-TTL:PT1H
BEGIN:VTIMEZONE
TZID:Europe/Paris
BEGIN:DAYLIGHT
TZOFFSETFROM:+0100
TZOFFSETTO:+0200
TZNAME:CEST
DTSTART:20250330T010000
END:DAYLIGHT
BEGIN:STANDARD
TZOFFSETFROM:+0200
TZOFFSETTO:+0100
TZNAME:CET
DTSTART:20251026T010000
END:STANDARD
BEGIN:DAYLIGHT
TZOFFSETFROM:+0100
TZOFFSETTO:+0200
TZNAME:CEST
DTSTART:20260329T010000
END:DAYLIGHT
BEGIN:STANDARD
TZOFFSETFROM:+0200
TZOFFSETTO:+0100
TZNAME:CET
DTSTART:20261025T010000
END:STANDARD
BEGIN:DAYLIGHT
TZOFFSETFROM:+0100
TZOFFSETTO:+0200
TZNAME:CEST
DTSTART:20270328T010000
END:DAYLIGHT
BEGIN:STANDARD
TZOFFSETFROM:+0200
TZOFFSETTO:+0100
TZNAME:CET
DTSTART:20271031T010000
END:STANDARD
END:VTIMEZONE
BEGIN:VEVENT
DTSTART;TZID=Europe/Paris:20260225T173000
DTEND;TZID=Europe/Paris:20260225T183000
DTSTAMP:20260420T233052
CREATED:20260209T212658Z
LAST-MODIFIED:20260209T212658Z
UID:10000942-1772040600-1772044200@familiespelvalencia.org
SUMMARY:Contacontes i taller: "Nuvolot\, lo Rat Penat"
DESCRIPTION:Impartit per Fanny Pérez\nCONTACONTES I TALLER\nEnguany fa 750 anys de la mort d’al-Azraq. Les Biblioteques de Gandia ho commemoren amb una història per a la canalla\, plena de llegenda i imaginació\, narrada per un ratpenat.\nOrganitza: IMAB/Biblioteques Gandia
URL:https://familiespelvalencia.org/activitat/contacontes-i-taller-nuvolot-lo-rat-penat-3/
LOCATION:Biblioteca de Santa Anna\, Gandia\, Carrer Santa Anna\, 46701\, Gandia\, La Safor
CATEGORIES:Comarques centrals
ATTACH;FMTTYPE=image/jpeg:https://familiespelvalencia.org/wp-content/uploads/2026/02/baixa-1.jpg
END:VEVENT
END:VCALENDAR