BEGIN:VCALENDAR
VERSION:2.0
PRODID:-//FAMÍLIES PEL VALENCIÀ - ECPv6.15.20//NONSGML v1.0//EN
CALSCALE:GREGORIAN
METHOD:PUBLISH
X-ORIGINAL-URL:https://familiespelvalencia.org
X-WR-CALDESC:Esdeveniments per FAMÍLIES PEL VALENCIÀ
REFRESH-INTERVAL;VALUE=DURATION:PT1H
X-Robots-Tag:noindex
X-PUBLISHED-TTL:PT1H
BEGIN:VTIMEZONE
TZID:Europe/Paris
BEGIN:DAYLIGHT
TZOFFSETFROM:+0100
TZOFFSETTO:+0200
TZNAME:CEST
DTSTART:20240331T010000
END:DAYLIGHT
BEGIN:STANDARD
TZOFFSETFROM:+0200
TZOFFSETTO:+0100
TZNAME:CET
DTSTART:20241027T010000
END:STANDARD
BEGIN:DAYLIGHT
TZOFFSETFROM:+0100
TZOFFSETTO:+0200
TZNAME:CEST
DTSTART:20250330T010000
END:DAYLIGHT
BEGIN:STANDARD
TZOFFSETFROM:+0200
TZOFFSETTO:+0100
TZNAME:CET
DTSTART:20251026T010000
END:STANDARD
BEGIN:DAYLIGHT
TZOFFSETFROM:+0100
TZOFFSETTO:+0200
TZNAME:CEST
DTSTART:20260329T010000
END:DAYLIGHT
BEGIN:STANDARD
TZOFFSETFROM:+0200
TZOFFSETTO:+0100
TZNAME:CET
DTSTART:20261025T010000
END:STANDARD
BEGIN:DAYLIGHT
TZOFFSETFROM:+0100
TZOFFSETTO:+0200
TZNAME:CEST
DTSTART:20270328T010000
END:DAYLIGHT
BEGIN:STANDARD
TZOFFSETFROM:+0200
TZOFFSETTO:+0100
TZNAME:CET
DTSTART:20271031T010000
END:STANDARD
END:VTIMEZONE
BEGIN:VEVENT
DTSTART;TZID=Europe/Paris:20260213T180000
DTEND;TZID=Europe/Paris:20260213T190000
DTSTAMP:20260424T050948
CREATED:20260126T220237Z
LAST-MODIFIED:20260126T220237Z
UID:10000770-1771005600-1771009200@familiespelvalencia.org
SUMMARY:Cau de contes: “Sota del garrofer”(Patricia Pizaco)
DESCRIPTION:Cau de contes: “Sota del garrofer”(Patricia Pizaco) \nRecomanat per a xiquets a partir de 4 anys. \nEntrada lliure i gratuïta. \nSinopsi: Cercant el silenci una xiqueta es troba amb l’horta d’en Facundo i la garrofera d’en Llorenç. En aquests llocs descobrirà com és el cant dels ocells o quines històries s’amaguen darrere de qualsevol persona\, animal o planta d’aquest món.
URL:https://familiespelvalencia.org/activitat/cau-de-contes-sota-del-garroferpatricia-pizaco/
LOCATION:Biblioteca d’Altea\, casa de la cultura\, Costera Pont del Montcau\, 14\, Altea\, Marina Baixa
CATEGORIES:Comarques centrals
ATTACH;FMTTYPE=image/webp:https://familiespelvalencia.org/wp-content/uploads/2026/01/CauDeContes_GenFeb2026_Cartell-01-1086x1536-1.webp
GEO:38.6003995;-0.0491725
X-APPLE-STRUCTURED-LOCATION;VALUE=URI;X-ADDRESS=Biblioteca d’Altea casa de la cultura Costera Pont del Montcau 14 Altea Marina Baixa;X-APPLE-RADIUS=500;X-TITLE=Costera Pont del Montcau\, 14:geo:-0.0491725,38.6003995
END:VEVENT
BEGIN:VEVENT
DTSTART;TZID=Europe/Paris:20260102T183000
DTEND;TZID=Europe/Paris:20260102T200000
DTSTAMP:20260424T050948
CREATED:20251211T100616Z
LAST-MODIFIED:20251211T100616Z
UID:10000597-1767378600-1767384000@familiespelvalencia.org
SUMMARY:Cinema en valencià: Gru 4
DESCRIPTION:Gru\, Lucy i les xiquetes -Margo\, Edith i Agnes- donen la benvinguda a un nou membre en la familia: Gru Júnior\, que sembla arribar amb el propòsit de ser un suplici per al seu pare. Gru haurà d’enfrontar-se en aquesta ocasió a la seua nova nèmesis Maxime Le Mal i la seua sofisticada i malévola núvia Valentina\, la qual cosa obligarà la familia a haber de fugir.
URL:https://familiespelvalencia.org/activitat/cinema-en-valencia-gru-4/
LOCATION:Biblioteca d’Altea\, casa de la cultura\, Costera Pont del Montcau\, 14\, Altea\, Marina Baixa
CATEGORIES:Comarques centrals
ATTACH;FMTTYPE=image/jpeg:https://familiespelvalencia.org/wp-content/uploads/2025/12/gru-4.jpg
GEO:38.6003995;-0.0491725
X-APPLE-STRUCTURED-LOCATION;VALUE=URI;X-ADDRESS=Biblioteca d’Altea casa de la cultura Costera Pont del Montcau 14 Altea Marina Baixa;X-APPLE-RADIUS=500;X-TITLE=Costera Pont del Montcau\, 14:geo:-0.0491725,38.6003995
END:VEVENT
BEGIN:VEVENT
DTSTART;TZID=Europe/Paris:20251228T183000
DTEND;TZID=Europe/Paris:20251228T200000
DTSTAMP:20260424T050948
CREATED:20251211T100455Z
LAST-MODIFIED:20251211T100455Z
UID:10000596-1766946600-1766952000@familiespelvalencia.org
SUMMARY:Cinema en valencià: Bola de drac: Superhero
DESCRIPTION:Son Goku va destruir en el seu moment a la Patrulla Roja. Ara\, certs individus han decidit continuar amb el seu llegat i han creat els androides definitius: Gamma 1 i Gamma 2. Aquest dos androides s’autoproclamen “superherois” i decideixen atacar a Piccolo i a Gohan. Quin és l’objectiu de la nova Patrulla Roja? \nDavant un perill imminent\, arriba el moment del despertar del Superheroi!
URL:https://familiespelvalencia.org/activitat/cinema-en-valencia-bola-de-drac-superhero/
LOCATION:Biblioteca d’Altea\, casa de la cultura\, Costera Pont del Montcau\, 14\, Altea\, Marina Baixa
CATEGORIES:Comarques centrals
ATTACH;FMTTYPE=image/jpeg:https://familiespelvalencia.org/wp-content/uploads/2025/12/bola-de-drac.jpg
GEO:38.6003995;-0.0491725
X-APPLE-STRUCTURED-LOCATION;VALUE=URI;X-ADDRESS=Biblioteca d’Altea casa de la cultura Costera Pont del Montcau 14 Altea Marina Baixa;X-APPLE-RADIUS=500;X-TITLE=Costera Pont del Montcau\, 14:geo:-0.0491725,38.6003995
END:VEVENT
BEGIN:VEVENT
DTSTART;TZID=Europe/Paris:20251226T183000
DTEND;TZID=Europe/Paris:20251226T200000
DTSTAMP:20260424T050948
CREATED:20251211T100304Z
LAST-MODIFIED:20251211T100304Z
UID:10000594-1766773800-1766779200@familiespelvalencia.org
SUMMARY:Cinema en valencià: Vaiana 2
DESCRIPTION:Després de rebre una inesperada crida dels seus avantpassats\, Vaiana ha de viajar a les llunyanes mars d’Oceania i endinsar-se en perilloses aigües perdudes per a viure una aventura sense precedents.
URL:https://familiespelvalencia.org/activitat/cinema-en-valencia-vaiana-2/
LOCATION:Biblioteca d’Altea\, casa de la cultura\, Costera Pont del Montcau\, 14\, Altea\, Marina Baixa
CATEGORIES:Comarques centrals
ATTACH;FMTTYPE=image/jpeg:https://familiespelvalencia.org/wp-content/uploads/2025/12/vaiana-2.jpg
GEO:38.6003995;-0.0491725
X-APPLE-STRUCTURED-LOCATION;VALUE=URI;X-ADDRESS=Biblioteca d’Altea casa de la cultura Costera Pont del Montcau 14 Altea Marina Baixa;X-APPLE-RADIUS=500;X-TITLE=Costera Pont del Montcau\, 14:geo:-0.0491725,38.6003995
END:VEVENT
BEGIN:VEVENT
DTSTART;TZID=Europe/Paris:20251220T120000
DTEND;TZID=Europe/Paris:20251220T130000
DTSTAMP:20260424T050948
CREATED:20251127T145703Z
LAST-MODIFIED:20251201T221031Z
UID:10000491-1766232000-1766235600@familiespelvalencia.org
SUMMARY:Cau de contes. Contacontes amb Silvia Colomer.
DESCRIPTION:Contacontes realitzat per Sílvia Colomer per a xiquetes i xiquets a partir de 4 anys. \n 
URL:https://familiespelvalencia.org/activitat/cau-de-contes-contacontes-amb-silvia-colomer/
LOCATION:Biblioteca d’Altea\, casa de la cultura\, Costera Pont del Montcau\, 14\, Altea\, Marina Baixa
CATEGORIES:Comarques centrals
GEO:38.6003995;-0.0491725
X-APPLE-STRUCTURED-LOCATION;VALUE=URI;X-ADDRESS=Biblioteca d’Altea casa de la cultura Costera Pont del Montcau 14 Altea Marina Baixa;X-APPLE-RADIUS=500;X-TITLE=Costera Pont del Montcau\, 14:geo:-0.0491725,38.6003995
END:VEVENT
BEGIN:VEVENT
DTSTART;TZID=Europe/Paris:20251219T183000
DTEND;TZID=Europe/Paris:20251219T200000
DTSTAMP:20260424T050948
CREATED:20251211T100129Z
LAST-MODIFIED:20251211T100129Z
UID:10000593-1766169000-1766174400@familiespelvalencia.org
SUMMARY:Cinema en valencià: Anzu\, gat fantasma.
DESCRIPTION:Enmig d’un fort xàfec\, un monjo troba a un gatet al qual bateja com Anzu i cria amb cura. No obstant això\, 30 anys després\, el gatet no sols no ha mort\, sinó que s’ha convertit en un “gat fantasma” que parla i viu com un ésser humà. Als seus 37 anys\, viatja en ciclomotor i treballa a temps parcial com a massatgista. Un dia\, l’ancià monjo li demana a Anzu que cuide de Karin\, la seua neta d’11 anys que ha sigut abandonada pel seu pare\, i aquest accepta a contracor. Al principi\, les seues personalitats enèrgiques xoquen i salten espurnes\, però a poc a poc comencen a entendre’s. Llavors\, Karin li demana un favor a Anzu\, vol tornar a veure a la seua mare morta. Aquest és el punt de partida per a un dramàtic viatge que els portarà fins al mateix Infern.
URL:https://familiespelvalencia.org/activitat/cinema-en-valencia-anzu-gat-fantasma/
LOCATION:Biblioteca d’Altea\, casa de la cultura\, Costera Pont del Montcau\, 14\, Altea\, Marina Baixa
CATEGORIES:Comarques centrals
ATTACH;FMTTYPE=image/jpeg:https://familiespelvalencia.org/wp-content/uploads/2025/12/anzu-gat-fantasma.jpg
GEO:38.6003995;-0.0491725
X-APPLE-STRUCTURED-LOCATION;VALUE=URI;X-ADDRESS=Biblioteca d’Altea casa de la cultura Costera Pont del Montcau 14 Altea Marina Baixa;X-APPLE-RADIUS=500;X-TITLE=Costera Pont del Montcau\, 14:geo:-0.0491725,38.6003995
END:VEVENT
END:VCALENDAR