BEGIN:VCALENDAR
VERSION:2.0
PRODID:-//FAMÍLIES PEL VALENCIÀ - ECPv6.15.20//NONSGML v1.0//EN
CALSCALE:GREGORIAN
METHOD:PUBLISH
X-WR-CALNAME:FAMÍLIES PEL VALENCIÀ
X-ORIGINAL-URL:https://familiespelvalencia.org
X-WR-CALDESC:Esdeveniments per FAMÍLIES PEL VALENCIÀ
REFRESH-INTERVAL;VALUE=DURATION:PT1H
X-Robots-Tag:noindex
X-PUBLISHED-TTL:PT1H
BEGIN:VTIMEZONE
TZID:Europe/Paris
BEGIN:DAYLIGHT
TZOFFSETFROM:+0100
TZOFFSETTO:+0200
TZNAME:CEST
DTSTART:20240331T010000
END:DAYLIGHT
BEGIN:STANDARD
TZOFFSETFROM:+0200
TZOFFSETTO:+0100
TZNAME:CET
DTSTART:20241027T010000
END:STANDARD
BEGIN:DAYLIGHT
TZOFFSETFROM:+0100
TZOFFSETTO:+0200
TZNAME:CEST
DTSTART:20250330T010000
END:DAYLIGHT
BEGIN:STANDARD
TZOFFSETFROM:+0200
TZOFFSETTO:+0100
TZNAME:CET
DTSTART:20251026T010000
END:STANDARD
BEGIN:DAYLIGHT
TZOFFSETFROM:+0100
TZOFFSETTO:+0200
TZNAME:CEST
DTSTART:20260329T010000
END:DAYLIGHT
BEGIN:STANDARD
TZOFFSETFROM:+0200
TZOFFSETTO:+0100
TZNAME:CET
DTSTART:20261025T010000
END:STANDARD
END:VTIMEZONE
BEGIN:VEVENT
DTSTART;TZID=Europe/Paris:20251213T110000
DTEND;TZID=Europe/Paris:20251213T123000
DTSTAMP:20260424T050057
CREATED:20251202T221723Z
LAST-MODIFIED:20251202T221723Z
UID:10000535-1765623600-1765629000@familiespelvalencia.org
SUMMARY:Joc de proves.- La Baralla Valenciana
DESCRIPTION:La Baralla Valenciana – Gran joc de proves en valencià\nArriba a Benissa una activitat familiar plena de diversió i aprenentatge: La Baralla Valenciana\, un gran joc amb proves pensades per a gaudir en valencià. Els més menuts i les seues famílies podran jugar\, superar reptes i passar-ho d’allò més bé mentre aprenen junts. \nMés informació: Ajuntament de Benissa
URL:https://familiespelvalencia.org/activitat/joc-de-proves-la-baralla-valenciana/
LOCATION:Benissa\, Placeta de l’Església Vella\, Benissa\, Marina Alta\, 03720
CATEGORIES:Comarques centrals
ATTACH;FMTTYPE=image/png:https://familiespelvalencia.org/wp-content/uploads/2025/12/Benissa.png
GEO:38.7161307;0.052821
X-APPLE-STRUCTURED-LOCATION;VALUE=URI;X-ADDRESS=Benissa Placeta de l’Església Vella Benissa Marina Alta 03720;X-APPLE-RADIUS=500;X-TITLE=Placeta de l’Església Vella:geo:0.052821,38.7161307
END:VEVENT
END:VCALENDAR