BEGIN:VCALENDAR
VERSION:2.0
PRODID:-//FAMÍLIES PEL VALENCIÀ - ECPv6.15.20//NONSGML v1.0//EN
CALSCALE:GREGORIAN
METHOD:PUBLISH
X-ORIGINAL-URL:https://familiespelvalencia.org
X-WR-CALDESC:Esdeveniments per FAMÍLIES PEL VALENCIÀ
REFRESH-INTERVAL;VALUE=DURATION:PT1H
X-Robots-Tag:noindex
X-PUBLISHED-TTL:PT1H
BEGIN:VTIMEZONE
TZID:Europe/Paris
BEGIN:DAYLIGHT
TZOFFSETFROM:+0100
TZOFFSETTO:+0200
TZNAME:CEST
DTSTART:20250330T010000
END:DAYLIGHT
BEGIN:STANDARD
TZOFFSETFROM:+0200
TZOFFSETTO:+0100
TZNAME:CET
DTSTART:20251026T010000
END:STANDARD
BEGIN:DAYLIGHT
TZOFFSETFROM:+0100
TZOFFSETTO:+0200
TZNAME:CEST
DTSTART:20260329T010000
END:DAYLIGHT
BEGIN:STANDARD
TZOFFSETFROM:+0200
TZOFFSETTO:+0100
TZNAME:CET
DTSTART:20261025T010000
END:STANDARD
BEGIN:DAYLIGHT
TZOFFSETFROM:+0100
TZOFFSETTO:+0200
TZNAME:CEST
DTSTART:20270328T010000
END:DAYLIGHT
BEGIN:STANDARD
TZOFFSETFROM:+0200
TZOFFSETTO:+0100
TZNAME:CET
DTSTART:20271031T010000
END:STANDARD
END:VTIMEZONE
BEGIN:VEVENT
DTSTART;TZID=Europe/Paris:20260426T110000
DTEND;TZID=Europe/Paris:20260426T143000
DTSTAMP:20260420T190915
CREATED:20260417T210534Z
LAST-MODIFIED:20260417T210534Z
UID:10001237-1777201200-1777213800@familiespelvalencia.org
SUMMARY:Festival Feretes i Cançonetes a Xixona
DESCRIPTION:🔥 Preparades\, Feretes? Tornem a la càrrega!!! 🔥👽 \nAterrem a Xixona amb tota l’artilleria per a fer-vos passar…\n💥 un matí brutal de música\, jocs\, tallers… i molta diversió! \nAmb DJ Butoni i Marcel el Marcià💣\n🎸 Actuacions\n🎨 Tallers\n🎲 Ludoteca\n😜 I festa sense parar \n📍 Barranc de la Font – Xixona\n📅 Diumenge 26 d’abril\n⏰ Des de les 11:00h \n💛 Vine a viure-ho… perquè açò és Feretes i Cançonetes! \nAccés Gratuït .
URL:https://familiespelvalencia.org/activitat/festival-feretes-i-canconetes-a-xixona/
LOCATION:Barranc de la Font\, Xixona
CATEGORIES:Comarques del sud
ATTACH;FMTTYPE=image/jpeg:https://familiespelvalencia.org/wp-content/uploads/2026/04/672629650_1396556905844646_2594277948414665165_n.jpg
END:VEVENT
END:VCALENDAR