BEGIN:VCALENDAR
VERSION:2.0
PRODID:-//FAMÍLIES PEL VALENCIÀ - ECPv6.15.20//NONSGML v1.0//EN
CALSCALE:GREGORIAN
METHOD:PUBLISH
X-WR-CALNAME:FAMÍLIES PEL VALENCIÀ
X-ORIGINAL-URL:https://familiespelvalencia.org
X-WR-CALDESC:Esdeveniments per FAMÍLIES PEL VALENCIÀ
REFRESH-INTERVAL;VALUE=DURATION:PT1H
X-Robots-Tag:noindex
X-PUBLISHED-TTL:PT1H
BEGIN:VTIMEZONE
TZID:Europe/Paris
BEGIN:DAYLIGHT
TZOFFSETFROM:+0100
TZOFFSETTO:+0200
TZNAME:CEST
DTSTART:20240331T010000
END:DAYLIGHT
BEGIN:STANDARD
TZOFFSETFROM:+0200
TZOFFSETTO:+0100
TZNAME:CET
DTSTART:20241027T010000
END:STANDARD
BEGIN:DAYLIGHT
TZOFFSETFROM:+0100
TZOFFSETTO:+0200
TZNAME:CEST
DTSTART:20250330T010000
END:DAYLIGHT
BEGIN:STANDARD
TZOFFSETFROM:+0200
TZOFFSETTO:+0100
TZNAME:CET
DTSTART:20251026T010000
END:STANDARD
BEGIN:DAYLIGHT
TZOFFSETFROM:+0100
TZOFFSETTO:+0200
TZNAME:CEST
DTSTART:20260329T010000
END:DAYLIGHT
BEGIN:STANDARD
TZOFFSETFROM:+0200
TZOFFSETTO:+0100
TZNAME:CET
DTSTART:20261025T010000
END:STANDARD
END:VTIMEZONE
BEGIN:VEVENT
DTSTART;TZID=Europe/Paris:20251226T173000
DTEND;TZID=Europe/Paris:20251226T183000
DTSTAMP:20260424T050225
CREATED:20251224T114658Z
LAST-MODIFIED:20251224T114658Z
UID:10000677-1766770200-1766773800@familiespelvalencia.org
SUMMARY:Teatre titelles.- Fent l'indi.
DESCRIPTION:
URL:https://familiespelvalencia.org/activitat/teatre-titelles-fent-lindi/
LOCATION:Auditori del Centre Social.- Dénia\, C/ Calderón\, 4\, Dénia\, La Marina Alta\, 03700
CATEGORIES:Comarques centrals
GEO:38.840564;0.1114
X-APPLE-STRUCTURED-LOCATION;VALUE=URI;X-ADDRESS=Auditori del Centre Social.- Dénia C/ Calderón 4 Dénia La Marina Alta 03700;X-APPLE-RADIUS=500;X-TITLE=C/ Calderón\, 4:geo:0.1114,38.840564
END:VEVENT
END:VCALENDAR