BEGIN:VCALENDAR
VERSION:2.0
PRODID:-//FAMÍLIES PEL VALENCIÀ - ECPv6.15.20//NONSGML v1.0//EN
CALSCALE:GREGORIAN
METHOD:PUBLISH
X-ORIGINAL-URL:https://familiespelvalencia.org
X-WR-CALDESC:Esdeveniments per FAMÍLIES PEL VALENCIÀ
REFRESH-INTERVAL;VALUE=DURATION:PT1H
X-Robots-Tag:noindex
X-PUBLISHED-TTL:PT1H
BEGIN:VTIMEZONE
TZID:Europe/Paris
BEGIN:DAYLIGHT
TZOFFSETFROM:+0100
TZOFFSETTO:+0200
TZNAME:CEST
DTSTART:20240331T010000
END:DAYLIGHT
BEGIN:STANDARD
TZOFFSETFROM:+0200
TZOFFSETTO:+0100
TZNAME:CET
DTSTART:20241027T010000
END:STANDARD
BEGIN:DAYLIGHT
TZOFFSETFROM:+0100
TZOFFSETTO:+0200
TZNAME:CEST
DTSTART:20250330T010000
END:DAYLIGHT
BEGIN:STANDARD
TZOFFSETFROM:+0200
TZOFFSETTO:+0100
TZNAME:CET
DTSTART:20251026T010000
END:STANDARD
BEGIN:DAYLIGHT
TZOFFSETFROM:+0100
TZOFFSETTO:+0200
TZNAME:CEST
DTSTART:20260329T010000
END:DAYLIGHT
BEGIN:STANDARD
TZOFFSETFROM:+0200
TZOFFSETTO:+0100
TZNAME:CET
DTSTART:20261025T010000
END:STANDARD
END:VTIMEZONE
BEGIN:VEVENT
DTSTART;TZID=Europe/Paris:20251219T190000
DTEND;TZID=Europe/Paris:20251219T200000
DTSTAMP:20260421T110812
CREATED:20251217T114235Z
LAST-MODIFIED:20251217T114235Z
UID:10000635-1766170800-1766174400@familiespelvalencia.org
SUMMARY:Presentació. Xinxes i Caparres
DESCRIPTION:Xinxes i Caparres és una obra il·lustrada editada per on the road llibres que recupera els jocs tradicionals infantils de la València marinera. Una proposta ideal per a famílies que volen conéixer i transmetre la cultura popular als més menuts. \nAforament limitat.
URL:https://familiespelvalencia.org/activitat/presentacio-xinxes-i-caparres/
LOCATION:Ateneu Maritim.- València\, C/ de la Reina\, 68 (Cabanyal-Canyamelar)\, València\, L'Horta\, 46011
CATEGORIES:València - districte capital
ATTACH;FMTTYPE=image/jpeg:https://familiespelvalencia.org/wp-content/uploads/2025/12/xinxes_i_caparres.jpg
GEO:39.4666307;-0.3288068
X-APPLE-STRUCTURED-LOCATION;VALUE=URI;X-ADDRESS=Ateneu Maritim.- València C/ de la Reina 68 (Cabanyal-Canyamelar) València L'Horta 46011;X-APPLE-RADIUS=500;X-TITLE=C/ de la Reina\, 68 (Cabanyal-Canyamelar):geo:-0.3288068,39.4666307
END:VEVENT
END:VCALENDAR