BEGIN:VCALENDAR
VERSION:2.0
PRODID:-//FAMÍLIES PEL VALENCIÀ - ECPv6.15.20//NONSGML v1.0//EN
CALSCALE:GREGORIAN
METHOD:PUBLISH
X-WR-CALNAME:FAMÍLIES PEL VALENCIÀ
X-ORIGINAL-URL:https://familiespelvalencia.org
X-WR-CALDESC:Esdeveniments per FAMÍLIES PEL VALENCIÀ
REFRESH-INTERVAL;VALUE=DURATION:PT1H
X-Robots-Tag:noindex
X-PUBLISHED-TTL:PT1H
BEGIN:VTIMEZONE
TZID:Europe/Paris
BEGIN:DAYLIGHT
TZOFFSETFROM:+0100
TZOFFSETTO:+0200
TZNAME:CEST
DTSTART:20250330T010000
END:DAYLIGHT
BEGIN:STANDARD
TZOFFSETFROM:+0200
TZOFFSETTO:+0100
TZNAME:CET
DTSTART:20251026T010000
END:STANDARD
BEGIN:DAYLIGHT
TZOFFSETFROM:+0100
TZOFFSETTO:+0200
TZNAME:CEST
DTSTART:20260329T010000
END:DAYLIGHT
BEGIN:STANDARD
TZOFFSETFROM:+0200
TZOFFSETTO:+0100
TZNAME:CET
DTSTART:20261025T010000
END:STANDARD
BEGIN:DAYLIGHT
TZOFFSETFROM:+0100
TZOFFSETTO:+0200
TZNAME:CEST
DTSTART:20270328T010000
END:DAYLIGHT
BEGIN:STANDARD
TZOFFSETFROM:+0200
TZOFFSETTO:+0100
TZNAME:CET
DTSTART:20271031T010000
END:STANDARD
END:VTIMEZONE
BEGIN:VEVENT
DTSTART;TZID=Europe/Paris:20260102T180000
DTEND;TZID=Europe/Paris:20260102T193000
DTSTAMP:20260424T044049
CREATED:20260102T081354Z
LAST-MODIFIED:20260102T081354Z
UID:10000694-1767376800-1767382200@familiespelvalencia.org
SUMMARY:Canta Canalla
DESCRIPTION:Acosta’t a la Plaça de la Constitució d’Alboraia i viu amb Canta Canalla un concert vital\, participatiu i carregat de diversió. \nDos xiquets i dues xiquetes que sumen més de 150 anys d’història musical— et farà riure\, cantar i ballar amb una proposta senzilla i genuïna: guitarra\, baix\, bateria\, flauta\, veus\, quatre acords\, algun sol i una màquina de fer bombolles per afegir un toc de màgia al moment.  Els més menuts —i no tan menuts!— podran unir-se a la festa\, copsant l’alegria de la música en directe i deixant-se endur per la màgia de compartir ritme en família. Un pla perfecte per a començar l’any amb alegria\, bon rotlo i molts somriures. \nMés informació: Ajuntament d’Alboraia \nCanta Canalla Spotify
URL:https://familiespelvalencia.org/activitat/canta-canalla/
LOCATION:Alboraia.- Plaça Constitució\, Plaça Constitució\, Alboraia\, L'Horta\, 46120
CATEGORIES:Comarques Túria–Xúquer
ATTACH;FMTTYPE=image/png:https://familiespelvalencia.org/wp-content/uploads/2026/01/canta-canalla.png
GEO:39.500092;-0.3505671
X-APPLE-STRUCTURED-LOCATION;VALUE=URI;X-ADDRESS=Alboraia.- Plaça Constitució Plaça Constitució Alboraia L'Horta 46120;X-APPLE-RADIUS=500;X-TITLE=Plaça Constitució:geo:-0.3505671,39.500092
END:VEVENT
END:VCALENDAR