BEGIN:VCALENDAR
VERSION:2.0
PRODID:-//FAMÍLIES PEL VALENCIÀ - ECPv6.15.20//NONSGML v1.0//EN
CALSCALE:GREGORIAN
METHOD:PUBLISH
X-ORIGINAL-URL:https://familiespelvalencia.org
X-WR-CALDESC:Esdeveniments per FAMÍLIES PEL VALENCIÀ
REFRESH-INTERVAL;VALUE=DURATION:PT1H
X-Robots-Tag:noindex
X-PUBLISHED-TTL:PT1H
BEGIN:VTIMEZONE
TZID:Europe/Paris
BEGIN:DAYLIGHT
TZOFFSETFROM:+0100
TZOFFSETTO:+0200
TZNAME:CEST
DTSTART:20240331T010000
END:DAYLIGHT
BEGIN:STANDARD
TZOFFSETFROM:+0200
TZOFFSETTO:+0100
TZNAME:CET
DTSTART:20241027T010000
END:STANDARD
BEGIN:DAYLIGHT
TZOFFSETFROM:+0100
TZOFFSETTO:+0200
TZNAME:CEST
DTSTART:20250330T010000
END:DAYLIGHT
BEGIN:STANDARD
TZOFFSETFROM:+0200
TZOFFSETTO:+0100
TZNAME:CET
DTSTART:20251026T010000
END:STANDARD
BEGIN:DAYLIGHT
TZOFFSETFROM:+0100
TZOFFSETTO:+0200
TZNAME:CEST
DTSTART:20260329T010000
END:DAYLIGHT
BEGIN:STANDARD
TZOFFSETFROM:+0200
TZOFFSETTO:+0100
TZNAME:CET
DTSTART:20261025T010000
END:STANDARD
END:VTIMEZONE
BEGIN:VEVENT
DTSTART;TZID=Europe/Paris:20251213T200000
DTEND;TZID=Europe/Paris:20251213T220000
DTSTAMP:20260421T003951
CREATED:20251212T220821Z
LAST-MODIFIED:20251212T220821Z
UID:10000612-1765656000-1765663200@familiespelvalencia.org
SUMMARY:Concert. Avant
DESCRIPTION:AVANT és un projecte musical jove que aposta per la creativitat i la identitat\, amb un estil fresc que barreja ritmes urbans. Les seues cançons\, connecten amb les inquietuds i l’energia de la generació actual\, amb lletres que parlen de vida quotidiana\, emocions i reivindicació cultural.\nAmb una imatge potent i una presència activa a xarxes socials\, AVANT s’ha convertit en referent. Els seus directes destaquen per la proximitat amb el públic\, la força escènica i un so que convida a ballar i compartir. \nPúblic jove. \nAVANT – NOSALTRES (Video Oficial) \nCompra d’entrades: Ticketic
URL:https://familiespelvalencia.org/activitat/concert-avant/
LOCATION:Aguanile Pub\, carrer del Doctor Vicent Zaragoza\, 42 (Benimaclet)\, València\, L'Horta\, 46020
CATEGORIES:València - districte capital
ATTACH;FMTTYPE=image/jpeg:https://familiespelvalencia.org/wp-content/uploads/2025/12/AVANT-RET.jpg
GEO:39.4839946;-0.3601645
X-APPLE-STRUCTURED-LOCATION;VALUE=URI;X-ADDRESS=Aguanile Pub carrer del Doctor Vicent Zaragoza 42 (Benimaclet) València L'Horta 46020;X-APPLE-RADIUS=500;X-TITLE=carrer del Doctor Vicent Zaragoza\, 42 (Benimaclet):geo:-0.3601645,39.4839946
END:VEVENT
END:VCALENDAR