BEGIN:VCALENDAR
VERSION:2.0
PRODID:-//FAMÍLIES PEL VALENCIÀ - ECPv6.15.20//NONSGML v1.0//EN
CALSCALE:GREGORIAN
METHOD:PUBLISH
X-ORIGINAL-URL:https://familiespelvalencia.org
X-WR-CALDESC:Esdeveniments per FAMÍLIES PEL VALENCIÀ
REFRESH-INTERVAL;VALUE=DURATION:PT1H
X-Robots-Tag:noindex
X-PUBLISHED-TTL:PT1H
BEGIN:VTIMEZONE
TZID:Europe/Paris
BEGIN:DAYLIGHT
TZOFFSETFROM:+0100
TZOFFSETTO:+0200
TZNAME:CEST
DTSTART:20250330T010000
END:DAYLIGHT
BEGIN:STANDARD
TZOFFSETFROM:+0200
TZOFFSETTO:+0100
TZNAME:CET
DTSTART:20251026T010000
END:STANDARD
BEGIN:DAYLIGHT
TZOFFSETFROM:+0100
TZOFFSETTO:+0200
TZNAME:CEST
DTSTART:20260329T010000
END:DAYLIGHT
BEGIN:STANDARD
TZOFFSETFROM:+0200
TZOFFSETTO:+0100
TZNAME:CET
DTSTART:20261025T010000
END:STANDARD
BEGIN:DAYLIGHT
TZOFFSETFROM:+0100
TZOFFSETTO:+0200
TZNAME:CEST
DTSTART:20270328T010000
END:DAYLIGHT
BEGIN:STANDARD
TZOFFSETFROM:+0200
TZOFFSETTO:+0100
TZNAME:CET
DTSTART:20271031T010000
END:STANDARD
END:VTIMEZONE
BEGIN:VEVENT
DTSTART;TZID=Europe/Paris:20260426T183000
DTEND;TZID=Europe/Paris:20260426T200000
DTSTAMP:20260420T220953
CREATED:20260320T102345Z
LAST-MODIFIED:20260320T102345Z
UID:10001086-1777228200-1777233600@familiespelvalencia.org
SUMMARY:Teatre. Voilà
DESCRIPTION:“Voilà” és una proposta de teatre familiar de JM Gestió Teatral que aborda\, amb sensibilitat i humor\, la relació entre un pare i el mestre del seu fill de huit anys. A través d’una conversa plena d’emoció\, descobrim les pors d’un pare marcat per una experiència del passat i la mirada optimista d’un docent que confia en les potencialitats de cada xiquet. L’obra\, recomanada per a públic a partir de 5 anys\, combina teatre d’objectes i interpretació per oferir una història propera\, emotiva i plena d’esperança. Una peça curta i intensa que recorda que\, davant de qualsevol dificultat\, sempre hi ha una solució\, i que l’acompanyament emocional pot transformar la manera com les famílies i l’escola entenen la diferència. Perfecta per a gaudir en família i per a treballar valors com la confiança\, la comunicació i l’empatia. \nCandidat Premis Max al millor espectacle infantil i familiar | + 5 anys | Públic familiar \nMés informació i venda d’entrades: Ajuntament de Benicàssim
URL:https://familiespelvalencia.org/activitat/teatre-voila-2/
LOCATION:Teatre Municipal Francesc Tàrrega.- Benicàssim\, Plaça de la Constitució\, s/n\, Benicàssim\, Plana Alta\, 12560
CATEGORIES:Comarques del nord
ATTACH;FMTTYPE=image/jpeg:https://familiespelvalencia.org/wp-content/uploads/2026/01/Voila.jpg
GEO:40.0553841;0.0640455
X-APPLE-STRUCTURED-LOCATION;VALUE=URI;X-ADDRESS=Teatre Municipal Francesc Tàrrega.- Benicàssim Plaça de la Constitució s/n Benicàssim Plana Alta 12560;X-APPLE-RADIUS=500;X-TITLE=Plaça de la Constitució\, s/n:geo:0.0640455,40.0553841
END:VEVENT
BEGIN:VEVENT
DTSTART;TZID=Europe/Paris:20260427T173000
DTEND;TZID=Europe/Paris:20260427T183000
DTSTAMP:20260420T220953
CREATED:20260223T125754Z
LAST-MODIFIED:20260223T125754Z
UID:10000999-1777311000-1777314600@familiespelvalencia.org
SUMMARY:Pissiganya 2026 .- Grups de joc i conversa en valencià per a famílies
DESCRIPTION:Pissiganya és un activitat grupal en què pares i mares\, juntament amb les seues criatures es reunixen una volta al mes per a jugar i conversar en valencià a partir d’una proposta ludicoartística dinamitzada per Maria Gargallo. Aquesta iniciativa s’emmarca dins del projecte Creixent al caliu (www.creixentalcaliu.com)\, a través del qual volen posar en valor\, promoure i facilitar la transmissió lingüística i la presència social del valencià en la primera infància. \nActivitat per a famílies amb xiquets i xiquetes de 0 a 5 anys \n IMPORTANT: Cal inscripció prèvia. Les inscripcions s’accepten per ordre d’arribada fins a completar-ne la capacitat. \nMés informació: Ajuntament de València | Creixent al caliu
URL:https://familiespelvalencia.org/activitat/pissiganya-2026-grups-de-joc-i-conversa-en-valencia-per-a-families-4/2026-04-27/
LOCATION:Biblioteca d’Algirós – María Moliner\, C/ del Serpis\, 9\, (Barri Algirós)\, València\, València\, 46021
CATEGORIES:València - districte capital
ATTACH;FMTTYPE=image/gif:https://familiespelvalencia.org/wp-content/uploads/2026/02/Pissiganya-GIF.gif
GEO:39.4762622;-0.3491807
X-APPLE-STRUCTURED-LOCATION;VALUE=URI;X-ADDRESS=Biblioteca d’Algirós – María Moliner C/ del Serpis 9 (Barri Algirós) València València 46021;X-APPLE-RADIUS=500;X-TITLE=C/ del Serpis\, 9\, (Barri Algirós):geo:-0.3491807,39.4762622
END:VEVENT
BEGIN:VEVENT
DTSTART;TZID=Europe/Paris:20260427T183000
DTEND;TZID=Europe/Paris:20260427T203000
DTSTAMP:20260420T220953
CREATED:20260417T205402Z
LAST-MODIFIED:20260417T205402Z
UID:10001234-1777314600-1777321800@familiespelvalencia.org
SUMMARY:Arribada de la flama del Correllengua a Elx
DESCRIPTION:ACTE CENTRAL A ELX 🏃‍♀️❤️‍🔥 \n🗓️ El 27 d’abril arribarà la flama a Elx per marcar un abans i un després. Serà el final del recorregut del País Valencià! ⭐️ \n📍Plaça de Baix\, Elx \n🏃‍♀️ Cultura popular\, rebuda de la flama i concert de L’ARANNÀ i SinPlomo95🔥 \nUna sola veu\, una sola llengua!❤️‍🔥 \n🕖 A partir de les 18:45 h
URL:https://familiespelvalencia.org/activitat/arribada-de-la-flama-del-correllengua-a-elx/
LOCATION:Plaça de Baix\, Elx
CATEGORIES:Comarques del sud
ATTACH;FMTTYPE=image/jpeg:https://familiespelvalencia.org/wp-content/uploads/2026/04/elx.jpg
END:VEVENT
BEGIN:VEVENT
DTSTART;TZID=Europe/Paris:20260428T180000
DTEND;TZID=Europe/Paris:20260428T183000
DTSTAMP:20260420T220953
CREATED:20260315T154502Z
LAST-MODIFIED:20260331T100934Z
UID:10001138-1777399200-1777401000@familiespelvalencia.org
SUMMARY:Documental al Planetari. Explorant el sistema solar
DESCRIPTION:Producció espectacular que ens mostra els planetes veïns de la Terra. Aquest documental ens transporta\, en un viatge extraordinari\, a diferents escenaris del sistema solar interior i aconsegueix despertar la curiositat en el públic a l’hora d’entendre i apreciar aspectes de cossos com la Lluna\, Venus\, Mart\, asteroides i estrelles\, fins ara desconeguts per a la gran majoria. El Món Anell no fa referència a una estructura artificial com en la novel·la de Larry Niven\, sinó a Gliese 581g\, un exoplaneta que podria tindre una zona habitable en forma d’anell en tota la franja del capvespre. \nPúblic: jove // Durada: 24 minuts \nMés informació i venda d’entrades: Planetari de Castelló
URL:https://familiespelvalencia.org/activitat/documental-al-planetari-explorant-el-sistema-solar-9/2026-04-28/
LOCATION:Planetari de Castelló\, Passeig Marítim\, 1 (Grau de Castelló)\, Castelló\, Plana Alta\, 12100
CATEGORIES:Comarques del nord
ATTACH;FMTTYPE=image/png:https://familiespelvalencia.org/wp-content/uploads/2026/02/Explorant.png
GEO:39.9793318;0.022053
X-APPLE-STRUCTURED-LOCATION;VALUE=URI;X-ADDRESS=Planetari de Castelló Passeig Marítim 1 (Grau de Castelló) Castelló Plana Alta 12100;X-APPLE-RADIUS=500;X-TITLE=Passeig Marítim\, 1 (Grau de Castelló):geo:0.022053,39.9793318
END:VEVENT
BEGIN:VEVENT
DTSTART;TZID=Europe/Paris:20260428T223000
DTEND;TZID=Europe/Paris:20260428T235900
DTSTAMP:20260420T220953
CREATED:20260417T203951Z
LAST-MODIFIED:20260417T203951Z
UID:10001231-1777415400-1777420740@familiespelvalencia.org
SUMMARY:Concert. Buhos + Quinto + Trapella
DESCRIPTION:Benissa viurà una gran nit de música i festa amb la Nit Jove\, una proposta pensada per al públic jove i oberta a tothom. La cita serà el 28 d’abril\, a les 22.30 h\, al Passeig Dolores Piera\, amb un cartell potent encapçalat per Buhos\, Quinto i la sessió de DJ Trapella. Una nit per compartir\, ballar i gaudir de la música en directe en un ambient festiu que promet ser inoblidable.
URL:https://familiespelvalencia.org/activitat/concert-buhos-quinto-trapella/
LOCATION:Benissa.- Passeig Dolors Piera\, Passeig Dolors Piera\, Benissa\, Marina Alta\, 03720
CATEGORIES:Comarques centrals
ATTACH;FMTTYPE=image/jpeg:https://familiespelvalencia.org/wp-content/uploads/2026/04/Benissa.-Nit-jove.jpg
END:VEVENT
BEGIN:VEVENT
DTSTART;TZID=Europe/Paris:20260429T173000
DTEND;TZID=Europe/Paris:20260429T190000
DTSTAMP:20260420T220953
CREATED:20260326T205005Z
LAST-MODIFIED:20260326T205005Z
UID:10001120-1777483800-1777489200@familiespelvalencia.org
SUMMARY:Actuació Cesk Freixas. Presentació conte "Ovidi Montllor"
DESCRIPTION:El Centre Cultural Ovidi Montllor d’Alcoi acull la presentació del conte Ovidi Montllor\, una obra publicada per Tigre de Paper que apropa la figura de l’artista alcoià a les noves generacions. El llibre recorre la seua vida i el seu compromís amb la cultura\, la llengua i la dignitat del poble\, amb un llenguatge proper i il·lustracions pensades per a públic familiar. La presentació comptarà amb una actuació especial de Cesk Freixas\, que posarà veu i música a l’esperit de l’Ovidi\, en un acte que combina literatura\, memòria i cançó d’autor. Una cita molt especial per retrobar-nos amb un dels referents culturals més estimats del país\, al seu Alcoi natal.
URL:https://familiespelvalencia.org/activitat/actuacio-cesk-freixas-presentacio-conte-ovidi-montllor-2/
LOCATION:Centre Cultural Ovidi Montllor\, Alcoi\, C/Vistabell\,8\, Alcoi\, Alcoià
CATEGORIES:Comarques centrals
ATTACH;FMTTYPE=image/jpeg:https://familiespelvalencia.org/wp-content/uploads/2026/03/Cesk-Freixas.jpg
GEO:38.6975031;-0.4826227
X-APPLE-STRUCTURED-LOCATION;VALUE=URI;X-ADDRESS=Centre Cultural Ovidi Montllor Alcoi C/Vistabell8 Alcoi Alcoià;X-APPLE-RADIUS=500;X-TITLE=C/Vistabell\,8:geo:-0.4826227,38.6975031
END:VEVENT
BEGIN:VEVENT
DTSTART;TZID=Europe/Paris:20260429T180000
DTEND;TZID=Europe/Paris:20260429T183000
DTSTAMP:20260420T220953
CREATED:20260315T154656Z
LAST-MODIFIED:20260331T145833Z
UID:10001150-1777485600-1777487400@familiespelvalencia.org
SUMMARY:Documental al Planetari. Cel profund
DESCRIPTION:Documental que descriu allò que s’amaga darrere del fons negre de la nit. Les persones assistents podran viatjar a través de les meravelles que s’han descobert darrere d’aquest llenç negre sobre el qual es dibuixa la nit estrelada. Al llarg de 30 minuts es presenten les imatges més espectaculars obtingudes pels grans observatoris del món\, tant des de la superfície de la Terra com des de l’espai. Aquestes imatges ens parlen d’un univers fascinant i complex\, però d’una bellesa indescriptible. (Públic jove i general) \nDurada: 30 min \nMés informació: Planetari de Castelló
URL:https://familiespelvalencia.org/activitat/documental-al-planetari-cel-profund-3/2026-04-29/
LOCATION:Planetari de Castelló\, Passeig Marítim\, 1 (Grau de Castelló)\, Castelló\, Plana Alta\, 12100
CATEGORIES:Comarques del nord
ATTACH;FMTTYPE=image/jpeg:https://familiespelvalencia.org/wp-content/uploads/2026/01/cel-profund.jpg
GEO:39.9793318;0.022053
X-APPLE-STRUCTURED-LOCATION;VALUE=URI;X-ADDRESS=Planetari de Castelló Passeig Marítim 1 (Grau de Castelló) Castelló Plana Alta 12100;X-APPLE-RADIUS=500;X-TITLE=Passeig Marítim\, 1 (Grau de Castelló):geo:0.022053,39.9793318
END:VEVENT
BEGIN:VEVENT
DTSTART;TZID=Europe/Paris:20260429T180000
DTEND;TZID=Europe/Paris:20260429T190000
DTSTAMP:20260420T220953
CREATED:20260407T105000Z
LAST-MODIFIED:20260407T105000Z
UID:10001204-1777485600-1777489200@familiespelvalencia.org
SUMMARY:Contacontes. Allò que ens uneix
DESCRIPTION:A càrrec de Elisa M. Matallín \nAquesta activitat requereix d’inscripció prèvia
URL:https://familiespelvalencia.org/activitat/contacontes-allo-que-ens-uneix-2/
LOCATION:Biblioteca de Malilla.- Roís de Corella\, Carrer de l'Illa Cabrera\, 52\, València\, L'Horta\, 46026
CATEGORIES:València - districte capital
ATTACH;FMTTYPE=image/jpeg:https://familiespelvalencia.org/wp-content/uploads/2026/04/Allo-que-ens-uneix.jpg
END:VEVENT
BEGIN:VEVENT
DTSTART;TZID=Europe/Paris:20260430T180000
DTEND;TZID=Europe/Paris:20260430T183000
DTSTAMP:20260420T220953
CREATED:20260315T153944Z
LAST-MODIFIED:20260331T150837Z
UID:10001162-1777572000-1777573800@familiespelvalencia.org
SUMMARY:Documental al Planetari. Beyond the Sun
DESCRIPTION:Més enllà del Sol\, més enllà del nostre sistema solar\, hi ha planetes que orbiten al voltant d’altres estrelles: els planetes extrasolars. En aquesta projecció acompanyarem Celeste en el seu viatge per a conéixer nous mons: alguns de gelats\, d’altres que orbiten dos estrelles… i aprendrem com es poden descobrir aquests planetes. \nPúblic: infantil i jove // Durada: 26 minuts \nMés informació: Planetari de Castelló
URL:https://familiespelvalencia.org/activitat/documental-al-planetari-beyond-the-sun-5/2026-04-30/
LOCATION:Planetari de Castelló\, Passeig Marítim\, 1 (Grau de Castelló)\, Castelló\, Plana Alta\, 12100
CATEGORIES:Comarques del nord
ATTACH;FMTTYPE=image/png:https://familiespelvalencia.org/wp-content/uploads/2025/12/beyond-the-sun.png
GEO:39.9793318;0.022053
X-APPLE-STRUCTURED-LOCATION;VALUE=URI;X-ADDRESS=Planetari de Castelló Passeig Marítim 1 (Grau de Castelló) Castelló Plana Alta 12100;X-APPLE-RADIUS=500;X-TITLE=Passeig Marítim\, 1 (Grau de Castelló):geo:0.022053,39.9793318
END:VEVENT
END:VCALENDAR