BEGIN:VCALENDAR
VERSION:2.0
PRODID:-//FAMÍLIES PEL VALENCIÀ - ECPv6.15.20//NONSGML v1.0//EN
CALSCALE:GREGORIAN
METHOD:PUBLISH
X-WR-CALNAME:FAMÍLIES PEL VALENCIÀ
X-ORIGINAL-URL:https://familiespelvalencia.org
X-WR-CALDESC:Esdeveniments per FAMÍLIES PEL VALENCIÀ
REFRESH-INTERVAL;VALUE=DURATION:PT1H
X-Robots-Tag:noindex
X-PUBLISHED-TTL:PT1H
BEGIN:VTIMEZONE
TZID:Europe/Paris
BEGIN:DAYLIGHT
TZOFFSETFROM:+0100
TZOFFSETTO:+0200
TZNAME:CEST
DTSTART:20240331T010000
END:DAYLIGHT
BEGIN:STANDARD
TZOFFSETFROM:+0200
TZOFFSETTO:+0100
TZNAME:CET
DTSTART:20241027T010000
END:STANDARD
BEGIN:DAYLIGHT
TZOFFSETFROM:+0100
TZOFFSETTO:+0200
TZNAME:CEST
DTSTART:20250330T010000
END:DAYLIGHT
BEGIN:STANDARD
TZOFFSETFROM:+0200
TZOFFSETTO:+0100
TZNAME:CET
DTSTART:20251026T010000
END:STANDARD
BEGIN:DAYLIGHT
TZOFFSETFROM:+0100
TZOFFSETTO:+0200
TZNAME:CEST
DTSTART:20260329T010000
END:DAYLIGHT
BEGIN:STANDARD
TZOFFSETFROM:+0200
TZOFFSETTO:+0100
TZNAME:CET
DTSTART:20261025T010000
END:STANDARD
END:VTIMEZONE
BEGIN:VEVENT
DTSTART;TZID=Europe/Paris:20251219T184000
DTEND;TZID=Europe/Paris:20251219T194000
DTSTAMP:20260421T063728
CREATED:20251212T213157Z
LAST-MODIFIED:20251212T213157Z
UID:10000610-1766169600-1766173200@familiespelvalencia.org
SUMMARY:Música i Nadal en família
DESCRIPTION:Aquest Nadal\, gaudeix d’una experiència musical pensada per compartir en família! Tamborets de Carabassa ens proposa un taller-concert ple de ritme\, cançons i alegria per celebrar les festes amb els més menuts. \nActivitat pensada per a 0-3 anys aproximadament \nCal inscripcó prèvia. \nInscripcions: 667 927 942 | info@tamboretsdecarabassa.com
URL:https://familiespelvalencia.org/activitat/musica-i-nadal-en-familia/2025-12-19/2/
LOCATION:Centre Cultural Ovidi Montllor\, Alcoi\, C/Vistabell\,8\, Alcoi\, Alcoià
CATEGORIES:Comarques centrals
ATTACH;FMTTYPE=image/jpeg:https://familiespelvalencia.org/wp-content/uploads/2025/12/Musica-i-Nadal-Alcoi.jpeg
ORGANIZER;CN="Tamborets de Carabassa":MAILTO:info@tamboretsdecarabassa.com
GEO:38.6975031;-0.4826227
X-APPLE-STRUCTURED-LOCATION;VALUE=URI;X-ADDRESS=Centre Cultural Ovidi Montllor Alcoi C/Vistabell8 Alcoi Alcoià;X-APPLE-RADIUS=500;X-TITLE=C/Vistabell\,8:geo:-0.4826227,38.6975031
END:VEVENT
BEGIN:VEVENT
DTSTART;TZID=Europe/Paris:20251219T173000
DTEND;TZID=Europe/Paris:20251219T183000
DTSTAMP:20260421T063728
CREATED:20251212T213157Z
LAST-MODIFIED:20251212T213157Z
UID:10000609-1766165400-1766169000@familiespelvalencia.org
SUMMARY:Música i Nadal en família
DESCRIPTION:Aquest Nadal\, gaudeix d’una experiència musical pensada per compartir en família! Tamborets de Carabassa ens proposa un taller-concert ple de ritme\, cançons i alegria per celebrar les festes amb els més menuts. \nActivitat pensada per a 0-3 anys aproximadament \nCal inscripcó prèvia. \nInscripcions: 667 927 942 | info@tamboretsdecarabassa.com
URL:https://familiespelvalencia.org/activitat/musica-i-nadal-en-familia/2025-12-19/1/
LOCATION:Centre Cultural Ovidi Montllor\, Alcoi\, C/Vistabell\,8\, Alcoi\, Alcoià
CATEGORIES:Comarques centrals
ATTACH;FMTTYPE=image/jpeg:https://familiespelvalencia.org/wp-content/uploads/2025/12/Musica-i-Nadal-Alcoi.jpeg
ORGANIZER;CN="Tamborets de Carabassa":MAILTO:info@tamboretsdecarabassa.com
GEO:38.6975031;-0.4826227
X-APPLE-STRUCTURED-LOCATION;VALUE=URI;X-ADDRESS=Centre Cultural Ovidi Montllor Alcoi C/Vistabell8 Alcoi Alcoià;X-APPLE-RADIUS=500;X-TITLE=C/Vistabell\,8:geo:-0.4826227,38.6975031
END:VEVENT
END:VCALENDAR