BEGIN:VCALENDAR
VERSION:2.0
PRODID:-//FAMÍLIES PEL VALENCIÀ - ECPv6.15.20//NONSGML v1.0//EN
CALSCALE:GREGORIAN
METHOD:PUBLISH
X-WR-CALNAME:FAMÍLIES PEL VALENCIÀ
X-ORIGINAL-URL:https://familiespelvalencia.org
X-WR-CALDESC:Esdeveniments per FAMÍLIES PEL VALENCIÀ
REFRESH-INTERVAL;VALUE=DURATION:PT1H
X-Robots-Tag:noindex
X-PUBLISHED-TTL:PT1H
BEGIN:VTIMEZONE
TZID:Europe/Paris
BEGIN:DAYLIGHT
TZOFFSETFROM:+0100
TZOFFSETTO:+0200
TZNAME:CEST
DTSTART:20250330T010000
END:DAYLIGHT
BEGIN:STANDARD
TZOFFSETFROM:+0200
TZOFFSETTO:+0100
TZNAME:CET
DTSTART:20251026T010000
END:STANDARD
BEGIN:DAYLIGHT
TZOFFSETFROM:+0100
TZOFFSETTO:+0200
TZNAME:CEST
DTSTART:20260329T010000
END:DAYLIGHT
BEGIN:STANDARD
TZOFFSETFROM:+0200
TZOFFSETTO:+0100
TZNAME:CET
DTSTART:20261025T010000
END:STANDARD
BEGIN:DAYLIGHT
TZOFFSETFROM:+0100
TZOFFSETTO:+0200
TZNAME:CEST
DTSTART:20270328T010000
END:DAYLIGHT
BEGIN:STANDARD
TZOFFSETFROM:+0200
TZOFFSETTO:+0100
TZNAME:CET
DTSTART:20271031T010000
END:STANDARD
END:VTIMEZONE
BEGIN:VEVENT
DTSTART;TZID=Europe/Paris:20260601T203000
DTEND;TZID=Europe/Paris:20260601T220000
DTSTAMP:20260424T205714
CREATED:20260424T071208Z
LAST-MODIFIED:20260424T071208Z
UID:10001253-1780345800-1780351200@familiespelvalencia.org
SUMMARY:Teatre "Canviarem bolquers segons el BOE"
DESCRIPTION:Contrahecho Producciones |\nCANVIAREM BOLQUERS SEGONS EL BOE\, de Patricia Pardo | \nGènere: teatre | Públic: joves i adults | Durada: 75 min. | Valencià | \nUna comèdia contemporània sobre les cures que navega\, per moments\, entre el teatre de l’absurd amb reaccions inesperades i diàlegs sense aparent lògica i un humor que funciona per reconeixement\, on el públic es veu reflectit en situacions quotidianes que posen al límit la nostra paciència com a individus en els espais on cuidem dels nostres\, com són l’hospital i la casa. Tot en una posada en escena trepidant que fa de la proposta una obra emocionant\, original i amb molt d’enginy. Una comèdia tendra i de l’absurd sobre les cures al voltant del repte i del desig que\, com a familiars\, veïnes i societat\, tenim des de l’inici de la humanitat: cuidar\, ser cuidats i no explotar en l’intent.
URL:https://familiespelvalencia.org/activitat/teatre-canviarem-bolquers-segons-el-boe/
LOCATION:Teatre Calderón.- Alcoi\, Plaza de Espanya\, 14\, Alcoi\, L'Acoià\, 03801
CATEGORIES:Comarques centrals
ATTACH;FMTTYPE=image/jpeg:https://familiespelvalencia.org/wp-content/uploads/2026/04/1000251678.jpg
GEO:38.6913294;-0.4761893
X-APPLE-STRUCTURED-LOCATION;VALUE=URI;X-ADDRESS=Teatre Calderón.- Alcoi Plaza de Espanya 14 Alcoi L'Acoià 03801;X-APPLE-RADIUS=500;X-TITLE=Plaza de Espanya\, 14:geo:-0.4761893,38.6913294
END:VEVENT
END:VCALENDAR