BEGIN:VCALENDAR
VERSION:2.0
PRODID:-//FAMÍLIES PEL VALENCIÀ - ECPv6.15.20//NONSGML v1.0//EN
CALSCALE:GREGORIAN
METHOD:PUBLISH
X-WR-CALNAME:FAMÍLIES PEL VALENCIÀ
X-ORIGINAL-URL:https://familiespelvalencia.org
X-WR-CALDESC:Esdeveniments per FAMÍLIES PEL VALENCIÀ
REFRESH-INTERVAL;VALUE=DURATION:PT1H
X-Robots-Tag:noindex
X-PUBLISHED-TTL:PT1H
BEGIN:VTIMEZONE
TZID:Europe/Paris
BEGIN:DAYLIGHT
TZOFFSETFROM:+0100
TZOFFSETTO:+0200
TZNAME:CEST
DTSTART:20240331T010000
END:DAYLIGHT
BEGIN:STANDARD
TZOFFSETFROM:+0200
TZOFFSETTO:+0100
TZNAME:CET
DTSTART:20241027T010000
END:STANDARD
BEGIN:DAYLIGHT
TZOFFSETFROM:+0100
TZOFFSETTO:+0200
TZNAME:CEST
DTSTART:20250330T010000
END:DAYLIGHT
BEGIN:STANDARD
TZOFFSETFROM:+0200
TZOFFSETTO:+0100
TZNAME:CET
DTSTART:20251026T010000
END:STANDARD
BEGIN:DAYLIGHT
TZOFFSETFROM:+0100
TZOFFSETTO:+0200
TZNAME:CEST
DTSTART:20260329T010000
END:DAYLIGHT
BEGIN:STANDARD
TZOFFSETFROM:+0200
TZOFFSETTO:+0100
TZNAME:CET
DTSTART:20261025T010000
END:STANDARD
BEGIN:DAYLIGHT
TZOFFSETFROM:+0100
TZOFFSETTO:+0200
TZNAME:CEST
DTSTART:20270328T010000
END:DAYLIGHT
BEGIN:STANDARD
TZOFFSETFROM:+0200
TZOFFSETTO:+0100
TZNAME:CET
DTSTART:20271031T010000
END:STANDARD
END:VTIMEZONE
BEGIN:VEVENT
DTSTART;TZID=Europe/Paris:20260117T120000
DTEND;TZID=Europe/Paris:20260117T133000
DTSTAMP:20260424T044135
CREATED:20260113T184750Z
LAST-MODIFIED:20260113T184750Z
UID:10000714-1768651200-1768656600@familiespelvalencia.org
SUMMARY:Contacontes. Contes en valencià
DESCRIPTION:La llibreria L’Eixam de Tavernes Blanques acollirà una sessió de contacontes i animació lectora en valencià adreçada a xiquets i xiquetes de 3 a 8 anys\, a càrrec de Júlia Cantavella\, creadora del projecte Contes en valencià. L’activitat presentarà el llibre i el pòdcast del projecte i proposarà una experiència participativa on els infants podran escoltar històries\, intervindre i jugar amb les paraules\, mentre les famílies descobreixen recursos per a fomentar la lectura a casa.\nLa jornada inclourà també el lliurament dels premis del Concurs Infantil de Targetes de Nadal\, que ha omplit l’aparador de la llibreria de creativitat durant les festes. Els xiquets i xiquetes guanyadors rebran llibres de regal. Una proposta que celebra la lectura en valencià\, la creativitat infantil i el paper de les llibreries com a espais culturals de proximitat.
URL:https://familiespelvalencia.org/activitat/contacontes-contes-en-valencia/
LOCATION:Llibreria L’Eixam\, Avda Ausiàs March\, 38\, Tavernes Blanques\, L'Horta\, 46016
CATEGORIES:Comarques Túria–Xúquer
ATTACH;FMTTYPE=image/jpeg:https://familiespelvalencia.org/wp-content/uploads/2026/01/Cantavella.-Cones-en-valencia.jpg
GEO:39.5050127;-0.3642988
X-APPLE-STRUCTURED-LOCATION;VALUE=URI;X-ADDRESS=Llibreria L’Eixam Avda Ausiàs March 38 Tavernes Blanques L'Horta 46016;X-APPLE-RADIUS=500;X-TITLE=Avda Ausiàs March\, 38:geo:-0.3642988,39.5050127
END:VEVENT
BEGIN:VEVENT
DTSTART;TZID=Europe/Paris:20251129T120000
DTEND;TZID=Europe/Paris:20251129T130000
DTSTAMP:20260424T044135
CREATED:20251129T081320Z
LAST-MODIFIED:20251129T081320Z
UID:10000501-1764417600-1764421200@familiespelvalencia.org
SUMMARY:Contacontes. "El monstre Petorro" de Paco Cholbi
DESCRIPTION:Aquest dissabte\, la llibreria L’Eixam de Tavernes Blanques es convertirà en un espai ple de rialles\, música i imaginació.L’autor i músic Paco Cholbi presentarà el seu llibre El monstre Petorro\, una proposta pensada especialment per als més menuts.\nL’activitat combina contacontes\, música en directe i interacció amb el públic infantil\, creant un espectacle divertit i participatiu que farà gaudir xiquets i famílies. El monstre Petorro és un personatge simpàtic i gamberro que connecta amb la xicalla\, amb històries plenes d’humor i tendresa. \nMés informació: Llibreria L’Eixam
URL:https://familiespelvalencia.org/activitat/contacontes-el-monstre-petorro-de-paco-cholbi/
LOCATION:Llibreria L’Eixam\, Avda Ausiàs March\, 38\, Tavernes Blanques\, L'Horta\, 46016
CATEGORIES:Comarques Túria–Xúquer
ATTACH;FMTTYPE=image/jpeg:https://familiespelvalencia.org/wp-content/uploads/2025/11/Invitacio_Petorro-scaled-1.jpg
GEO:39.5050127;-0.3642988
X-APPLE-STRUCTURED-LOCATION;VALUE=URI;X-ADDRESS=Llibreria L’Eixam Avda Ausiàs March 38 Tavernes Blanques L'Horta 46016;X-APPLE-RADIUS=500;X-TITLE=Avda Ausiàs March\, 38:geo:-0.3642988,39.5050127
END:VEVENT
END:VCALENDAR