BEGIN:VCALENDAR
VERSION:2.0
PRODID:-//FAMÍLIES PEL VALENCIÀ - ECPv6.15.20//NONSGML v1.0//EN
CALSCALE:GREGORIAN
METHOD:PUBLISH
X-ORIGINAL-URL:https://familiespelvalencia.org
X-WR-CALDESC:Esdeveniments per FAMÍLIES PEL VALENCIÀ
REFRESH-INTERVAL;VALUE=DURATION:PT1H
X-Robots-Tag:noindex
X-PUBLISHED-TTL:PT1H
BEGIN:VTIMEZONE
TZID:Europe/Paris
BEGIN:DAYLIGHT
TZOFFSETFROM:+0100
TZOFFSETTO:+0200
TZNAME:CEST
DTSTART:20250330T010000
END:DAYLIGHT
BEGIN:STANDARD
TZOFFSETFROM:+0200
TZOFFSETTO:+0100
TZNAME:CET
DTSTART:20251026T010000
END:STANDARD
BEGIN:DAYLIGHT
TZOFFSETFROM:+0100
TZOFFSETTO:+0200
TZNAME:CEST
DTSTART:20260329T010000
END:DAYLIGHT
BEGIN:STANDARD
TZOFFSETFROM:+0200
TZOFFSETTO:+0100
TZNAME:CET
DTSTART:20261025T010000
END:STANDARD
BEGIN:DAYLIGHT
TZOFFSETFROM:+0100
TZOFFSETTO:+0200
TZNAME:CEST
DTSTART:20270328T010000
END:DAYLIGHT
BEGIN:STANDARD
TZOFFSETFROM:+0200
TZOFFSETTO:+0100
TZNAME:CET
DTSTART:20271031T010000
END:STANDARD
END:VTIMEZONE
BEGIN:VEVENT
DTSTART;TZID=Europe/Paris:20260417T190000
DTEND;TZID=Europe/Paris:20260419T123000
DTSTAMP:20260420T213421
CREATED:20260417T172119Z
LAST-MODIFIED:20260417T172119Z
UID:10001229-1776452400-1776601800@familiespelvalencia.org
SUMMARY:12 Hores de Glosa
DESCRIPTION:
URL:https://familiespelvalencia.org/activitat/12-hores-de-glosa/
LOCATION:Centre Social Terra\, C/Baró de Sant Petrillo\, 9\, València\, L'Horta\, 46020
CATEGORIES:València - districte capital
ATTACH;FMTTYPE=image/jpeg:https://familiespelvalencia.org/wp-content/uploads/2026/04/12-hores-de-glosa.jpg
GEO:39.4852742;-0.3605384
X-APPLE-STRUCTURED-LOCATION;VALUE=URI;X-ADDRESS=Centre Social Terra C/Baró de Sant Petrillo 9 València L'Horta 46020;X-APPLE-RADIUS=500;X-TITLE=C/Baró de Sant Petrillo\, 9:geo:-0.3605384,39.4852742
END:VEVENT
END:VCALENDAR