BEGIN:VCALENDAR
VERSION:2.0
PRODID:-//FAMÍLIES PEL VALENCIÀ - ECPv6.15.20//NONSGML v1.0//EN
CALSCALE:GREGORIAN
METHOD:PUBLISH
X-WR-CALNAME:FAMÍLIES PEL VALENCIÀ
X-ORIGINAL-URL:https://familiespelvalencia.org
X-WR-CALDESC:Esdeveniments per FAMÍLIES PEL VALENCIÀ
REFRESH-INTERVAL;VALUE=DURATION:PT1H
X-Robots-Tag:noindex
X-PUBLISHED-TTL:PT1H
BEGIN:VTIMEZONE
TZID:Europe/Paris
BEGIN:DAYLIGHT
TZOFFSETFROM:+0100
TZOFFSETTO:+0200
TZNAME:CEST
DTSTART:20250330T010000
END:DAYLIGHT
BEGIN:STANDARD
TZOFFSETFROM:+0200
TZOFFSETTO:+0100
TZNAME:CET
DTSTART:20251026T010000
END:STANDARD
BEGIN:DAYLIGHT
TZOFFSETFROM:+0100
TZOFFSETTO:+0200
TZNAME:CEST
DTSTART:20260329T010000
END:DAYLIGHT
BEGIN:STANDARD
TZOFFSETFROM:+0200
TZOFFSETTO:+0100
TZNAME:CET
DTSTART:20261025T010000
END:STANDARD
BEGIN:DAYLIGHT
TZOFFSETFROM:+0100
TZOFFSETTO:+0200
TZNAME:CEST
DTSTART:20270328T010000
END:DAYLIGHT
BEGIN:STANDARD
TZOFFSETFROM:+0200
TZOFFSETTO:+0100
TZNAME:CET
DTSTART:20271031T010000
END:STANDARD
END:VTIMEZONE
BEGIN:VEVENT
DTSTART;TZID=Europe/Paris:20260426T120000
DTEND;TZID=Europe/Paris:20260426T133000
DTSTAMP:20260424T044116
CREATED:20260402T073103Z
LAST-MODIFIED:20260402T073103Z
UID:10001180-1777204800-1777210200@familiespelvalencia.org
SUMMARY:Jocs col·laboratius
DESCRIPTION:
URL:https://familiespelvalencia.org/activitat/jocs-collaboratius/
LOCATION:La Morralla. Espai Popular\, C/ de Canalejas\, 79 (Grau)\, Castello de la Plana\, Plana Alta\, 12100
CATEGORIES:Comarques del nord
ATTACH;FMTTYPE=image/jpeg:https://familiespelvalencia.org/wp-content/uploads/2026/04/a-child-playing-a-memory-matching-game-with-colorful-cards-on-a-table.-7943490-scaled.jpg
GEO:39.9742258;0.0144159
X-APPLE-STRUCTURED-LOCATION;VALUE=URI;X-ADDRESS=La Morralla. Espai Popular C/ de Canalejas 79 (Grau) Castello de la Plana Plana Alta 12100;X-APPLE-RADIUS=500;X-TITLE=C/ de Canalejas\, 79 (Grau):geo:0.0144159,39.9742258
END:VEVENT
END:VCALENDAR