BEGIN:VCALENDAR
VERSION:2.0
PRODID:-//FAMÍLIES PEL VALENCIÀ - ECPv6.15.20//NONSGML v1.0//EN
CALSCALE:GREGORIAN
METHOD:PUBLISH
X-ORIGINAL-URL:https://familiespelvalencia.org
X-WR-CALDESC:Esdeveniments per FAMÍLIES PEL VALENCIÀ
REFRESH-INTERVAL;VALUE=DURATION:PT1H
X-Robots-Tag:noindex
X-PUBLISHED-TTL:PT1H
BEGIN:VTIMEZONE
TZID:Europe/Paris
BEGIN:DAYLIGHT
TZOFFSETFROM:+0100
TZOFFSETTO:+0200
TZNAME:CEST
DTSTART:20250330T010000
END:DAYLIGHT
BEGIN:STANDARD
TZOFFSETFROM:+0200
TZOFFSETTO:+0100
TZNAME:CET
DTSTART:20251026T010000
END:STANDARD
BEGIN:DAYLIGHT
TZOFFSETFROM:+0100
TZOFFSETTO:+0200
TZNAME:CEST
DTSTART:20260329T010000
END:DAYLIGHT
BEGIN:STANDARD
TZOFFSETFROM:+0200
TZOFFSETTO:+0100
TZNAME:CET
DTSTART:20261025T010000
END:STANDARD
BEGIN:DAYLIGHT
TZOFFSETFROM:+0100
TZOFFSETTO:+0200
TZNAME:CEST
DTSTART:20270328T010000
END:DAYLIGHT
BEGIN:STANDARD
TZOFFSETFROM:+0200
TZOFFSETTO:+0100
TZNAME:CET
DTSTART:20271031T010000
END:STANDARD
END:VTIMEZONE
BEGIN:VEVENT
DTSTART;TZID=Europe/Paris:20260328T180000
DTEND;TZID=Europe/Paris:20260328T190000
DTSTAMP:20260424T040240
CREATED:20260117T083645Z
LAST-MODIFIED:20260117T083645Z
UID:10000742-1774720800-1774724400@familiespelvalencia.org
SUMMARY:Teatre. Voilà
DESCRIPTION:“Voilà” és una proposta de teatre familiar de JM Gestió Teatral que aborda\, amb sensibilitat i humor\, la relació entre un pare i el mestre del seu fill de huit anys. A través d’una conversa plena d’emoció\, descobrim les pors d’un pare marcat per una experiència del passat i la mirada optimista d’un docent que confia en les potencialitats de cada xiquet. L’obra\, recomanada per a públic a partir de 5 anys\, combina teatre d’objectes i interpretació per oferir una història propera\, emotiva i plena d’esperança. Una peça curta i intensa que recorda que\, davant de qualsevol dificultat\, sempre hi ha una solució\, i que l’acompanyament emocional pot transformar la manera com les famílies i l’escola entenen la diferència. Perfecta per a gaudir en família i per a treballar valors com la confiança\, la comunicació i l’empatia. \nMés informació i venda d’entrades: La Carreta Teatre
URL:https://familiespelvalencia.org/activitat/teatre-voila/2026-03-28/2/
LOCATION:Sala La Carreta\, Carrer Pedro Moreno Sastre\, 112\, Elx\, Baix Vinalopó\, 03205
CATEGORIES:Comarques del sud
ATTACH;FMTTYPE=image/jpeg:https://familiespelvalencia.org/wp-content/uploads/2026/01/Voila.jpg
GEO:38.2753621;-0.7160597
X-APPLE-STRUCTURED-LOCATION;VALUE=URI;X-ADDRESS=Sala La Carreta Carrer Pedro Moreno Sastre 112 Elx Baix Vinalopó 03205;X-APPLE-RADIUS=500;X-TITLE=Carrer Pedro Moreno Sastre\, 112:geo:-0.7160597,38.2753621
END:VEVENT
BEGIN:VEVENT
DTSTART;TZID=Europe/Paris:20260328T120000
DTEND;TZID=Europe/Paris:20260328T130000
DTSTAMP:20260424T040240
CREATED:20260117T083645Z
LAST-MODIFIED:20260117T083645Z
UID:10000741-1774699200-1774702800@familiespelvalencia.org
SUMMARY:Teatre. Voilà
DESCRIPTION:“Voilà” és una proposta de teatre familiar de JM Gestió Teatral que aborda\, amb sensibilitat i humor\, la relació entre un pare i el mestre del seu fill de huit anys. A través d’una conversa plena d’emoció\, descobrim les pors d’un pare marcat per una experiència del passat i la mirada optimista d’un docent que confia en les potencialitats de cada xiquet. L’obra\, recomanada per a públic a partir de 5 anys\, combina teatre d’objectes i interpretació per oferir una història propera\, emotiva i plena d’esperança. Una peça curta i intensa que recorda que\, davant de qualsevol dificultat\, sempre hi ha una solució\, i que l’acompanyament emocional pot transformar la manera com les famílies i l’escola entenen la diferència. Perfecta per a gaudir en família i per a treballar valors com la confiança\, la comunicació i l’empatia. \nMés informació i venda d’entrades: La Carreta Teatre
URL:https://familiespelvalencia.org/activitat/teatre-voila/2026-03-28/1/
LOCATION:Sala La Carreta\, Carrer Pedro Moreno Sastre\, 112\, Elx\, Baix Vinalopó\, 03205
CATEGORIES:Comarques del sud
ATTACH;FMTTYPE=image/jpeg:https://familiespelvalencia.org/wp-content/uploads/2026/01/Voila.jpg
GEO:38.2753621;-0.7160597
X-APPLE-STRUCTURED-LOCATION;VALUE=URI;X-ADDRESS=Sala La Carreta Carrer Pedro Moreno Sastre 112 Elx Baix Vinalopó 03205;X-APPLE-RADIUS=500;X-TITLE=Carrer Pedro Moreno Sastre\, 112:geo:-0.7160597,38.2753621
END:VEVENT
BEGIN:VEVENT
DTSTART;TZID=Europe/Paris:20260128T120000
DTEND;TZID=Europe/Paris:20260128T130000
DTSTAMP:20260424T040240
CREATED:20251229T091445Z
LAST-MODIFIED:20251229T091445Z
UID:10000690-1769601600-1769605200@familiespelvalencia.org
SUMMARY:Teatre. Ona
DESCRIPTION:Cia. El Ball de Sant Vito
URL:https://familiespelvalencia.org/activitat/teatre-ona/2026-01-28/2/
LOCATION:Sala La Carreta\, Carrer Pedro Moreno Sastre\, 112\, Elx\, Baix Vinalopó\, 03205
CATEGORIES:Comarques del sud
GEO:38.2753621;-0.7160597
X-APPLE-STRUCTURED-LOCATION;VALUE=URI;X-ADDRESS=Sala La Carreta Carrer Pedro Moreno Sastre 112 Elx Baix Vinalopó 03205;X-APPLE-RADIUS=500;X-TITLE=Carrer Pedro Moreno Sastre\, 112:geo:-0.7160597,38.2753621
END:VEVENT
BEGIN:VEVENT
DTSTART;TZID=Europe/Paris:20260128T100000
DTEND;TZID=Europe/Paris:20260128T110000
DTSTAMP:20260424T040240
CREATED:20251229T091445Z
LAST-MODIFIED:20251229T091445Z
UID:10000689-1769594400-1769598000@familiespelvalencia.org
SUMMARY:Teatre. Ona
DESCRIPTION:Cia. El Ball de Sant Vito
URL:https://familiespelvalencia.org/activitat/teatre-ona/2026-01-28/1/
LOCATION:Sala La Carreta\, Carrer Pedro Moreno Sastre\, 112\, Elx\, Baix Vinalopó\, 03205
CATEGORIES:Comarques del sud
GEO:38.2753621;-0.7160597
X-APPLE-STRUCTURED-LOCATION;VALUE=URI;X-ADDRESS=Sala La Carreta Carrer Pedro Moreno Sastre 112 Elx Baix Vinalopó 03205;X-APPLE-RADIUS=500;X-TITLE=Carrer Pedro Moreno Sastre\, 112:geo:-0.7160597,38.2753621
END:VEVENT
BEGIN:VEVENT
DTSTART;TZID=Europe/Paris:20260124T180000
DTEND;TZID=Europe/Paris:20260124T190000
DTSTAMP:20260424T040240
CREATED:20251229T085301Z
LAST-MODIFIED:20251229T085301Z
UID:10000688-1769277600-1769281200@familiespelvalencia.org
SUMMARY:Teatre. El petit xiquet de la selva
DESCRIPTION:Cia. La Carreta Teatre \nTot un clàssic que reflectix comportaments i valors humans\, com l’amistat\, la generositat\, o el rancor. Una història que gira sobre l’acceptació i el respecte a les diferents races i espècies. Una reflexió sobre l’equilibri i les lleis de la naturalesa. Mamà Lloba està cuidant de les seues llobatons quan\, per casualitat\, troba a un xicotet xiquet abandonat en plena selva. \nCom qualsevol altre llobató\, Mowgli és instruït en la Llei de la selva per Baloo\, l’os bru. Així\, aprén a conviure amb la resta d’animals en harmonia amb la naturalesa. La seua relació amb Baloo li ensenya\, a més\, el verdader valor de l’amistat. Però passa el temps i Mowgli es fa major“…Ara la Selva és un lloc perillós per a ell” \nMés informació i compra d’entrades: La Carreta
URL:https://familiespelvalencia.org/activitat/teatre-el-petit-xiquet-de-la-selva/2026-01-24/2/
LOCATION:Sala La Carreta\, Carrer Pedro Moreno Sastre\, 112\, Elx\, Baix Vinalopó\, 03205
CATEGORIES:Comarques del sud
ATTACH;FMTTYPE=image/jpeg:https://familiespelvalencia.org/wp-content/uploads/2025/12/El-petit-xiquet-de-la-selva.jpg
GEO:38.2753621;-0.7160597
X-APPLE-STRUCTURED-LOCATION;VALUE=URI;X-ADDRESS=Sala La Carreta Carrer Pedro Moreno Sastre 112 Elx Baix Vinalopó 03205;X-APPLE-RADIUS=500;X-TITLE=Carrer Pedro Moreno Sastre\, 112:geo:-0.7160597,38.2753621
END:VEVENT
BEGIN:VEVENT
DTSTART;TZID=Europe/Paris:20260124T120000
DTEND;TZID=Europe/Paris:20260124T130000
DTSTAMP:20260424T040240
CREATED:20251229T085301Z
LAST-MODIFIED:20251229T085301Z
UID:10000687-1769256000-1769259600@familiespelvalencia.org
SUMMARY:Teatre. El petit xiquet de la selva
DESCRIPTION:Cia. La Carreta Teatre \nTot un clàssic que reflectix comportaments i valors humans\, com l’amistat\, la generositat\, o el rancor. Una història que gira sobre l’acceptació i el respecte a les diferents races i espècies. Una reflexió sobre l’equilibri i les lleis de la naturalesa. Mamà Lloba està cuidant de les seues llobatons quan\, per casualitat\, troba a un xicotet xiquet abandonat en plena selva. \nCom qualsevol altre llobató\, Mowgli és instruït en la Llei de la selva per Baloo\, l’os bru. Així\, aprén a conviure amb la resta d’animals en harmonia amb la naturalesa. La seua relació amb Baloo li ensenya\, a més\, el verdader valor de l’amistat. Però passa el temps i Mowgli es fa major“…Ara la Selva és un lloc perillós per a ell” \nMés informació i compra d’entrades: La Carreta
URL:https://familiespelvalencia.org/activitat/teatre-el-petit-xiquet-de-la-selva/2026-01-24/1/
LOCATION:Sala La Carreta\, Carrer Pedro Moreno Sastre\, 112\, Elx\, Baix Vinalopó\, 03205
CATEGORIES:Comarques del sud
ATTACH;FMTTYPE=image/jpeg:https://familiespelvalencia.org/wp-content/uploads/2025/12/El-petit-xiquet-de-la-selva.jpg
GEO:38.2753621;-0.7160597
X-APPLE-STRUCTURED-LOCATION;VALUE=URI;X-ADDRESS=Sala La Carreta Carrer Pedro Moreno Sastre 112 Elx Baix Vinalopó 03205;X-APPLE-RADIUS=500;X-TITLE=Carrer Pedro Moreno Sastre\, 112:geo:-0.7160597,38.2753621
END:VEVENT
END:VCALENDAR