BEGIN:VCALENDAR
VERSION:2.0
PRODID:-//FAMÍLIES PEL VALENCIÀ - ECPv6.15.20//NONSGML v1.0//EN
CALSCALE:GREGORIAN
METHOD:PUBLISH
X-WR-CALNAME:FAMÍLIES PEL VALENCIÀ
X-ORIGINAL-URL:https://familiespelvalencia.org
X-WR-CALDESC:Esdeveniments per FAMÍLIES PEL VALENCIÀ
REFRESH-INTERVAL;VALUE=DURATION:PT1H
X-Robots-Tag:noindex
X-PUBLISHED-TTL:PT1H
BEGIN:VTIMEZONE
TZID:Europe/Paris
BEGIN:DAYLIGHT
TZOFFSETFROM:+0100
TZOFFSETTO:+0200
TZNAME:CEST
DTSTART:20240331T010000
END:DAYLIGHT
BEGIN:STANDARD
TZOFFSETFROM:+0200
TZOFFSETTO:+0100
TZNAME:CET
DTSTART:20241027T010000
END:STANDARD
BEGIN:DAYLIGHT
TZOFFSETFROM:+0100
TZOFFSETTO:+0200
TZNAME:CEST
DTSTART:20250330T010000
END:DAYLIGHT
BEGIN:STANDARD
TZOFFSETFROM:+0200
TZOFFSETTO:+0100
TZNAME:CET
DTSTART:20251026T010000
END:STANDARD
BEGIN:DAYLIGHT
TZOFFSETFROM:+0100
TZOFFSETTO:+0200
TZNAME:CEST
DTSTART:20260329T010000
END:DAYLIGHT
BEGIN:STANDARD
TZOFFSETFROM:+0200
TZOFFSETTO:+0100
TZNAME:CET
DTSTART:20261025T010000
END:STANDARD
END:VTIMEZONE
BEGIN:VEVENT
DTSTART;TZID=Europe/Paris:20251206T103000
DTEND;TZID=Europe/Paris:20251206T190000
DTSTAMP:20260424T050617
CREATED:20251201T220628Z
LAST-MODIFIED:20251201T220628Z
UID:10000528-1765017000-1765047600@familiespelvalencia.org
SUMMARY:Plaça del llibre a Cinctorres
DESCRIPTION:Des de les 10:30 del matí i durant tot el dia al local de festes de Cinctorres activitats per a tots els públics. \n 
URL:https://familiespelvalencia.org/activitat/placa-del-llibre-a-cinctorres/
LOCATION:Pavelló de festes de Cinctorres\, C. Pajares San Cristobal\, Cinctorres\, Els Ports
CATEGORIES:Comarques del nord
ATTACH;FMTTYPE=image/jpeg:https://familiespelvalencia.org/wp-content/uploads/2025/12/placa-del-llibre-cinctorres.jpg
GEO:40.5846281;-0.2174501
X-APPLE-STRUCTURED-LOCATION;VALUE=URI;X-ADDRESS=Pavelló de festes de Cinctorres C. Pajares San Cristobal Cinctorres Els Ports;X-APPLE-RADIUS=500;X-TITLE=C. Pajares San Cristobal:geo:-0.2174501,40.5846281
END:VEVENT
END:VCALENDAR