BEGIN:VCALENDAR
VERSION:2.0
PRODID:-//FAMÍLIES PEL VALENCIÀ - ECPv6.15.20//NONSGML v1.0//EN
CALSCALE:GREGORIAN
METHOD:PUBLISH
X-ORIGINAL-URL:https://familiespelvalencia.org
X-WR-CALDESC:Esdeveniments per FAMÍLIES PEL VALENCIÀ
REFRESH-INTERVAL;VALUE=DURATION:PT1H
X-Robots-Tag:noindex
X-PUBLISHED-TTL:PT1H
BEGIN:VTIMEZONE
TZID:Europe/Paris
BEGIN:DAYLIGHT
TZOFFSETFROM:+0100
TZOFFSETTO:+0200
TZNAME:CEST
DTSTART:20240331T010000
END:DAYLIGHT
BEGIN:STANDARD
TZOFFSETFROM:+0200
TZOFFSETTO:+0100
TZNAME:CET
DTSTART:20241027T010000
END:STANDARD
BEGIN:DAYLIGHT
TZOFFSETFROM:+0100
TZOFFSETTO:+0200
TZNAME:CEST
DTSTART:20250330T010000
END:DAYLIGHT
BEGIN:STANDARD
TZOFFSETFROM:+0200
TZOFFSETTO:+0100
TZNAME:CET
DTSTART:20251026T010000
END:STANDARD
BEGIN:DAYLIGHT
TZOFFSETFROM:+0100
TZOFFSETTO:+0200
TZNAME:CEST
DTSTART:20260329T010000
END:DAYLIGHT
BEGIN:STANDARD
TZOFFSETFROM:+0200
TZOFFSETTO:+0100
TZNAME:CET
DTSTART:20261025T010000
END:STANDARD
END:VTIMEZONE
BEGIN:VEVENT
DTSTART;TZID=Europe/Paris:20251230T170000
DTEND;TZID=Europe/Paris:20251230T210000
DTSTAMP:20260421T084809
CREATED:20251218T222800Z
LAST-MODIFIED:20260102T080307Z
UID:10000657-1767114000-1767128400@familiespelvalencia.org
SUMMARY:Animació lectora. L’espai de les mil i una històries
DESCRIPTION:La Biblioteca Infantil del Museu de Prehistòria de València porta a la Plaça de Manises una proposta màgica per a xiquets i xiquetes de totes les edats: “L’espai de les mil i una històries”. Aquesta activitat d’animació lectora s’emmarca dins del programa de “La Vila del Nadal”\, que tindrà lloc del 19 de desembre al 5 de gener al cor de València. \nMés informació: Museu de Prehistòria de València i Diputació de València
URL:https://familiespelvalencia.org/activitat/animacion-lectora-lespai-de-les-mil-i-una-histories/2025-12-30/
LOCATION:Plaça de Manises de València\, Plaça de Manises\, València\, L'Horta\, 46003
CATEGORIES:València - districte capital
GEO:39.4768193;-0.3765382
X-APPLE-STRUCTURED-LOCATION;VALUE=URI;X-ADDRESS=Plaça de Manises de València Plaça de Manises València L'Horta 46003;X-APPLE-RADIUS=500;X-TITLE=Plaça de Manises:geo:-0.3765382,39.4768193
END:VEVENT
BEGIN:VEVENT
DTSTART;TZID=Europe/Paris:20251229T173000
DTEND;TZID=Europe/Paris:20251229T210000
DTSTAMP:20260421T084809
CREATED:20251218T222800Z
LAST-MODIFIED:20260102T080307Z
UID:10000656-1767029400-1767042000@familiespelvalencia.org
SUMMARY:Animació lectora. L’espai de les mil i una històries
DESCRIPTION:La Biblioteca Infantil del Museu de Prehistòria de València porta a la Plaça de Manises una proposta màgica per a xiquets i xiquetes de totes les edats: “L’espai de les mil i una històries”. Aquesta activitat d’animació lectora s’emmarca dins del programa de “La Vila del Nadal”\, que tindrà lloc del 19 de desembre al 5 de gener al cor de València. \nMés informació: Museu de Prehistòria de València i Diputació de València
URL:https://familiespelvalencia.org/activitat/animacion-lectora-lespai-de-les-mil-i-una-histories/2025-12-29/
LOCATION:Plaça de Manises de València\, Plaça de Manises\, València\, L'Horta\, 46003
CATEGORIES:València - districte capital
GEO:39.4768193;-0.3765382
X-APPLE-STRUCTURED-LOCATION;VALUE=URI;X-ADDRESS=Plaça de Manises de València Plaça de Manises València L'Horta 46003;X-APPLE-RADIUS=500;X-TITLE=Plaça de Manises:geo:-0.3765382,39.4768193
END:VEVENT
BEGIN:VEVENT
DTSTART;TZID=Europe/Paris:20251227T173000
DTEND;TZID=Europe/Paris:20251227T210000
DTSTAMP:20260421T084809
CREATED:20251218T222800Z
LAST-MODIFIED:20260102T080307Z
UID:10000655-1766856600-1766869200@familiespelvalencia.org
SUMMARY:Animació lectora. L’espai de les mil i una històries
DESCRIPTION:La Biblioteca Infantil del Museu de Prehistòria de València porta a la Plaça de Manises una proposta màgica per a xiquets i xiquetes de totes les edats: “L’espai de les mil i una històries”. Aquesta activitat d’animació lectora s’emmarca dins del programa de “La Vila del Nadal”\, que tindrà lloc del 19 de desembre al 5 de gener al cor de València. \nMés informació: Museu de Prehistòria de València i Diputació de València
URL:https://familiespelvalencia.org/activitat/animacion-lectora-lespai-de-les-mil-i-una-histories/2025-12-27/
LOCATION:Plaça de Manises de València\, Plaça de Manises\, València\, L'Horta\, 46003
CATEGORIES:València - districte capital
GEO:39.4768193;-0.3765382
X-APPLE-STRUCTURED-LOCATION;VALUE=URI;X-ADDRESS=Plaça de Manises de València Plaça de Manises València L'Horta 46003;X-APPLE-RADIUS=500;X-TITLE=Plaça de Manises:geo:-0.3765382,39.4768193
END:VEVENT
BEGIN:VEVENT
DTSTART;TZID=Europe/Paris:20251226T173000
DTEND;TZID=Europe/Paris:20251226T210000
DTSTAMP:20260421T084809
CREATED:20251218T222800Z
LAST-MODIFIED:20260102T080307Z
UID:10000654-1766770200-1766782800@familiespelvalencia.org
SUMMARY:Animació lectora. L’espai de les mil i una històries
DESCRIPTION:La Biblioteca Infantil del Museu de Prehistòria de València porta a la Plaça de Manises una proposta màgica per a xiquets i xiquetes de totes les edats: “L’espai de les mil i una històries”. Aquesta activitat d’animació lectora s’emmarca dins del programa de “La Vila del Nadal”\, que tindrà lloc del 19 de desembre al 5 de gener al cor de València. \nMés informació: Museu de Prehistòria de València i Diputació de València
URL:https://familiespelvalencia.org/activitat/animacion-lectora-lespai-de-les-mil-i-una-histories/2025-12-26/
LOCATION:Plaça de Manises de València\, Plaça de Manises\, València\, L'Horta\, 46003
CATEGORIES:València - districte capital
GEO:39.4768193;-0.3765382
X-APPLE-STRUCTURED-LOCATION;VALUE=URI;X-ADDRESS=Plaça de Manises de València Plaça de Manises València L'Horta 46003;X-APPLE-RADIUS=500;X-TITLE=Plaça de Manises:geo:-0.3765382,39.4768193
END:VEVENT
BEGIN:VEVENT
DTSTART;TZID=Europe/Paris:20251224T173000
DTEND;TZID=Europe/Paris:20251224T210000
DTSTAMP:20260421T084809
CREATED:20251218T222800Z
LAST-MODIFIED:20260102T080307Z
UID:10000653-1766597400-1766610000@familiespelvalencia.org
SUMMARY:Animació lectora. L’espai de les mil i una històries
DESCRIPTION:La Biblioteca Infantil del Museu de Prehistòria de València porta a la Plaça de Manises una proposta màgica per a xiquets i xiquetes de totes les edats: “L’espai de les mil i una històries”. Aquesta activitat d’animació lectora s’emmarca dins del programa de “La Vila del Nadal”\, que tindrà lloc del 19 de desembre al 5 de gener al cor de València. \nMés informació: Museu de Prehistòria de València i Diputació de València
URL:https://familiespelvalencia.org/activitat/animacion-lectora-lespai-de-les-mil-i-una-histories/2025-12-24/
LOCATION:Plaça de Manises de València\, Plaça de Manises\, València\, L'Horta\, 46003
CATEGORIES:València - districte capital
GEO:39.4768193;-0.3765382
X-APPLE-STRUCTURED-LOCATION;VALUE=URI;X-ADDRESS=Plaça de Manises de València Plaça de Manises València L'Horta 46003;X-APPLE-RADIUS=500;X-TITLE=Plaça de Manises:geo:-0.3765382,39.4768193
END:VEVENT
BEGIN:VEVENT
DTSTART;TZID=Europe/Paris:20251223T173000
DTEND;TZID=Europe/Paris:20251223T210000
DTSTAMP:20260421T084809
CREATED:20251218T222800Z
LAST-MODIFIED:20260102T080307Z
UID:10000652-1766511000-1766523600@familiespelvalencia.org
SUMMARY:Animació lectora. L’espai de les mil i una històries
DESCRIPTION:La Biblioteca Infantil del Museu de Prehistòria de València porta a la Plaça de Manises una proposta màgica per a xiquets i xiquetes de totes les edats: “L’espai de les mil i una històries”. Aquesta activitat d’animació lectora s’emmarca dins del programa de “La Vila del Nadal”\, que tindrà lloc del 19 de desembre al 5 de gener al cor de València. \nMés informació: Museu de Prehistòria de València i Diputació de València
URL:https://familiespelvalencia.org/activitat/animacion-lectora-lespai-de-les-mil-i-una-histories/2025-12-23/
LOCATION:Plaça de Manises de València\, Plaça de Manises\, València\, L'Horta\, 46003
CATEGORIES:València - districte capital
GEO:39.4768193;-0.3765382
X-APPLE-STRUCTURED-LOCATION;VALUE=URI;X-ADDRESS=Plaça de Manises de València Plaça de Manises València L'Horta 46003;X-APPLE-RADIUS=500;X-TITLE=Plaça de Manises:geo:-0.3765382,39.4768193
END:VEVENT
BEGIN:VEVENT
DTSTART;TZID=Europe/Paris:20251219T173000
DTEND;TZID=Europe/Paris:20251219T210000
DTSTAMP:20260421T084809
CREATED:20251218T222800Z
LAST-MODIFIED:20260102T080307Z
UID:10000651-1766165400-1766178000@familiespelvalencia.org
SUMMARY:Animació lectora. L’espai de les mil i una històries
DESCRIPTION:La Biblioteca Infantil del Museu de Prehistòria de València porta a la Plaça de Manises una proposta màgica per a xiquets i xiquetes de totes les edats: “L’espai de les mil i una històries”. Aquesta activitat d’animació lectora s’emmarca dins del programa de “La Vila del Nadal”\, que tindrà lloc del 19 de desembre al 5 de gener al cor de València. \nMés informació: Museu de Prehistòria de València i Diputació de València
URL:https://familiespelvalencia.org/activitat/animacion-lectora-lespai-de-les-mil-i-una-histories/2025-12-19/
LOCATION:Plaça de Manises de València\, Plaça de Manises\, València\, L'Horta\, 46003
CATEGORIES:València - districte capital
GEO:39.4768193;-0.3765382
X-APPLE-STRUCTURED-LOCATION;VALUE=URI;X-ADDRESS=Plaça de Manises de València Plaça de Manises València L'Horta 46003;X-APPLE-RADIUS=500;X-TITLE=Plaça de Manises:geo:-0.3765382,39.4768193
END:VEVENT
END:VCALENDAR