BEGIN:VCALENDAR
VERSION:2.0
PRODID:-//FAMÍLIES PEL VALENCIÀ - ECPv6.15.20//NONSGML v1.0//EN
CALSCALE:GREGORIAN
METHOD:PUBLISH
X-WR-CALNAME:FAMÍLIES PEL VALENCIÀ
X-ORIGINAL-URL:https://familiespelvalencia.org
X-WR-CALDESC:Esdeveniments per FAMÍLIES PEL VALENCIÀ
REFRESH-INTERVAL;VALUE=DURATION:PT1H
X-Robots-Tag:noindex
X-PUBLISHED-TTL:PT1H
BEGIN:VTIMEZONE
TZID:Europe/Paris
BEGIN:DAYLIGHT
TZOFFSETFROM:+0100
TZOFFSETTO:+0200
TZNAME:CEST
DTSTART:20240331T010000
END:DAYLIGHT
BEGIN:STANDARD
TZOFFSETFROM:+0200
TZOFFSETTO:+0100
TZNAME:CET
DTSTART:20241027T010000
END:STANDARD
BEGIN:DAYLIGHT
TZOFFSETFROM:+0100
TZOFFSETTO:+0200
TZNAME:CEST
DTSTART:20250330T010000
END:DAYLIGHT
BEGIN:STANDARD
TZOFFSETFROM:+0200
TZOFFSETTO:+0100
TZNAME:CET
DTSTART:20251026T010000
END:STANDARD
BEGIN:DAYLIGHT
TZOFFSETFROM:+0100
TZOFFSETTO:+0200
TZNAME:CEST
DTSTART:20260329T010000
END:DAYLIGHT
BEGIN:STANDARD
TZOFFSETFROM:+0200
TZOFFSETTO:+0100
TZNAME:CET
DTSTART:20261025T010000
END:STANDARD
BEGIN:DAYLIGHT
TZOFFSETFROM:+0100
TZOFFSETTO:+0200
TZNAME:CEST
DTSTART:20270328T010000
END:DAYLIGHT
BEGIN:STANDARD
TZOFFSETFROM:+0200
TZOFFSETTO:+0100
TZNAME:CET
DTSTART:20271031T010000
END:STANDARD
END:VTIMEZONE
BEGIN:VEVENT
DTSTART;TZID=Europe/Paris:20260412T120000
DTEND;TZID=Europe/Paris:20260412T140000
DTSTAMP:20260424T035707
CREATED:20260305T204548Z
LAST-MODIFIED:20260305T204553Z
UID:10001026-1775995200-1776002400@familiespelvalencia.org
SUMMARY:Concert. Trobadorets
DESCRIPTION:El cicle “Como ir al parque” torna amb una proposta perfecta per a gaudir en família: Trobadorets\, un dels grups de referència de la música infantil i familiar en valencià. Amb més de quinze anys de trajectòria\, els seus concerts són dinàmics\, participatius i plens d’energia\, pensats perquè menuts i grans canten\, ballen i xalen des del primer minut. Una actuació ideal per acomiadar les vacances escolars amb rialles\, música i valors positius\, en un entorn proper i acollidor com La Casa de la Mar d’Alboraia. \nMés informació ivenda d’entrades: Casa de la Mar
URL:https://familiespelvalencia.org/activitat/concert-trobadorets-13/
LOCATION:Casa de la Mar.- Alboraia\, Avinguda Novel·lista Vicente Blasco Ibáñez\, 8\, Alboraia\, L'Horta\, 46120
CATEGORIES:Comarques Túria–Xúquer
ATTACH;FMTTYPE=image/jpeg:https://familiespelvalencia.org/wp-content/uploads/2026/03/Casa-del-mar.-Trobadorets.jpg
GEO:39.4989552;-0.3510141
X-APPLE-STRUCTURED-LOCATION;VALUE=URI;X-ADDRESS=Casa de la Mar.- Alboraia Avinguda Novel·lista Vicente Blasco Ibáñez 8 Alboraia L'Horta 46120;X-APPLE-RADIUS=500;X-TITLE=Avinguda Novel·lista Vicente Blasco Ibáñez\, 8:geo:-0.3510141,39.4989552
END:VEVENT
BEGIN:VEVENT
DTSTART;TZID=Europe/Paris:20260201T130000
DTEND;TZID=Europe/Paris:20260201T150000
DTSTAMP:20260424T035707
CREATED:20260109T191412Z
LAST-MODIFIED:20260109T191412Z
UID:10000702-1769950800-1769958000@familiespelvalencia.org
SUMMARY:Concert. Ramonets
DESCRIPTION:Arriben RAMONETS a La Casa de la Mar\, la banda que converteix el rock’n’roll en una autèntica festa per a totes les edats. Guitarres afilades\, actitud punk i cançons que enganxen des del primer “un-dos-tres\, a botar!”. Els seus concerts són pura energia: participació\, humor\, bon rotllo i temassos que fan botar xiquets\, majors i qualsevol que tinga un poquet de rock a les venes.\nUn espectacle familiar que funciona com un torb: divertit\, educatiu i amb eixe esperit gamberro que el fa irresistible. \nMés informació i compra d’entrades: La Casa de la Mar
URL:https://familiespelvalencia.org/activitat/concert-ramonets/
LOCATION:Casa de la Mar.- Alboraia\, Avinguda Novel·lista Vicente Blasco Ibáñez\, 8\, Alboraia\, L'Horta\, 46120
CATEGORIES:Comarques Túria–Xúquer
ATTACH;FMTTYPE=image/png:https://familiespelvalencia.org/wp-content/uploads/2026/01/ramonets-logo.png
GEO:39.4989552;-0.3510141
X-APPLE-STRUCTURED-LOCATION;VALUE=URI;X-ADDRESS=Casa de la Mar.- Alboraia Avinguda Novel·lista Vicente Blasco Ibáñez 8 Alboraia L'Horta 46120;X-APPLE-RADIUS=500;X-TITLE=Avinguda Novel·lista Vicente Blasco Ibáñez\, 8:geo:-0.3510141,39.4989552
END:VEVENT
BEGIN:VEVENT
DTSTART;TZID=Europe/Paris:20251228T120000
DTEND;TZID=Europe/Paris:20251228T140000
DTSTAMP:20260424T035707
CREATED:20251225T211158Z
LAST-MODIFIED:20251225T211340Z
UID:10000682-1766923200-1766930400@familiespelvalencia.org
SUMMARY:Concert. Del Rotllo (Falsos i Absurds + Reina Mora + Primavera Valenciana)
DESCRIPTION:Un diumenge únic per viure la música en directe amb tota la seua força!\nLa Casa de la Mar acull una gran festa dins del Patacona Fest\, amb tres propostes que faran vibrar públic de totes les edats: \n\nFalsos i Absurds: el duet acústic que transforma versions en valencià i castellà en un viatge íntim i emotiu. Al repertori\, noms com Manel\, Figa Flawas\, Obrint Pas\, Lluís Llach\, Al Tall\, La Raíz o Oques Grasses.\nReina Mora: la Electro Brass Band valenciana que barreja la potència bandística amb l’electrònica més salvatge (Techno\, Hardtek\, Drum&Bass\, Trance). El seu “Electro Cañí” convertirà La Casa de la Mar en una autèntica rave!\nPrimavera Valenciana: tribut que reviu la força d’Obrint Pas i La Gossa Sorda amb un espectacle ple d’emoció\, memòria i essència del rock valencià\n\n🔥 I a partir de les 14:00 h… festa també per al paladar!\nEl mestre paeller Luis “El Rico”\, directament des de l’Albufera\, oferirà un showcooking de paelles en directe: foc\, aroma i tradició mentre l’arròs es fa al punt perfecte. Una experiència tan valenciana com deliciosa. \n📌 Un pla ideal per a famílies que estimen la música\, l’ambient festiu i la bona gastronomia! \nMés informació i venda d’entrades: Casa de la Mar \nMenors de 12 anys entrada lliure.
URL:https://familiespelvalencia.org/activitat/concert-del-rotllo-falsos-i-absurds-reina-mora-primavera-valenciana/
LOCATION:Casa de la Mar.- Alboraia\, Avinguda Novel·lista Vicente Blasco Ibáñez\, 8\, Alboraia\, L'Horta\, 46120
CATEGORIES:Comarques Túria–Xúquer
ATTACH;FMTTYPE=image/jpeg:https://familiespelvalencia.org/wp-content/uploads/2025/12/Del-Rotllo.jpg
GEO:39.4989552;-0.3510141
X-APPLE-STRUCTURED-LOCATION;VALUE=URI;X-ADDRESS=Casa de la Mar.- Alboraia Avinguda Novel·lista Vicente Blasco Ibáñez 8 Alboraia L'Horta 46120;X-APPLE-RADIUS=500;X-TITLE=Avinguda Novel·lista Vicente Blasco Ibáñez\, 8:geo:-0.3510141,39.4989552
END:VEVENT
BEGIN:VEVENT
DTSTART;TZID=Europe/Paris:20251127T200000
DTEND;TZID=Europe/Paris:20251127T210000
DTSTAMP:20260424T035707
CREATED:20251127T091953Z
LAST-MODIFIED:20251127T092236Z
UID:10000487-1764273600-1764277200@familiespelvalencia.org
SUMMARY:Concert. Sa Pena i Centvi
DESCRIPTION:Sa Pena i Centvi participen en el Cicle d’ECOS DE L’HORTA celebrat a La Casa de la Mar. \nCentvi és un jove artista d’Altea (la Marina Baixa) que ha sabut trobar un espai propi dins de l’escena del rap valencià. Amb un estil personal que combina l’autenticitat de les lletres quotidianes amb un so fresc i contemporani\, el seu treball parla de vida\, barri\, amistat i identitat des d’una mirada sincera i propera. \nEl seu primer disc\, M’agradaria (2023)\, va marcar un punt d’inflexió en la seua trajectòria. L’àlbum\, produït amb un so cuidat i una gran maduresa lírica\, va rebre una molt bona acollida per part del públic i de la crítica\, aconseguint dues nominacions als Premis Ovidi Montllor 2023. \nEl grup de Sa Pena està format per tres integrants\, Ausiàs Galbis de Gandia\, Marta Asuero i Manel Fornés de Pedreguer. \nA Sa Pena van començar a escriure música amb la cançó de «Buscant el camí»\, i des d’eixe moment\, han continuat gaudint del procés a un ritme frenètic\, creant noves composicions que queden arreplegades en «Principis» i «Revolució»\, els seus dos discos\, a més de «Tot canvia»\, que és l’últim senzill. \nAprofita els super descomptes en les anticipades de dues de les grans promeses del panorama musical valencià! \nVine a gaudir de dues de les grans promeses del panorama musical valencià! \n20:00h CENTVI\n21:00h SA PENA \nMés informació: Casa de la Mar
URL:https://familiespelvalencia.org/activitat/concert-sa-pena-i-centvi/
LOCATION:Casa de la Mar.- Alboraia\, Avinguda Novel·lista Vicente Blasco Ibáñez\, 8\, Alboraia\, L'Horta\, 46120
CATEGORIES:Comarques Túria–Xúquer
ATTACH;FMTTYPE=image/jpeg:https://familiespelvalencia.org/wp-content/uploads/2025/11/sa-pena-i-centvi.jpeg
GEO:39.4989552;-0.3510141
X-APPLE-STRUCTURED-LOCATION;VALUE=URI;X-ADDRESS=Casa de la Mar.- Alboraia Avinguda Novel·lista Vicente Blasco Ibáñez 8 Alboraia L'Horta 46120;X-APPLE-RADIUS=500;X-TITLE=Avinguda Novel·lista Vicente Blasco Ibáñez\, 8:geo:-0.3510141,39.4989552
END:VEVENT
END:VCALENDAR