BEGIN:VCALENDAR
VERSION:2.0
PRODID:-//FAMÍLIES PEL VALENCIÀ - ECPv6.15.20//NONSGML v1.0//EN
CALSCALE:GREGORIAN
METHOD:PUBLISH
X-ORIGINAL-URL:https://familiespelvalencia.org
X-WR-CALDESC:Esdeveniments per FAMÍLIES PEL VALENCIÀ
REFRESH-INTERVAL;VALUE=DURATION:PT1H
X-Robots-Tag:noindex
X-PUBLISHED-TTL:PT1H
BEGIN:VTIMEZONE
TZID:Europe/Paris
BEGIN:DAYLIGHT
TZOFFSETFROM:+0100
TZOFFSETTO:+0200
TZNAME:CEST
DTSTART:20250330T010000
END:DAYLIGHT
BEGIN:STANDARD
TZOFFSETFROM:+0200
TZOFFSETTO:+0100
TZNAME:CET
DTSTART:20251026T010000
END:STANDARD
BEGIN:DAYLIGHT
TZOFFSETFROM:+0100
TZOFFSETTO:+0200
TZNAME:CEST
DTSTART:20260329T010000
END:DAYLIGHT
BEGIN:STANDARD
TZOFFSETFROM:+0200
TZOFFSETTO:+0100
TZNAME:CET
DTSTART:20261025T010000
END:STANDARD
BEGIN:DAYLIGHT
TZOFFSETFROM:+0100
TZOFFSETTO:+0200
TZNAME:CEST
DTSTART:20270328T010000
END:DAYLIGHT
BEGIN:STANDARD
TZOFFSETFROM:+0200
TZOFFSETTO:+0100
TZNAME:CET
DTSTART:20271031T010000
END:STANDARD
END:VTIMEZONE
BEGIN:VEVENT
DTSTART;TZID=Europe/Paris:20260920T173000
DTEND;TZID=Europe/Paris:20260920T190000
DTSTAMP:20260421T004121
CREATED:20260202T142009Z
LAST-MODIFIED:20260202T142009Z
UID:10000855-1789925400-1789930800@familiespelvalencia.org
SUMMARY:Visita taller familiar: Buscant l’Alícia
DESCRIPTION:En aquesta visita taller ens trucarà Lewis Carrol per telèfon\, beurem d’un beuratge\, ens farem grans i petits\, caminarem del revés o sobre el sostre\, celebrarem el nostre no aniversari i ens convertirem en un gat invisible. No us ho creieu? Tot això i moltes coses més passen al país de les meravelles\, on ens endinsarem seguint els passos de l’Alícia. Plegats descobrirem el relat i els personatges d’aquest clàssic de la literatura universal per endinsar-nos en un món de creativitat i imaginació i\, mitjançant diverses dinàmiques i materials diferents\, ens familiaritzarem amb diferents creacions contemporànies inspirades en aquesta història. \nDurada: 1 hora i 30 minuts // Activitat recomanada per a infants a partir de 5 anys. // Activitat conceptualitzada i dissenyada per la mediadora artística Teresa Rubio. \nEls xiquets i xiquetes han d’anar acompanyats sempre d’un adult\, que també ha de reservar una entrada per a l’activitat \nMés informació i venda d’entrades: Web CaixaFòrum
URL:https://familiespelvalencia.org/activitat/visita-taller-familiar-buscant-lalicia/2026-09-20/
LOCATION:Caixa Forum\, Ciutat de les Arts i les Ciències\, C/ Eduardo Primo Yúfera\, 1A\, València\, 46013
CATEGORIES:València - districte capital
ATTACH;FMTTYPE=image/webp:https://familiespelvalencia.org/wp-content/uploads/2026/02/Els-mons-dAlicia.-Somiar-el-pais-de-les-meravelles.webp
GEO:39.4538716;-0.3498098
X-APPLE-STRUCTURED-LOCATION;VALUE=URI;X-ADDRESS=Caixa Forum Ciutat de les Arts i les Ciències C/ Eduardo Primo Yúfera 1A València 46013;X-APPLE-RADIUS=500;X-TITLE=Ciutat de les Arts i les Ciències\, C/ Eduardo Primo Yúfera\, 1A:geo:-0.3498098,39.4538716
END:VEVENT
BEGIN:VEVENT
DTSTART;TZID=Europe/Paris:20260926T170000
DTEND;TZID=Europe/Paris:20260926T180000
DTSTAMP:20260421T004121
CREATED:20260129T214353Z
LAST-MODIFIED:20260129T214353Z
UID:10000808-1790442000-1790445600@familiespelvalencia.org
SUMMARY:Òptiques del bosc experimentant amb formes de veure no humanes. Taller
DESCRIPTION:Al Bosc vertical\, les plantes ja no les tenim als peus sinó davant nostre. Aquest canvi de posició ens ofereix l’oportunitat d’experimentar amb altres punts de vista\, de jugar amb perspectives i maneres de veure diferents de la humana. Per això\, al taller assajarem noves maneres de relacionar-nos amb els altres éssers vius i descobrirem com es veu el món des d’uns altres ulls. I si aquests ulls fossin els d’un insecte? Com ens veuria ell a nosaltres? L’activitat es desenvoluparà davant del Bosc vertical\, un espai de 535 metres quadrats que alberga una dotzena d’arbres de grans dimensions i prop de 20.000 plantes de més de cent espècies diferents. Un espai únic\, on la natura i l’art es converteixen en elements inseparables. \nActivitat dissenyada per Paula Bruna\, ambientòloga i artista\, que utilitza la investigació artística com una forma de coneixement en què s’hibriden diverses disciplines. Sobre la conformació del relat de l’antropocè des d’un punt de vista no humà\, mitjançant una combinació de ciència\, ficció i art. La seva hipòtesi és que explorar punts de vista diferents té efectes en la consciència ecològica i obre la gamma de possibles formes de convivència. Comparteix la seva recerca en publicacions\, congressos\, tallers participatius\, residències i exposicions artístiques: Arts Santa Mònica\, SWAB Barcelona Art Fair i Kunstraum Lakeside\, En Residencia. Creadores als instituts de Barcelona i La Escocesa\, entre d’altres. \nActivitat recomanada a partir de 4 anys \nImportant: Els xiquets i les xiquetes han d’anar acompanyats sempre d’un adult\, que també ha de reservar una entrada per a l’activitat. \nMés informació i venda d’entrades: Web CaixaFòrum
URL:https://familiespelvalencia.org/activitat/optiques-del-bosc-experimentant-amb-formes-de-veure-no-humanes-taller/2026-09-26/
LOCATION:Caixa Forum\, Ciutat de les Arts i les Ciències\, C/ Eduardo Primo Yúfera\, 1A\, València\, 46013
CATEGORIES:València - districte capital
ATTACH;FMTTYPE=image/webp:https://familiespelvalencia.org/wp-content/uploads/2026/01/bosc.webp
GEO:39.4538716;-0.3498098
X-APPLE-STRUCTURED-LOCATION;VALUE=URI;X-ADDRESS=Caixa Forum Ciutat de les Arts i les Ciències C/ Eduardo Primo Yúfera 1A València 46013;X-APPLE-RADIUS=500;X-TITLE=Ciutat de les Arts i les Ciències\, C/ Eduardo Primo Yúfera\, 1A:geo:-0.3498098,39.4538716
END:VEVENT
BEGIN:VEVENT
DTSTART;TZID=Europe/Paris:20260927T173000
DTEND;TZID=Europe/Paris:20260927T190000
DTSTAMP:20260421T004121
CREATED:20260202T142009Z
LAST-MODIFIED:20260202T142009Z
UID:10000856-1790530200-1790535600@familiespelvalencia.org
SUMMARY:Visita taller familiar: Buscant l’Alícia
DESCRIPTION:En aquesta visita taller ens trucarà Lewis Carrol per telèfon\, beurem d’un beuratge\, ens farem grans i petits\, caminarem del revés o sobre el sostre\, celebrarem el nostre no aniversari i ens convertirem en un gat invisible. No us ho creieu? Tot això i moltes coses més passen al país de les meravelles\, on ens endinsarem seguint els passos de l’Alícia. Plegats descobrirem el relat i els personatges d’aquest clàssic de la literatura universal per endinsar-nos en un món de creativitat i imaginació i\, mitjançant diverses dinàmiques i materials diferents\, ens familiaritzarem amb diferents creacions contemporànies inspirades en aquesta història. \nDurada: 1 hora i 30 minuts // Activitat recomanada per a infants a partir de 5 anys. // Activitat conceptualitzada i dissenyada per la mediadora artística Teresa Rubio. \nEls xiquets i xiquetes han d’anar acompanyats sempre d’un adult\, que també ha de reservar una entrada per a l’activitat \nMés informació i venda d’entrades: Web CaixaFòrum
URL:https://familiespelvalencia.org/activitat/visita-taller-familiar-buscant-lalicia/2026-09-27/
LOCATION:Caixa Forum\, Ciutat de les Arts i les Ciències\, C/ Eduardo Primo Yúfera\, 1A\, València\, 46013
CATEGORIES:València - districte capital
ATTACH;FMTTYPE=image/webp:https://familiespelvalencia.org/wp-content/uploads/2026/02/Els-mons-dAlicia.-Somiar-el-pais-de-les-meravelles.webp
GEO:39.4538716;-0.3498098
X-APPLE-STRUCTURED-LOCATION;VALUE=URI;X-ADDRESS=Caixa Forum Ciutat de les Arts i les Ciències C/ Eduardo Primo Yúfera 1A València 46013;X-APPLE-RADIUS=500;X-TITLE=Ciutat de les Arts i les Ciències\, C/ Eduardo Primo Yúfera\, 1A:geo:-0.3498098,39.4538716
END:VEVENT
BEGIN:VEVENT
DTSTART;TZID=Europe/Paris:20261004T173000
DTEND;TZID=Europe/Paris:20261004T190000
DTSTAMP:20260421T004121
CREATED:20260202T142009Z
LAST-MODIFIED:20260202T142009Z
UID:10000857-1791135000-1791140400@familiespelvalencia.org
SUMMARY:Visita taller familiar: Buscant l’Alícia
DESCRIPTION:En aquesta visita taller ens trucarà Lewis Carrol per telèfon\, beurem d’un beuratge\, ens farem grans i petits\, caminarem del revés o sobre el sostre\, celebrarem el nostre no aniversari i ens convertirem en un gat invisible. No us ho creieu? Tot això i moltes coses més passen al país de les meravelles\, on ens endinsarem seguint els passos de l’Alícia. Plegats descobrirem el relat i els personatges d’aquest clàssic de la literatura universal per endinsar-nos en un món de creativitat i imaginació i\, mitjançant diverses dinàmiques i materials diferents\, ens familiaritzarem amb diferents creacions contemporànies inspirades en aquesta història. \nDurada: 1 hora i 30 minuts // Activitat recomanada per a infants a partir de 5 anys. // Activitat conceptualitzada i dissenyada per la mediadora artística Teresa Rubio. \nEls xiquets i xiquetes han d’anar acompanyats sempre d’un adult\, que també ha de reservar una entrada per a l’activitat \nMés informació i venda d’entrades: Web CaixaFòrum
URL:https://familiespelvalencia.org/activitat/visita-taller-familiar-buscant-lalicia/2026-10-04/
LOCATION:Caixa Forum\, Ciutat de les Arts i les Ciències\, C/ Eduardo Primo Yúfera\, 1A\, València\, 46013
CATEGORIES:València - districte capital
ATTACH;FMTTYPE=image/webp:https://familiespelvalencia.org/wp-content/uploads/2026/02/Els-mons-dAlicia.-Somiar-el-pais-de-les-meravelles.webp
GEO:39.4538716;-0.3498098
X-APPLE-STRUCTURED-LOCATION;VALUE=URI;X-ADDRESS=Caixa Forum Ciutat de les Arts i les Ciències C/ Eduardo Primo Yúfera 1A València 46013;X-APPLE-RADIUS=500;X-TITLE=Ciutat de les Arts i les Ciències\, C/ Eduardo Primo Yúfera\, 1A:geo:-0.3498098,39.4538716
END:VEVENT
BEGIN:VEVENT
DTSTART;TZID=Europe/Paris:20261009T113000
DTEND;TZID=Europe/Paris:20261009T130000
DTSTAMP:20260421T004121
CREATED:20260202T142009Z
LAST-MODIFIED:20260202T142009Z
UID:10000858-1791545400-1791550800@familiespelvalencia.org
SUMMARY:Visita taller familiar: Buscant l’Alícia
DESCRIPTION:En aquesta visita taller ens trucarà Lewis Carrol per telèfon\, beurem d’un beuratge\, ens farem grans i petits\, caminarem del revés o sobre el sostre\, celebrarem el nostre no aniversari i ens convertirem en un gat invisible. No us ho creieu? Tot això i moltes coses més passen al país de les meravelles\, on ens endinsarem seguint els passos de l’Alícia. Plegats descobrirem el relat i els personatges d’aquest clàssic de la literatura universal per endinsar-nos en un món de creativitat i imaginació i\, mitjançant diverses dinàmiques i materials diferents\, ens familiaritzarem amb diferents creacions contemporànies inspirades en aquesta història. \nDurada: 1 hora i 30 minuts // Activitat recomanada per a infants a partir de 5 anys. // Activitat conceptualitzada i dissenyada per la mediadora artística Teresa Rubio. \nEls xiquets i xiquetes han d’anar acompanyats sempre d’un adult\, que també ha de reservar una entrada per a l’activitat \nMés informació i venda d’entrades: Web CaixaFòrum
URL:https://familiespelvalencia.org/activitat/visita-taller-familiar-buscant-lalicia/2026-10-09/
LOCATION:Caixa Forum\, Ciutat de les Arts i les Ciències\, C/ Eduardo Primo Yúfera\, 1A\, València\, 46013
CATEGORIES:València - districte capital
ATTACH;FMTTYPE=image/webp:https://familiespelvalencia.org/wp-content/uploads/2026/02/Els-mons-dAlicia.-Somiar-el-pais-de-les-meravelles.webp
GEO:39.4538716;-0.3498098
X-APPLE-STRUCTURED-LOCATION;VALUE=URI;X-ADDRESS=Caixa Forum Ciutat de les Arts i les Ciències C/ Eduardo Primo Yúfera 1A València 46013;X-APPLE-RADIUS=500;X-TITLE=Ciutat de les Arts i les Ciències\, C/ Eduardo Primo Yúfera\, 1A:geo:-0.3498098,39.4538716
END:VEVENT
BEGIN:VEVENT
DTSTART;TZID=Europe/Paris:20261010T170000
DTEND;TZID=Europe/Paris:20261010T180000
DTSTAMP:20260421T004121
CREATED:20260129T214353Z
LAST-MODIFIED:20260129T214353Z
UID:10000809-1791651600-1791655200@familiespelvalencia.org
SUMMARY:Òptiques del bosc experimentant amb formes de veure no humanes. Taller
DESCRIPTION:Al Bosc vertical\, les plantes ja no les tenim als peus sinó davant nostre. Aquest canvi de posició ens ofereix l’oportunitat d’experimentar amb altres punts de vista\, de jugar amb perspectives i maneres de veure diferents de la humana. Per això\, al taller assajarem noves maneres de relacionar-nos amb els altres éssers vius i descobrirem com es veu el món des d’uns altres ulls. I si aquests ulls fossin els d’un insecte? Com ens veuria ell a nosaltres? L’activitat es desenvoluparà davant del Bosc vertical\, un espai de 535 metres quadrats que alberga una dotzena d’arbres de grans dimensions i prop de 20.000 plantes de més de cent espècies diferents. Un espai únic\, on la natura i l’art es converteixen en elements inseparables. \nActivitat dissenyada per Paula Bruna\, ambientòloga i artista\, que utilitza la investigació artística com una forma de coneixement en què s’hibriden diverses disciplines. Sobre la conformació del relat de l’antropocè des d’un punt de vista no humà\, mitjançant una combinació de ciència\, ficció i art. La seva hipòtesi és que explorar punts de vista diferents té efectes en la consciència ecològica i obre la gamma de possibles formes de convivència. Comparteix la seva recerca en publicacions\, congressos\, tallers participatius\, residències i exposicions artístiques: Arts Santa Mònica\, SWAB Barcelona Art Fair i Kunstraum Lakeside\, En Residencia. Creadores als instituts de Barcelona i La Escocesa\, entre d’altres. \nActivitat recomanada a partir de 4 anys \nImportant: Els xiquets i les xiquetes han d’anar acompanyats sempre d’un adult\, que també ha de reservar una entrada per a l’activitat. \nMés informació i venda d’entrades: Web CaixaFòrum
URL:https://familiespelvalencia.org/activitat/optiques-del-bosc-experimentant-amb-formes-de-veure-no-humanes-taller/2026-10-10/
LOCATION:Caixa Forum\, Ciutat de les Arts i les Ciències\, C/ Eduardo Primo Yúfera\, 1A\, València\, 46013
CATEGORIES:València - districte capital
ATTACH;FMTTYPE=image/webp:https://familiespelvalencia.org/wp-content/uploads/2026/01/bosc.webp
GEO:39.4538716;-0.3498098
X-APPLE-STRUCTURED-LOCATION;VALUE=URI;X-ADDRESS=Caixa Forum Ciutat de les Arts i les Ciències C/ Eduardo Primo Yúfera 1A València 46013;X-APPLE-RADIUS=500;X-TITLE=Ciutat de les Arts i les Ciències\, C/ Eduardo Primo Yúfera\, 1A:geo:-0.3498098,39.4538716
END:VEVENT
BEGIN:VEVENT
DTSTART;TZID=Europe/Paris:20261012T113000
DTEND;TZID=Europe/Paris:20261012T130000
DTSTAMP:20260421T004121
CREATED:20260202T142009Z
LAST-MODIFIED:20260202T142009Z
UID:10000859-1791804600-1791810000@familiespelvalencia.org
SUMMARY:Visita taller familiar: Buscant l’Alícia
DESCRIPTION:En aquesta visita taller ens trucarà Lewis Carrol per telèfon\, beurem d’un beuratge\, ens farem grans i petits\, caminarem del revés o sobre el sostre\, celebrarem el nostre no aniversari i ens convertirem en un gat invisible. No us ho creieu? Tot això i moltes coses més passen al país de les meravelles\, on ens endinsarem seguint els passos de l’Alícia. Plegats descobrirem el relat i els personatges d’aquest clàssic de la literatura universal per endinsar-nos en un món de creativitat i imaginació i\, mitjançant diverses dinàmiques i materials diferents\, ens familiaritzarem amb diferents creacions contemporànies inspirades en aquesta història. \nDurada: 1 hora i 30 minuts // Activitat recomanada per a infants a partir de 5 anys. // Activitat conceptualitzada i dissenyada per la mediadora artística Teresa Rubio. \nEls xiquets i xiquetes han d’anar acompanyats sempre d’un adult\, que també ha de reservar una entrada per a l’activitat \nMés informació i venda d’entrades: Web CaixaFòrum
URL:https://familiespelvalencia.org/activitat/visita-taller-familiar-buscant-lalicia/2026-10-12/
LOCATION:Caixa Forum\, Ciutat de les Arts i les Ciències\, C/ Eduardo Primo Yúfera\, 1A\, València\, 46013
CATEGORIES:València - districte capital
ATTACH;FMTTYPE=image/webp:https://familiespelvalencia.org/wp-content/uploads/2026/02/Els-mons-dAlicia.-Somiar-el-pais-de-les-meravelles.webp
GEO:39.4538716;-0.3498098
X-APPLE-STRUCTURED-LOCATION;VALUE=URI;X-ADDRESS=Caixa Forum Ciutat de les Arts i les Ciències C/ Eduardo Primo Yúfera 1A València 46013;X-APPLE-RADIUS=500;X-TITLE=Ciutat de les Arts i les Ciències\, C/ Eduardo Primo Yúfera\, 1A:geo:-0.3498098,39.4538716
END:VEVENT
BEGIN:VEVENT
DTSTART;TZID=Europe/Paris:20261024T080000
DTEND;TZID=Europe/Paris:20261024T170000
DTSTAMP:20260421T004121
CREATED:20260129T214353Z
LAST-MODIFIED:20260129T214353Z
UID:10000810-1792828800-1792861200@familiespelvalencia.org
SUMMARY:Òptiques del bosc experimentant amb formes de veure no humanes. Taller
DESCRIPTION:Al Bosc vertical\, les plantes ja no les tenim als peus sinó davant nostre. Aquest canvi de posició ens ofereix l’oportunitat d’experimentar amb altres punts de vista\, de jugar amb perspectives i maneres de veure diferents de la humana. Per això\, al taller assajarem noves maneres de relacionar-nos amb els altres éssers vius i descobrirem com es veu el món des d’uns altres ulls. I si aquests ulls fossin els d’un insecte? Com ens veuria ell a nosaltres? L’activitat es desenvoluparà davant del Bosc vertical\, un espai de 535 metres quadrats que alberga una dotzena d’arbres de grans dimensions i prop de 20.000 plantes de més de cent espècies diferents. Un espai únic\, on la natura i l’art es converteixen en elements inseparables. \nActivitat dissenyada per Paula Bruna\, ambientòloga i artista\, que utilitza la investigació artística com una forma de coneixement en què s’hibriden diverses disciplines. Sobre la conformació del relat de l’antropocè des d’un punt de vista no humà\, mitjançant una combinació de ciència\, ficció i art. La seva hipòtesi és que explorar punts de vista diferents té efectes en la consciència ecològica i obre la gamma de possibles formes de convivència. Comparteix la seva recerca en publicacions\, congressos\, tallers participatius\, residències i exposicions artístiques: Arts Santa Mònica\, SWAB Barcelona Art Fair i Kunstraum Lakeside\, En Residencia. Creadores als instituts de Barcelona i La Escocesa\, entre d’altres. \nActivitat recomanada a partir de 4 anys \nImportant: Els xiquets i les xiquetes han d’anar acompanyats sempre d’un adult\, que també ha de reservar una entrada per a l’activitat. \nMés informació i venda d’entrades: Web CaixaFòrum
URL:https://familiespelvalencia.org/activitat/optiques-del-bosc-experimentant-amb-formes-de-veure-no-humanes-taller/2026-10-24/
LOCATION:Caixa Forum\, Ciutat de les Arts i les Ciències\, C/ Eduardo Primo Yúfera\, 1A\, València\, 46013
CATEGORIES:València - districte capital
ATTACH;FMTTYPE=image/webp:https://familiespelvalencia.org/wp-content/uploads/2026/01/bosc.webp
GEO:39.4538716;-0.3498098
X-APPLE-STRUCTURED-LOCATION;VALUE=URI;X-ADDRESS=Caixa Forum Ciutat de les Arts i les Ciències C/ Eduardo Primo Yúfera 1A València 46013;X-APPLE-RADIUS=500;X-TITLE=Ciutat de les Arts i les Ciències\, C/ Eduardo Primo Yúfera\, 1A:geo:-0.3498098,39.4538716
END:VEVENT
END:VCALENDAR