BEGIN:VCALENDAR
VERSION:2.0
PRODID:-//FAMÍLIES PEL VALENCIÀ - ECPv6.15.20//NONSGML v1.0//EN
CALSCALE:GREGORIAN
METHOD:PUBLISH
X-WR-CALNAME:FAMÍLIES PEL VALENCIÀ
X-ORIGINAL-URL:https://familiespelvalencia.org
X-WR-CALDESC:Esdeveniments per FAMÍLIES PEL VALENCIÀ
REFRESH-INTERVAL;VALUE=DURATION:PT1H
X-Robots-Tag:noindex
X-PUBLISHED-TTL:PT1H
BEGIN:VTIMEZONE
TZID:Europe/Paris
BEGIN:DAYLIGHT
TZOFFSETFROM:+0100
TZOFFSETTO:+0200
TZNAME:CEST
DTSTART:20240331T010000
END:DAYLIGHT
BEGIN:STANDARD
TZOFFSETFROM:+0200
TZOFFSETTO:+0100
TZNAME:CET
DTSTART:20241027T010000
END:STANDARD
BEGIN:DAYLIGHT
TZOFFSETFROM:+0100
TZOFFSETTO:+0200
TZNAME:CEST
DTSTART:20250330T010000
END:DAYLIGHT
BEGIN:STANDARD
TZOFFSETFROM:+0200
TZOFFSETTO:+0100
TZNAME:CET
DTSTART:20251026T010000
END:STANDARD
BEGIN:DAYLIGHT
TZOFFSETFROM:+0100
TZOFFSETTO:+0200
TZNAME:CEST
DTSTART:20260329T010000
END:DAYLIGHT
BEGIN:STANDARD
TZOFFSETFROM:+0200
TZOFFSETTO:+0100
TZNAME:CET
DTSTART:20261025T010000
END:STANDARD
END:VTIMEZONE
BEGIN:VEVENT
DTSTART;TZID=Europe/Paris:20251230T180000
DTEND;TZID=Europe/Paris:20251230T190000
DTSTAMP:20260424T044835
CREATED:20251201T220657Z
LAST-MODIFIED:20251201T220657Z
UID:10000527-1767117600-1767121200@familiespelvalencia.org
SUMMARY:Taller de lectura: l'eco d'Aixe
DESCRIPTION:A càrrec de Dolo Fabregat. \nPúblic: infantil \nÉs més que un conte. És una invitació a reflexionar sobre el poder de la gratitud\, les conseqüències dels nostres actes i la importància de l’empatia. Un relat pensat per gaudir-lo tant a casa com a l’aula\, i que naix amb la voluntat de fer-nos mirar dins i cap als altres.
URL:https://familiespelvalencia.org/activitat/taller-de-lectura-leco-daixe/
LOCATION:Biblioteca Pública Municipal de Vilafranca – Biblioteca Matilde Escuder\, Avenida Castellón\, 63\, Vilafranca\, Els Ports
CATEGORIES:Comarques del nord
GEO:40.429562;-0.2547209
X-APPLE-STRUCTURED-LOCATION;VALUE=URI;X-ADDRESS=Biblioteca Pública Municipal de Vilafranca – Biblioteca Matilde Escuder Avenida Castellón 63 Vilafranca Els Ports;X-APPLE-RADIUS=500;X-TITLE=Avenida Castellón\, 63:geo:-0.2547209,40.429562
END:VEVENT
END:VCALENDAR