BEGIN:VCALENDAR
VERSION:2.0
PRODID:-//FAMÍLIES PEL VALENCIÀ - ECPv6.15.20//NONSGML v1.0//EN
CALSCALE:GREGORIAN
METHOD:PUBLISH
X-WR-CALNAME:FAMÍLIES PEL VALENCIÀ
X-ORIGINAL-URL:https://familiespelvalencia.org
X-WR-CALDESC:Esdeveniments per FAMÍLIES PEL VALENCIÀ
REFRESH-INTERVAL;VALUE=DURATION:PT1H
X-Robots-Tag:noindex
X-PUBLISHED-TTL:PT1H
BEGIN:VTIMEZONE
TZID:Europe/Paris
BEGIN:DAYLIGHT
TZOFFSETFROM:+0100
TZOFFSETTO:+0200
TZNAME:CEST
DTSTART:20250330T010000
END:DAYLIGHT
BEGIN:STANDARD
TZOFFSETFROM:+0200
TZOFFSETTO:+0100
TZNAME:CET
DTSTART:20251026T010000
END:STANDARD
BEGIN:DAYLIGHT
TZOFFSETFROM:+0100
TZOFFSETTO:+0200
TZNAME:CEST
DTSTART:20260329T010000
END:DAYLIGHT
BEGIN:STANDARD
TZOFFSETFROM:+0200
TZOFFSETTO:+0100
TZNAME:CET
DTSTART:20261025T010000
END:STANDARD
BEGIN:DAYLIGHT
TZOFFSETFROM:+0100
TZOFFSETTO:+0200
TZNAME:CEST
DTSTART:20270328T010000
END:DAYLIGHT
BEGIN:STANDARD
TZOFFSETFROM:+0200
TZOFFSETTO:+0100
TZNAME:CET
DTSTART:20271031T010000
END:STANDARD
END:VTIMEZONE
BEGIN:VEVENT
DTSTART;TZID=Europe/Paris:20260516T110000
DTEND;TZID=Europe/Paris:20260516T183000
DTSTAMP:20260424T042036
CREATED:20260423T130733Z
LAST-MODIFIED:20260423T130836Z
UID:10001248-1778929200-1778956200@familiespelvalencia.org
SUMMARY:Aplequet dels Ports
DESCRIPTION:El 16 de maig\, Villores acull una nova edició de l’Aplequet dels Ports\, una jornada pensada per a celebrar la cultura\, la germanor i la vida comarcal en un ambient festiu i familiar. Al llarg del dia hi haurà propostes per a totes les edats: tallers infantils\, un assaig participatiu de la Muixeranga dels Ports\, dinar popular amb activitats per als més menuts i música en directe amb Trobadorets. Una cita per retrobar-nos\, fer comarca i gaudir plegats d’un dia ple de convivència i tradició. Enguany\, a més\, el cartell és obra d’una alumna del CRA Els Ports – Aulari de La Mata\, un detall que reforça l’esperit col·lectiu i educatiu de l’Aplequet.
URL:https://familiespelvalencia.org/activitat/aplequet-dels-ports/
LOCATION:Villores\, Villores\, Els Ports\, 12311
CATEGORIES:Comarques del nord
ATTACH;FMTTYPE=image/png:https://familiespelvalencia.org/wp-content/uploads/2026/04/Aplequet-dels-Ports.png
END:VEVENT
END:VCALENDAR